Workbook

Sheet Date
A1: Class no | B1: Date | C1: Day
A2: 1 | B2: ='Training plan'!B10 -> 45600 | C2: =TEXT(B2,"dddd") -> Monday
B3: =C2 -> Monday
A4: 2 | B4: ='Training plan'!B11 -> 45601 | C4: =TEXT(B4,"dddd") -> Tuesday
B5: =C4 -> Tuesday
A6: 3 | B6: ='Training plan'!B12 -> 45602 | C6: =TEXT(B6,"dddd") -> Wednesday
B7: =C6 -> Wednesday
A8: 4 | B8: ='Training plan'!B13 -> 45603 | C8: =TEXT(B8,"dddd") -> Thursday
B9: =C8 -> Thursday
A10: 5 | B10: ='Training plan'!B14 -> 45605 | C10: =TEXT(B10,"dddd") -> Saturday
B11: =C10 -> Saturday
A12: 6 | B12: ='Training plan'!B15 -> 45606 | C12: =TEXT(B12,"dddd") -> Sunday
B13: =C12 -> Sunday
A14: 7 | B14: ='Training plan'!B16 -> 45607 | C14: =TEXT(B14,"dddd") -> Monday
B15: =C14 -> Monday
A16: 8 | B16: ='Training plan'!B17 -> 45608 | C16: =TEXT(B16,"dddd") -> Tuesday
B17: =C16 -> Tuesday
A18: 9 | B18: ='Training plan'!B18 -> 45609 | C18: =TEXT(B18,"dddd") -> Wednesday
B19: =C18 -> Wednesday
A20: 10 | B20: ='Training plan'!B19 -> 45610 | C20: =TEXT(B20,"dddd") -> Thursday
B21: =C20 -> Thursday
A22: 11 | B22: ='Training plan'!B20 -> 45612 | C22: =TEXT(B22,"dddd") -> Saturday
B23: =C22 -> Saturday
A24: 12 | B24: ='Training plan'!B21 -> 45613 | C24: =TEXT(B24,"dddd") -> Sunday
B25: =C24 -> Sunday
A26: 13 | B26: ='Training plan'!B22 -> 45614 | C26: =TEXT(B26,"dddd") -> Monday
B27: =C26 -> Monday
A28: 14 | B28: ='Training plan'!B23 -> 45615 | C28: =TEXT(B28,"dddd") -> Tuesday
B29: =C28 -> Tuesday
A30: 15 | B30: ='Training plan'!B24 -> 45616 | C30: =TEXT(B30,"dddd") -> Wednesday
B31: =C30 -> Wednesday
A32: 16 | B32: ='Training plan'!B25 -> 45617 | C32: =TEXT(B32,"dddd") -> Thursday
B33: =C32 -> Thursday
A34: 17 | B34: ='Training plan'!B26 -> 45619 | C34: =TEXT(B34,"dddd") -> Saturday
B35: =C34 -> Saturday
A36: 18 | B36: ='Training plan'!B27 -> 45620 | C36: =TEXT(B36,"dddd") -> Sunday
B37: =C36 -> Sunday
A38: 19 | B38: ='Training plan'!B28 -> 45621 | C38: =TEXT(B38,"dddd") -> Monday
B39: =C38 -> Monday
A40: 20 | B40: ='Training plan'!B29 -> 45622 | C40: =TEXT(B40,"dddd") -> Tuesday
B41: =C40 -> Tuesday
A42: 21 | B42: ='Training plan'!B30 -> 45623 | C42: =TEXT(B42,"dddd") -> Wednesday
B43: =C42 -> Wednesday
A44: 22 | B44: ='Training plan'!B31 -> 45624 | C44: =TEXT(B44,"dddd") -> Thursday
B45: =C44 -> Thursday
A46: 23 | B46: ='Training plan'!B32 -> 45626 | C46: =TEXT(B46,"dddd") -> Saturday
B47: =C46 -> Saturday
A48: 24 | B48: ='Training plan'!B33 -> 45627 | C48: =TEXT(B48,"dddd") -> Sunday
B49: =C48 -> Sunday
A50: 25 | B50: ='Training plan'!B34 -> 45628 | C50: =TEXT(B50,"dddd") -> Monday
B51: =C50 -> Monday
A52: 26 | B52: ='Training plan'!B35 -> 45629 | C52: =TEXT(B52,"dddd") -> Tuesday
B53: =C52 -> Tuesday
A54: 27 | B54: ='Training plan'!B36 -> 45630 | C54: =TEXT(B54,"dddd") -> Wednesday
B55: =C54 -> Wednesday
A56: 28 | B56: ='Training plan'!B37 -> 45631 | C56: =TEXT(B56,"dddd") -> Thursday
B57: =C56 -> Thursday
A58: 29 | B58: ='Training plan'!B38 -> 45633 | C58: =TEXT(B58,"dddd") -> Saturday
B59: =C58 -> Saturday
A60: 30 | B60: ='Training plan'!B39 -> 45634 | C60: =TEXT(B60,"dddd") -> Sunday
B61: =C60 -> Sunday
A62: 31 | B62: ='Training plan'!B40 -> 45635 | C62: =TEXT(B62,"dddd") -> Monday
B63: =C62 -> Monday
A64: 32 | B64: ='Training plan'!B41 -> 45636 | C64: =TEXT(B64,"dddd") -> Tuesday
B65: =C64 -> Tuesday
A66: 33 | B66: ='Training plan'!B42 -> 45637 | C66: =TEXT(B66,"dddd") -> Wednesday
B67: =C66 -> Wednesday
A68: 34 | B68: ='Training plan'!B43 -> 45638 | C68: =TEXT(B68,"dddd") -> Thursday
B69: =C68 -> Thursday
A70: 35 | B70: ='Training plan'!B44 -> 45641 | C70: =TEXT(B70,"dddd") -> Sunday
B71: =C70 -> Sunday
A72: 36 | B72: ='Training plan'!B45 -> 45643 | C72: =TEXT(B72,"dddd") -> Tuesday
B73: =C72 -> Tuesday
A74: 37 | B74: ='Training plan'!B46 -> 45644 | C74: =TEXT(B74,"dddd") -> Wednesday
B75: =C74 -> Wednesday
A76: 38 | B76: ='Training plan'!B47 -> 45645 | C76: =TEXT(B76,"dddd") -> Thursday
B77: =C76 -> Thursday
A78: 39 | B78: ='Training plan'!B48 -> 45648 | C78: =TEXT(B78,"dddd") -> Sunday
B79: =C78 -> Sunday
A80: 40 | B80: ='Training plan'!B49 -> 45649 | C80: =TEXT(B80,"dddd") -> Monday
B81: =C80 -> Monday
A82: 41 | B82: ='Training plan'!B50 -> 45650 | C82: =TEXT(B82,"dddd") -> Tuesday
B83: =C82 -> Tuesday
A84: 42 | B84: ='Training plan'!B51 -> 45655 | C84: =TEXT(B84,"dddd") -> Sunday
B85: =C84 -> Sunday
A86: 43 | B86: ='Training plan'!B52 -> 45656 | C86: =TEXT(B86,"dddd") -> Monday
B87: =C86 -> Monday
A88: 44 | B88: ='Training plan'!B53 -> 45657 | C88: =TEXT(B88,"dddd") -> Tuesday
B89: =C88 -> Tuesday
A90: 45 | B90: ='Training plan'!E10 -> 45658 | C90: =TEXT(B90,"dddd") -> Wednesday
B91: =C90 -> Wednesday
A92: 46 | B92: ='Training plan'!E11 -> 45659 | C92: =TEXT(B92,"dddd") -> Thursday
B93: =C92 -> Thursday
A94: 47 | B94: ='Training plan'!E12 -> 45662 | C94: =TEXT(B94,"dddd") -> Sunday
B95: =C94 -> Sunday
A96: 48 | B96: ='Training plan'!E13 -> 45663 | C96: =TEXT(B96,"dddd") -> Monday
B97: =C96 -> Monday
A98: 49 | B98: ='Training plan'!E14 -> 45664 | C98: =TEXT(B98,"dddd") -> Tuesday
B99: =C98 -> Tuesday
A100: 50 | B100: ='Training plan'!E15 -> 45665 | C100: =TEXT(B100,"dddd") -> Wednesday
...

Sheet Menu

Sheet All Form Data
C1: Informations regarding Trainee Admission (cÖwk¶Yv_©xi fwZ© msµvšÍ Z_¨mg~n)
C2: †mkbt b‡f¤^i 2024 - †deªæqvix 2025
C3: cÖwk¶Y cÖ`vbKvix cÖwZôvb t BD‡mc AvgevMvb wUwfBwU Bbw÷wUDU|
C4: †UªW t B‡jKwUªK¨vj BÝU‡jkb GÛ †gBb‡Ub¨vÝ
C5: Accelerating and Strengthening Skills for Economic Transformation (ASSET) cÖKí
A6: Search Roll No | C6: Admission | E6: Pre Enrollment | F6: =COUNTA(E12:E44) -> 29 | G6: Selected Trainees | I6: Male | J6: =COUNTIF(P12:P32,I6) -> 21 | K6: Ethnicity & PWD | L6: Ethnicity group | N6: Male | O6: =COUNTIFS(AC12:AC32,"Yes",P12:P32,N6) -> 1 | P6: Result Summary | R6: Competent | T6: Not Yet Competent | V6: Ethnicity | W6: Competent | Y6: Not Yet Competent | AA6: PWD | AB6: Competent | AE6: Not Yet Competent | AH6: Without Ethnicity & PWD | AI6: Competent | AK6: Not Yet Competent | AM6: With Ethn. & PWD | AN6: Competent | AP6: Not Yet Competent
E7: Selected | F7: =COUNTIF(AN12:AN44,E7) -> 0 | I7: Female | J7: =COUNTIF(P12:P32,I7) -> 0 | L7: Ethnicity group | N7: Female | O7: =COUNTIFS(AC12:AC32,"Yes",P12:P32,N7) -> 0 | R7: Male | S7: =COUNTIFS(AQ12:AQ32,"C",P12:P32,R7) -> 0 | T7: Male | U7: =COUNTIFS(AQ12:AQ32,"NYC",P12:P32,T7) -> 0 | W7: Male | X7: =COUNTIFS(AQ12:AQ32,"C",P12:P32,W7,AC12:AC32,"Yes") -> 0 | Y7: Male | Z7: =COUNTIFS(AQ12:AQ32,"NYC",P12:P32,Y7,AC12:AC32,"Yes") -> 0 | AB7: Male | AD7: =COUNTIFS(AQ12:AQ32,"C",P12:P32,AB7,AE12:AE32,"Yes") -> 0 | AE7: Male | AG7: =COUNTIFS(AQ12:AQ32,"NYC",P12:P32,AE7,AE12:AE32,"Yes") -> 0 | AI7: Male | AJ7: =COUNTIFS(AQ12:AQ32,"C",AC12:AC32,"No",AE12:AE32,"No",P12:P32,AI7) -> 0 | AK7: Male | AL7: =COUNTIFS(AQ12:AQ32,"NYC",AC12:AC32,"No",AE12:AE32,"No",P12:P32,AK7) -> 0 | AN7: Male | AO7: =COUNTIFS(AQ12:AQ32,"C",AC12:AC32,"Yes",AE12:AE32,"Yes",P12:P32,AN7) -> 0 | AP7: Male | AR7: =COUNTIFS(AQ12:AQ32,"NYC",AC12:AC32,"Yes",AE12:AE32,"Yes",P12:P32,AP7) -> 0
E8: Waiting | F8: =F6-F7 -> 29 | I8: Ethnicity Group | J8: =COUNTIF(AC12:AC32,"Yes") -> 1 | L8: PWD | N8: Male | O8: =COUNTIFS(AE12:AE33,"Yes",P12:P33,N8) -> 3 | R8: Female | S8: =COUNTIFS(AQ12:AQ32,"C",P12:P32,R8) -> 0 | T8: Female | U8: =COUNTIFS(AQ12:AQ32,"NYC",P12:P32,T8) -> 0 | W8: Female | X8: =COUNTIFS(AQ12:AQ32,"C",P12:P32,W8,AC12:AC32,"Yes") -> 0 | Y8: Female | Z8: =COUNTIFS(AQ12:AQ32,"NYC",P12:P32,Y8,AC12:AC32,"Yes") -> 0 | AB8: Female | AD8: =COUNTIFS(AQ12:AQ32,"C",P12:P32,AB8,AE12:AE32,"Yes") -> 0 | AE8: Female | AG8: =COUNTIFS(AQ12:AQ32,"NYC",P12:P32,AE8,AE12:AE32,"Yes") -> 0 | AI8: Female | AJ8: =COUNTIFS(AQ12:AQ32,"C",AC12:AC32,"No",AE12:AE32,"No",P12:P32,AI8) -> 0 | AK8: Female | AL8: =COUNTIFS(AQ12:AQ32,"NYC",AC12:AC32,"No",AE12:AE32,"No",P12:P32,AK8) -> 0 | AN8: Female | AO8: =COUNTIFS(AQ12:AQ32,"C",AC12:AC32,"Yes",AE12:AE32,"Yes",P12:P32,AN8) -> 0 | AP8: Female | AR8: =COUNTIFS(AQ12:AQ32,"NYC",AC12:AC32,"Yes",AE12:AE32,"Yes",P12:P32,AP8) -> 0
E9: Seats Left | F9: =(24-F7) -> 24 | I9: PWD | J9: =COUNTIF(AE12:AE32,"Yes") -> 3 | L9: PWD | N9: Female | O9: =COUNTIFS(AE12:AE32,"Yes",P12:P32,N9) -> 0 | R9: Total | S9: =S7+S8 -> 0 | T9: Total | U9: =U7+U8 -> 0 | W9: Total | X9: =X7+X8 -> 0 | Y9: Total | Z9: =Z7+Z8 -> 0 | AB9: Total | AD9: =AD7+AD8 -> 0 | AE9: Total | AG9: =AG7+AG8 -> 0 | AI9: Total | AJ9: =AJ7+AJ8 -> 0 | AK9: Total | AL9: =AL7+AL8 -> 0 | AN9: Total | AO9: =AO7+AO8 -> 0 | AP9: Total | AR9: =AR7+AR8 -> 0
A11: Sl no. | B11: dg© bs | C11: ASSET ID | D11: UPMIS ID | E11: Name of Trainee (In English) | F11: cÖwk¶Yv_©xi bvg (evsjvq) | G11: Date Of Birth | H11: Father's Name (In English) | I11: wcZvi bvg (evsjvq) | J11: Mother's Name (In English) | K11: gvZvi bvg (evsjvq) | L11: ID Type | M11: NID / BCN Number | N11: Mobile Number | O11: Mail ID | P11: Gender | Q11: wj½ | R11: Permanent Address | S11: Persent Address | T11: ¯’vqx wVKvbv | U11: eZ©gvb wVKvbv | V11: Own District | W11: wbR †Rjv | X11: Last Education | Y11: wk¶vMZ †hvM¨Zv | Z11: Passing year | AA11: cv‡ki mb | AB11: Blood Group | AC11: Ethnicity group | AD11: DcRvwZ | AE11: PWD (YES/NO) | AF11: wc.WweøD.wW | AG11: Specify (If Any) | AH11: Father's Ocupation | AI11: Father's Mobile No | AJ11: Mother's Ocupation | AK11: Mother's Mobile No | AL11: Family Income | AM11: Siblings | AN11: Comment | AO11: Bank Account Number | AP11: Photo | AQ11: Result | AR11: Remarks
A12: 1 | C12: 250111846 | D12: 2512401578 | E12: Mohammad Badsha | F12: মোহাম্মদ বাদশা | G12: 10.10.200 | H12: Md.Hasan | I12: মোঃ হাসান | J12: Khurshida Begum | K12: খুরশেদা বেগম | L12: NID | M12: 3317890733 | N12: 01305978432 | O12: mohammadBadsha1093@gmail.com | P12: Male | R12: Kochuai.Potiya.Chattogram | S12: Slimpur.CDA R/A.Chattogram | T12: কোচুয়াই.পোটিয়া.চট্টগ্রাম | U12: সিলিমপুর.সিডিএ আবাসিক এলাকা,চট্টগ্রাম | V12: Chattogram | W12: চট্টগ্রাম | X12: SSC | Y12: এস,এস,সি | Z12: 2021 | AA12: 2021 | AB12: O+ | AC12: No | AD12: না | AE12: No | AF12: না | AH12: Service Holder | AI12: 01835955715 | AJ12: House Wife | AK12: N/A | AL12: 15000
A13: 2 | C13: 250111853 | D13: 2512401580 | E13: Jahidul Islam | F13: জাহিদুল ইসলাম | G13: 24,08.2006 | H13: Mohammad Rafique | I13: মোঃ রফিক | J13: Sajia Begum | K13: সাজিয়া বেগম | L13: NID | M13: 1982221135 | N13: 01888239320 | O13: jahidul323651@gmail.com | P13: Male | R13: Chalk Farid.Charlaxma,Karnofuly,Chattogram, | S13: Do. | T13: চক ফরিদ, চারলক্ষ্ম, কর্ণফুলী, চট্টগ্রাম, | U13: চক ফরিদ, চারলক্ষ্ম, কর্ণফুলী, চট্টগ্রাম, | V13: Chattogram. | W13: চট্টগ্রাম | X13: SSC | Y13: এস,এস,সি | Z13: 2021 | AA13: 2021 | AC13: No | AD13: না | AE13: No | AF13: না | AH13: Business | AI13: 01815650722 | AJ13: House Wife | AK13: 018404444644 | AL13: 30000
A14: 3 | C14: 250111857 | D14: 2512401581 | E14: Supan Saha | F14: সুপন সাহা | G14: 12,02,2007 | H14: Sumon Saha | I14: সুমন সাহা | J14: Shilpi Saha | K14: শিল্পী সাহা | L14: NID | M14: 2882077627 | N14: 01843256390 | O14: suponsaha175@gmail.com | P14: Male | R14: Saha Bari, Moddle Mahmudabad,barobkunda.Sitakunda.Chattogram. | S14: Do. | T14: সাহা বাড়ী, মধ্য মাহমুদাবাদ, বারোবকুন্ড.সীতাকুন্ড.চট্টগ্রাম. | U14: সাহা বাড়ী, মধ্য মাহমুদাবাদ, বারোবকুন্ড.সীতাকুন্ড.চট্টগ্রাম. | V14: Chattogram. | W14: চট্টগ্রাম | X14: SSC | Y14: এস,এস,সি | Z14: 2023 | AA14: 2023 | AC14: No | AD14: না | AE14: No | AF14: না | AH14: Service Holder | AI14: 01814873757 | AJ14: House Wife | AK14: N/A | AL14: 25000
A15: 4 | C15: 250111861 | D15: 2512401582 | E15: Md.Jahidul Islam Emon | F15: জাহিদুল ইসলাম ইমন | G15: 02,02,2004 | H15: Juhirul Islam | I15: জহিরুল ইসলাম | J15: Hosne Ara Begum | K15: হোসনে আরা বেগম | L15: NID | M15: 9172738362 | N15: 01814393561 | O15: jahidul islamemom@gmail.com | P15: Male | R15: House Of Ismail Sarker,Kodom Rasul.Kodomtali.Chattogram, | S15: Do. | T15: ইসমাইল সরকারের বাড়ি,কোদম রসুল.কোদমতলী.চট্টগ্রাম, | U15: ইসমাইল সরকারের বাড়ি,কোদম রসুল.কোদমতলী.চট্টগ্রাম, | V15: Chattogram. | W15: চট্টগ্রাম | X15: JSC | Y15: জে,এস,সি | Z15: 2020 | AA15: 2020 | AC15: No | AD15: না | AE15: No | AF15: না | AH15: Service Holder | AI15: N/A | AJ15: House Wife | AK15: 01791364735 | AL15: 40000
A16: 5 | C16: 250111862 | D16: 2512401583 | E16: Arman Hossen | F16: আরমান হোসেন | G16: 11,12,2001 | H16: Md. Bahadur | I16: মোঃবাহাদুর | J16: Rina Akter | K16: রিনা আক্তার | L16: NID | M16: 4667424719 | N16: 01855375547 | O16: armanevan5547@gmail.com | P16: Male | R16: Kazipara.Kumira,Sitakunda,Chattogram. | S16: Do. | T16: কাজীপাড়া,কুমিরা,সীতাকুন্ড,চট্টগ্রাম। | U16: কাজীপাড়া,কুমিরা,সীতাকুন্ড,চট্টগ্রাম। | V16: Chattogram. | W16: চট্টগ্রাম | X16: HSC | Y16: এইচ,এস,সি | Z16: 2022 | AA16: 2022 | AC16: No | AD16: না | AE16: No | AF16: না | AH16: Driver | AI16: 01819967848 | AJ16: House Wife | AK16: 01585751010 | AL16: 20000
A17: 6 | C17: 250111866 | D17: 2512401587 | E17: Rabiul Sani | F17: রবিউল ছানি | G17: 22,01,2005 | H17: Abu Taher | I17: মোঃআবু তাহের | J17: Aklima Begum | K17: আকলিমা বেগম | L17: BCN | M17: 20051517017100398 | N17: 01810279672 | O17: robiulsani668@gmail.com | P17: Male | R17: East Chandraghona,Khandaker Para,Rangunia.Chattogram. | S17: 2106 Talukder Vila,Al falah Goli.Khulshi,Chattogram. | T17: পূর্ব চন্দ্রঘোনা, খন্দকার পাড়া, রাঙ্গুনিয়া.চট্টগ্রাম। | U17: 2106 তালুকদার ভিলা, আল ফালাহ গলি. খুলশী, চট্টগ্রাম। | V17: Chattogram. | W17: চট্টগ্রাম | X17: SSC | Y17: এস,এস,সি | Z17: 2021 | AA17: 2021 | AC17: No | AD17: না | AE17: No | AF17: না | AH17: Service Holder | AI17: 01920542966 | AJ17: House Wife | AK17: 01814340216
A18: 7 | C18: 250111868 | D18: 2512401584 | E18: Akil Raihan | F18: আকিল রায়হান | G18: 12,03,2002 | H18: Mohammad Abu Taher | I18: মোঃআবু তাহের | J18: Shamima Ferdous | K18: শামিমা ফেরদৌস | L18: NID | M18: 7367863589 | N18: 01585746887 | O18: akilraihan554@gmail.com | P18: Male | R18: Latifpur.Jafrabad,Sitakunda,Chattogram. | S18: Do. | T18: লতিফপুর, জাফরাবাদ, সীতাকুণ্ড, চট্টগ্রাম। | U18: লতিফপুর, জাফরাবাদ, সীতাকুণ্ড, চট্টগ্রাম। | V18: Chattogram. | W18: চট্টগ্রাম | X18: HSC | Y18: এইচ,এস,সি | Z18: 2022 | AA18: 2022 | AC18: No | AD18: না | AE18: No | AF18: না | AH18: Business | AI18: 01911885644 | AJ18: House Wife | AK18: 01784856117 | AL18: 20000
A19: 8 | C19: 250111880 | D19: 2512401585 | E19: Sadman Shariar Mahin. | F19: সাদমান শাহরিয়ার মাহিন | G19: 31,10,2004 | H19: Mohammad Muslim Uddin | I19: মোঃমুসলিম উদ্দিন | J19: Farvin Akter | K19: পারভিন আক্তার | L19: NID | M19: 9167885103 | N19: 01631640948 | O19: mahsummahin@gmail.com | P19: Male | R19: Madambibir Hat.Jahanabad.Bhatiary.Sitakunda,Chattogram. | S19: Do. | T19: মাদামবিবির হাট, জাহানাবাদ, ভাটিয়ারী, সীতাকুণ্ড, চট্টগ্রাম। | U19: মাদামবিবির হাট, জাহানাবাদ, ভাটিয়ারী, সীতাকুণ্ড, চট্টগ্রাম। | V19: Chattogram. | W19: চট্টগ্রাম | X19: SSC | Y19: এস,এস,সি | Z19: 2021 | AA19: 2021 | AC19: No | AD19: না | AE19: Yes | AF19: হ্যাঁ | AG19: Low Vission | AH19: Business | AI19: 01743518238 | AJ19: House Wife | AK19: 01872911132 | AL19: 20000
A20: 9 | C20: 250111884 | D20: 2512401586 | E20: Rifat Uddin | F20: রিফাত উদ্দীন | G20: 03.08.2005 | H20: Md.Samsudiin | I20: শামসু উদ্দীন | J20: Rina Begum | K20: রিনা আক্তার | L20: BCN | M20: 20051518666022037 | N20: 01880961207 | O20: N/A | P20: Male | R20: Latif Pur.Pakka Raster Matha,South Solim Pur.Jafrabad,Sitakunda, | S20: Do. | T20: লতিফ পুর,পাক্কা রাস্তার মাথা,দক্ষিণ সোলিম পুর.জাফরাবাদ,সীতাকুন্ড, | U20: লতিফ পুর,পাক্কা রাস্তার মাথা,দক্ষিণ সোলিম পুর.জাফরাবাদ,সীতাকুন্ড, | V20: Chattogram | W20: চট্টগ্রাম | X20: SSC | Y20: এস,এস,সি | Z20: 2023 | AA20: 2023 | AC20: No | AD20: না | AE20: No | AF20: না | AH20: Service Holder | AI20: 01880961207 | AJ20: House Wife | AK20: N/A | AL20: 15000
A21: 10 | C21: 250111885 | D21: 2512401588 | E21: Bijoy Mallik | F21: বিজয় মল্লিক | G21: 27.02.2004 | H21: Liton mallik | I21: লিটন মল্লিক | J21: Shikha Mallik | K21: শিখা মল্লিক | L21: BCN | M21: 20041591602158738 | N21: 01404621823 | O21: biju79311@gmail.com | P21: Male | R21: Balu Chara,Jalalabad,Khulsi,Chattogram | S21: West Bhujpur,Fatikchori,Chattogram, | T21: বালুছরা, জালালাবাদ, খুলসি, চট্টগ্রাম | U21: পশ্চিম ভূজপুর, ফটিকছড়ি, চট্টগ্রাম, | V21: Chattogram | W21: চট্টগ্রাম | X21: SSC | Y21: এস,এস,সি | Z21: 2024 | AA21: 2024 | AC21: No | AD21: না | AE21: No | AF21: না | AH21: Business | AI21: 01710524010 | AJ21: House Wife | AK21: 01823919305 | AL21: 15000
A22: 11 | C22: 250111891 | D22: 2512401589 | E22: Mohammad Rana Hosen | F22: মোহাম্মদ রানা হোসেন | G22: 02.03.2006 | H22: Abul Kashem | I22: আবুল কাশেম | J22: Rahima Akter | K22: রহিমা বেগম | L22: BCN | M22: 20061516185016449 | N22: 01821351924 | O22: N/A | P22: Male | R22: Do | S22: Shikolbaha.Karnafuly,Chattogram. | T22: শিকলবাহা.কর্ণফুলী,চট্টগ্রাম। | U22: শিকলবাহা.কর্ণফুলী,চট্টগ্রাম। | V22: Chattogram | W22: চট্টগ্রাম | X22: SSC | Y22: এস,এস,সি | Z22: 2023 | AA22: 2023 | AC22: No | AD22: না | AE22: No | AF22: না | AH22: Farmer | AI22: 01843808479 | AJ22: House Wife | AK22: N/A | AL22: 15000
A23: 12 | C23: 250111895 | D23: 2512401590 | E23: Nayamat Ali | F23: নেয়ামত আলী | G23: 02,03,2007 | H23: Md.Alamgir | I23: মোঃ আলমগীর | J23: Jannatul Nyma | K23: জান্নাতুল নাইমা | L23: NID | M23: 1981084922 | N23: 01534536233 | O23: tbpfsamir@gmail.com | P23: Male | R23: Isphani gate no.01.Akbar Shah,Chattogram, | S23: Khulshi Kolony,PTI.Chattogram. | T23: ইস্পানি গেট নং ০১. আকবর শাহ, চট্টগ্রাম, | U23: খুলশী কলোনি, পিটিআই.চট্টগ্রাম। | V23: Chattogram | W23: চট্টগ্রাম | X23: SSC | Y23: এস,এস,সি | Z23: 2023 | AA23: 2023 | AC23: No | AD23: না | AE23: No | AF23: না | AH23: Service Holder | AI23: 01824155115 | AJ23: House Wife | AK23: 01996423740 | AL23: 15000
A24: 13 | C24: 250111897 | D24: 2512401591 | E24: Md.Shahedur Rahman Talukder | F24: মোঃ শাহেদুর রহমান তালুকদার | G24: 05.01.2002 | H24: Shafiul Alam talukder | I24: শফিউল আলম তালুকদার | J24: Selina Akter | K24: শেলিনা আকতার | L24: BCN | M24: 20021510894119829 | N24: 01881233185 | O24: shahedur7@gmailcom | P24: Male | R24: House no.-61.Road no.-03.Kunja Chaya,Byzid,Chattogram. | S24: Shilkup.Joldi-4390,Banchkhali,Chattogram. | T24: বাড়ি নং-61.রোড নং-03.কুঞ্জ ছায়া,বাইজিদ,চট্টগ্রাম। | U24: শিলকুপ.জোলডি-৪৩৯০,বাঁশখালি.চট্টগ্রাম। | V24: Chattogram | W24: চট্টগ্রাম | X24: SSC | Y24: এস,এস,সি | Z24: 2019 | AA24: 2019 | AC24: No | AD24: না | AE24: Yes | AF24: হ্যাঁ | AG24: Low Vission | AH24: Farmer | AI24: N/A | AJ24: House Wife | AK24: 01874101267 | AL24: 15000
A25: 14 | C25: 250111898 | D25: 2512401592 | E25: Rahat Hosen Sahin | F25: রাহাত হোসেন শাহিন | G25: 01.01.2006 | H25: Mohammad Shamsul Alam | I25: শামসুল আলম | J25: Bibi Aysa | K25: বিবি আয়শা | L25: BCN | M25: 20061516124108762 | N25: 01855839329 | O25: rahathosen234234@gmail.com | P25: Male | R25: Charlakshya,Kornafuly,Chattogram. | S25: Do | T25: চরলক্ষ্যা, কর্ণফুলী, চট্টগ্রাম। | U25: চরলক্ষ্যা, কর্ণফুলী, চট্টগ্রাম। | V25: Chattogram | W25: চট্টগ্রাম | X25: SSC | Y25: এস,এস,সি | Z25: 2022 | AA25: 2022 | AC25: No | AD25: না | AE25: No | AF25: না | AH25: N/A | AI25: N/A | AJ25: House Wife | AK25: 01834616213 | AL25: N/A
A26: 15 | C26: 250111901 | D26: 2512401593 | E26: Nabarshi Dewan | F26: নবর্ষি দেওয়ান | G26: 17.06.1996 | H26: Gourishakhar Dewan | I26: গৌরী শেখর দেওয়ান | J26: Kaberi Chakma | K26: কাবেরী চাকমা | L26: NID | M26: 6903940077 | N26: 01878499819 | O26: nabarshiofficial@gmail.com | P26: Male | R26: Boradon.Dighinala.Khagrachori.Chattogram. | S26: Sahenshah Building.Freeport.Bandar.Chattogram. | T26: বোরাদন,দীঘিনালা,খাগড়াছড়ি,চট্টগ্রাম। | U26: শাহেনশাহ বিল্ডিং, ফ্রিপোর্ট, বন্দর, চট্টগ্রাম। | V26: Chattogram | W26: চট্টগ্রাম | X26: SSC | Y26: এস,এস,সি | Z26: 2012 | AA26: 2012 | AC26: Yes | AD26: হ্যাঁ | AE26: No | AF26: না | AH26: Farmer | AI26: N/A | AJ26: House Wife | AK26: 01828869880 | AL26: 15000
A27: 16 | C27: 250111903 | D27: 2512401594 | E27: Md. Bellal Khan | F27: মোঃ বেল্লাল খান | G27: 09.09.2006 | H27: Md.Abdul latif Khan | I27: আব্দূল লতিফ খান | J27: Mst.Bilkish Begum | K27: বিলকিস বেগম | L27: BCN | M27: 20064614379100939 | N27: 01585465168 | O27: msttishislam961@gmail.com | P27: Male | R27: BethChori,30 no.Big Merung.Dighinala-4420.Khagrachori. | S27: Byzid Chatoogram, | T27: বেতছড়ি,30 নং.বড় মেরুং.দীঘিনালা-4420.খাগড়াছড়ি। | U27: বাইজিদ,চট্টগ্রাম। | V27: Khagrachori | W27: খাগড়াছড়ি | X27: SSC | Y27: এস,এস,সি | Z27: 2023 | AA27: 2023 | AC27: No | AD27: না | AE27: No | AF27: না | AH27: Bussiness | AI27: 01812825636 | AJ27: House Wife | AK27: 01879625470 | AL27: N/A
A28: 17 | C28: 250111907 | D28: 2512401595 | E28: Arko Nath (Ankon) | F28: অর্ক নাথ অংকন | G28: 23,08,2007 | H28: Gouranga Nath | I28: গৌরাঙ্গ নাথ | J28: Bappy Devi | K28: বাপ্পি দেবী | L28: BCN | M28: 20071591615105088 | N28: 01586238425 | O28: N/A | P28: Male | R28: Takota,Anowara,Chattogram | S28: Hali sohor.Chattogram, | T28: টাকোটা, আনোয়ারা, চট্টগ্রাম | U28: হালিশহর। চট্টগ্রাম, | V28: Chattogram | W28: খাগড়াছড়ি | X28: SSC | Y28: এস,এস,সি | Z28: 2023 | AA28: 2023 | AC28: No | AD28: না | AE28: Yes | AF28: হ্যাঁ | AG28: Low Vission | AH28: Service Holder | AI28: 01818292939 | AJ28: Service Holder | AK28: 01830145037
A29: 18 | C29: 250111910 | D29: 2512401604 | E29: Md.Abrar wasif | F29: মোঃ আবরার ওয়াসিফ | G29: 04.10.2007 | H29: Md.Ala uddin | I29: মোঃ আলা উদ্দীন | J29: Lutfun Nahar | K29: লুৎফুন নাহার | L29: BCN | M29: 20077512171035670 | N29: 01843649633 | O29: abrarwasif899@gmail.com | P29: Male | R29: House of Abul khair sareng.rampur.Company Gonj,Noakhali. | S29: Green View,Panchlaish,Chattogram. | T29: আবুল খায়েরের বাড়ি সারেং.রামপুর.কোম্পানী গঞ্জ,নোয়াখালী। | U29: গ্রীন ভিউ, পাঁচলাইশ, চট্টগ্রাম। | V29: Noakhali. | W29: নোয়াখালী | X29: JSC | Y29: জে,এস,সি | Z29: 2024 | AA29: 2024 | AC29: No | AD29: না | AE29: No | AF29: না | AH29: Farmer | AI29: N/A | AJ29: House Wife | AK29: 01612929781 | AL29: N/A
A30: 19 | C30: 250111911 | D30: 2512401596 | E30: Mohammad Abdul Al Fahad | F30: মোহাম্মদ আব্দুল আল ফাহাদ | G30: 15.10.2006 | H30: Moahammad Abdul Alim | I30: মোহাম্মদ আব্দুল আলিম | J30: Rezia Begum | K30: রিজিয়া বেগম | L30: NID | M30: 4218937656 | N30: 01975196567 | O30: mdfahad929292@gmail.com | P30: Male | R30: Oli Ahammed Mier Bari,HorihorPur,Choitenner Hat,Mirshorai,Chattogram. | S30: Wireless Murgir Farm.PTI,Khulshi,Chattogram. | T30: অলি আহমদ মিয়ার বাড়ি, হোরিহোরপুর, চৈতেন্যের হাট, মিরশ্বরাই, চট্টগ্রাম। | U30: ওয়্যারলেস মুরগির ফার্ম,পিটিআই,খুলশী,চট্টগ্রাম। | V30: Chattogram | W30: চট্টগ্রাম | X30: SSC | Y30: এস,এস,সি | Z30: 2023 | AA30: 2023 | AC30: No | AD30: না | AF30: না | AH30: Farmer | AI30: N/A | AJ30: House Wife | AK30: 01814213061
A31: 20 | C31: 250111913 | D31: 2512401597 | E31: Hasnat Fahim | F31: হাসনাত ফাহিম | G31: 03.10.2002 | H31: Md.Elias | I31: মোঃইলিয়াছ | J31: Fatema Begum | K31: ফাতেমা বেগম | L31: NID | M31: 1046446744 | N31: 01871892929 | O31: hasnatfahim29@gmail.com | P31: Male | R31: Sathghoria,Shiberhat,Sandwip.Chattogram. | S31: House No-12,Block no,-A.Halishohor.Chattogram. | T31: সাতঘোরিয়া, শিবেরহাট, সন্দ্বীপ, চট্টগ্রাম। | U31: বাড়ি নং-১২, ব্লক নং, -এ. হালিশহর, চট্টগ্রাম। | V31: Sandwip | W31: সন্দীপ | X31: SSC | Y31: এস,এস,সি | Z31: 2019 | AA31: 2019 | AC31: No | AD31: না | AE31: No | AF31: না | AH31: Service Holder | AI31: N/A | AJ31: House Wife | AK31: 01842121672 | AL31: N/A
A32: 21 | C32: 250111915 | D32: 2512401598 | E32: Md.Kamrul Hasan | F32: মোঃ কামরুল হাসান | G32: 27.02.2006 | H32: Md.Samsul Alam | I32: মোঃ শামসুল আলম | J32: Kateza Begum | K32: খতিজা বেগম | L32: BCN | M32: 20061518647131789 | N32: 01854189622 | O32: mm6290754@gmail.com | P32: Male | R32: South Akhir Pur.Mochjidda,kumira,Sitakunda,Chattogram. | S32: DO | T32: দক্ষিণ আখির পুর.মুছজিদ্দা,কুমিরা,সীতাকুন্ড,চট্টগ্রাম। | U32: দক্ষিণ আখির পুর.মুছজিদ্দা,কুমিরা,সীতাকুন্ড,চট্টগ্রাম। | V32: Chattogram, | W32: চট্টগ্রাম | X32: SSC | Y32: এস,এস,সি | Z32: 2025 | AA32: 2025 | AC32: No | AD32: না | AE32: No | AF32: না | AH32: Farmer | AI32: 01823698692 | AJ32: House Wife | AK32: 01823698692 | AL32: N/A
A33: 22 | C33: 250111916 | D33: 2512401599 | E33: Abrarul Haque Chowdhuri | F33: আবরারুল হক চৌধুরী | G33: 07,07,2003 | H33: Aminul haque | I33: আমিনুল হক চৌধুরী | J33: Renuara Akter | K33: রেনুআরা আখতার | L33: NID | M33: 1514525433 | N33: 01877913606 | O33: aditchy58@gmail.com | P33: Male | R33: Nur Ali Miyaer Hat,Farhadabad,Hathazari,Chattogram. | S33: Do. | T33: নুর আলী মিয়ার হাট, ফরহাদাবাদ, হাটহাজারী, চট্টগ্রাম। | U33: নুর আলী মিয়ার হাট, ফরহাদাবাদ, হাটহাজারী, চট্টগ্রাম। | V33: Chattogram | W33: চট্টগ্রাম | X33: HSC | Y33: এইচ,এস,সি | Z33: 2022 | AA33: 2022 | AC33: No | AD33: না | AE33: No | AF33: না | AH33: Service Holder | AI33: 01840887009 | AJ33: House Wife | AK33: 01823714105 | AL33: 20000
A34: 23 | C34: 250111919 | D34: 2512401602 | E34: Israt Hosen Sakib | F34: ইসরাত হোসাইন সাকিব | G34: 07,12,1997 | H34: Md.Lokman | I34: মোঃ লোকমান | J34: Jannatul Ferdous | K34: জান্নাতুল ফেরদৌস | L34: NID | M34: 1502241241 | N34: 01849501878 | O34: sakibtanvir10@gmail.com | P34: Male | R34: Over bridge Fakir Hat, south Solim Pur,Jafrabad,Sitakunda,Chattogram. | S34: Do. | T34: ওভারব্রিজ ফকির হাট, দক্ষিণ সোলিম পুর, জাফরাবাদ, সীতাকুণ্ড, চট্টগ্রাম। | U34: ওভারব্রিজ ফকির হাট, দক্ষিণ সোলিম পুর, জাফরাবাদ, সীতাকুণ্ড, চট্টগ্রাম। | V34: Chattogram | W34: চট্টগ্রাম | X34: JSC | Y34: জে,এস,সি | Z34: 2012 | AA34: 2012 | AC34: No | AD34: না | AE34: Yes | AF34: হ্যাঁ | AG34: Low Vission | AH34: Service Holder | AI34: 01857985828 | AJ34: House Wife | AK34: 01822237223 | AL34: 15000
A35: 24 | C35: 250111922 | D35: 2512401603 | E35: Rakibul Hasan Anu | F35: রাকিবুল হাসান অনু | G35: 11.07.2003 | H35: Munsur Alam | I35: মুনসুর আলম | J35: Umma Hafsa | K35: উম্মে হাফসা | L35: NID | M35: 5574113584 | N35: 01321717573 | O35: anurakib5@gmail.com | P35: Male | R35: Road no.32.Khan Bari,Moisadi,Chandpur. | S35: House of Sobhan,Pathantuli,Agrabad,Chattogram. | T35: রোড নং-৩২ নং,খান বাড়ি,মৈশাদ,চাঁদপুর। | U35: সোবহানের বাড়ী.আগ্রাবাদ,চট্টগ্রাম। | V35: Chattogram | W35: চট্টগ্রাম | X35: SSC | Y35: এস,এস,সি | Z35: 2021 | AA35: 2021 | AC35: No | AD35: না | AE35: No | AF35: না | AH35: Service Holder | AI35: 01816611378 | AJ35: House Wife | AK35: 01828555285 | AL35: 15000
A39: 25 | E39: Mohammad Jobaed Hossain Maruf | F39: মোহাম্মদ জোবায়েদ হোসেন মারুফ | G39: 29.04.2004 | H39: Mohammad Masud Rana | I39: মোঃ মাসুদ রানা | J39: Khadija Begum | K39: মোসাঃ খাদিজা বেগম | L39: NID | M39: 1517456826 | N39: 01818201423 | O39: anurakib5@gmail.com | P39: Male | R39: BM Gate.Fakori,Bhatiary,Salim Pur CDA R/A.Jafrabad.Sitakunda,Chattogram. | S39: Do | T39: বিএম গেট।ফকোরী,ভাটিয়ারী,সলিম পুর সিডিএ আর/এ.জাফরাবাদ।সীতাকুন্ড,চট্টগ্রাম। | U39: বিএম গেট।ফকোরী,ভাটিয়ারী,সলিম পুর সিডিএ আর/এ.জাফরাবাদ।সীতাকুন্ড,চট্টগ্রাম। | V39: Chattogram | W39: চট্টগ্রাম | X39: JSC | Y39: জে,এস,সি | Z39: 2018 | AA39: 2018 | AC39: No | AD39: না | AE39: No | AF39: না | AH39: Service Holder | AI39: 01816611378 | AJ39: House Wife | AK39: 01828555285 | AL39: 15000
E40: Ovijit Halder | F40: অভিজিত হালদার | G40: 15.12.2005 | H40: Anil Chandra Halder | I40: অনিল চন্দ্র হালদার | J40: Rama Rani Halder | K40: রামা রানী হালদার | L40: NID | M40: 4674669298 | N40: 01601119477 | P40: Male | R40: Ramer kathi,Barishal. | S40: 2 No. Gate.Nasirabad.Chattogram. | T40: রামের কাঠি,বরিশাল, | U40: ২নং গেট,নাসিরাবাদ,চট্টগ্রাম | V40: Barishal | X40: SSC | Z40: 2021 | AC40: No | AE40: No | AH40: Service Holder | AL40: 15000
E41: Md.Al Amin Ridoy | F41: মোঃ আল আমিন হৃদয় | G41: 01.01.2007 | H41: Md.Nurul Alam | I41: মোঃ নুরুল আলম | J41: Razia Begum | K41: রেজিয়া বেগম | L41: NID | M41: 1530015658 | N41: 01606680498 | P41: Male | R41: Kandir par,West gaon.Laksam.cumilla. | S41: Koiballadom.Kornelhat.Firojshah,Akbarshah,Chattogram. | T41: কান্দির পাড়.পশ্চিমগাঁও,লাকসাম,কুমিল্লা. | U41: কৈবাল্ল্যাদম,কর্নেলহাট,ফিরোজশাহ,আকবর শাহ.চট্টগ্রাম। | V41: Cumilla,
A43: 29 | B43: 26 | E43: Sk md. Fahim | H43: Sk.Md,Salim | J43: Afsa Parvin | M43: 6464641288 | N43: 01844895393 | P43: Male | R43: Block no.-B,North Halishohor,Post Code.4226,Chattogram. | S43: Wireless .Line no:-03.Pahatali-4202,Khulshi,Chattogram, | V43: Chattogram. | X43: Diploma | Z43: 2024 | AC43: No | AE43: No | AH43: Service Holder | AL43: 14000
A44: 30 | B44: 27 | E44: Mijanur Rahman | G44: 02.02.2000 | H44: Abdul Malek | J44: Saleha Begum | M44: 1030209272 | N44: 01603111969 | P44: Male | R44: Poi Chori Natun Para.Banchkhali, Chattogram | S44: House no.-03.Block no.-B.Road No.-03. Boro Pole.Halishohor,Chattogram. | V44: Chattogram. | X44: SSC | Z44: 2017 | AC44: No | AE44: No | AH44: Service Holder | AL44: 20000

Sheet 4.Attendence Sheet
G1: MYcÖRvZš¿x evsjv‡`k miKvi
G2: Accelerating and Strengthening Skills for Economic Transformation (ASSET) cÖKí
G3: KvwiMwi wk¶v Awa`ßi, XvKv - 1207
A5: cÖwk¶Y cÖ`vbKvix cÖwZôvb t BD‡mc AvgevMvb wUwfBwU Bbw÷wUDU|
A6: AKz‡ck‡bi bvg I †j‡fj t B‡jKwUªK¨vj BÝU‡jkb GÛ †gBb‡Ub¨vÝ, †j‡fj-02
A7: e¨vP bs t 02 | AA7: gvmt
A9: Roll No | B9: Name of Trainee | C9: 1 | D9: 2 | E9: 3 | F9: 4 | G9: 5 | H9: 6 | I9: 7 | J9: 8 | K9: 9 | L9: 10 | M9: 11 | N9: 12 | O9: 13 | P9: 14 | Q9: 15 | R9: 16 | S9: 17 | T9: 18 | U9: 19 | V9: 20 | W9: 21 | X9: 22 | Y9: 23 | Z9: 24 | AA9: 25 | AB9: 26 | AC9: 27 | AD9: 28 | AE9: 29 | AF9: 30 | AG9: 31 | AH9: Remarks
A10: 1 | B10: =IF(#REF!="","",#REF!) -> #REF!
A11: 2 | B11: =IF(#REF!="","",#REF!) -> #REF!
A12: 3 | B12: =IF(#REF!="","",#REF!) -> #REF!
A13: 4 | B13: =IF(#REF!="","",#REF!) -> #REF!
A14: 5 | B14: =IF(#REF!="","",#REF!) -> #REF!
A15: 6 | B15: =IF(#REF!="","",#REF!) -> #REF!
A16: 7 | B16: =IF(#REF!="","",#REF!) -> #REF!
A17: 8 | B17: =IF(#REF!="","",#REF!) -> #REF!
A18: 9 | B18: =IF(#REF!="","",#REF!) -> #REF!
A19: 10 | B19: =IF(#REF!="","",#REF!) -> #REF!
A20: 11 | B20: =IF(#REF!="","",#REF!) -> #REF!
A21: 12 | B21: =IF(#REF!="","",#REF!) -> #REF!
... A33: 24 | B33: =IF(#REF!="","",#REF!) -> #REF!
B34: Signature of Trainer
A36: Prepared by | C36: Checked by | AD36: Head of TVET Institute

Sheet Contact
A1: `¶Zv cÖwk¶Yv_©x‡`i Abycw¯’wZi Kj †iKW©
A2: ='All Form Data'!C2 -> †mkbt b‡f¤^i 2024 - †deªæqvix 2025
A3: ='All Form Data'!C3 -> cÖwk¶Y cÖ`vbKvix cÖwZôvb t BD‡mc AvgevMvb wUwfBwU Bbw÷wUDU|
A4: ='All Form Data'!C4 -> †UªW t B‡jKwUªK¨vj BÝU‡jkb GÛ †gBb‡Ub¨vÝ
A5: Accelerating and Strengthening Skills for Economic Transformation (ASSET) cÖKí
A6: µwgK bs | B6: cÖwk¶Yv_©xi bvg | C6: cÖwk¶Yv_©xi †gvevBj b¤^i | D6: wcZvi bvg | E6: wcZv/gvZv/ Awffve‡Ki †gvevBj b¤^i | F6: gšÍe¨
A7: 1 | B7: =IF('All Form Data'!F12="","",'All Form Data'!F12) -> মোহাম্মদ বাদশা | C7: =IF('All Form Data'!N12="","",'All Form Data'!N12) -> 01305978432 | D7: =IF('All Form Data'!I12="","",'All Form Data'!I12) -> মোঃ হাসান | E7: =IF(OR('All Form Data'!AI12="",'All Form Data'!AK12=""),"",'All Form Data'!AI12&" "&'All Form Data'!AK12) -> 01835955715 N/A
A8: 2 | B8: =IF('All Form Data'!#REF!="","",'All Form Data'!#REF!) -> #REF! | C8: =IF('All Form Data'!#REF!="","",'All Form Data'!#REF!) -> #REF! | D8: =IF('All Form Data'!#REF!="","",'All Form Data'!#REF!) -> #REF! | E8: =IF(OR('All Form Data'!#REF!="",'All Form Data'!#REF!=""),"",'All Form Data'!#REF!&" "&'All Form Data'!#REF!) -> #REF!
A9: 3 | B9: =IF('All Form Data'!F13="","",'All Form Data'!F13) -> জাহিদুল ইসলাম | C9: =IF('All Form Data'!N13="","",'All Form Data'!N13) -> 01888239320 | D9: =IF('All Form Data'!I13="","",'All Form Data'!I13) -> মোঃ রফিক | E9: =IF(OR('All Form Data'!AI13="",'All Form Data'!AK13=""),"",'All Form Data'!AI13&" "&'All Form Data'!AK13) -> 01815650722 018404444644
A10: 4 | B10: =IF('All Form Data'!F14="","",'All Form Data'!F14) -> সুপন সাহা | C10: =IF('All Form Data'!N14="","",'All Form Data'!N14) -> 01843256390 | D10: =IF('All Form Data'!I14="","",'All Form Data'!I14) -> সুমন সাহা | E10: =IF(OR('All Form Data'!AI14="",'All Form Data'!AK14=""),"",'All Form Data'!AI14&" "&'All Form Data'!AK14) -> 01814873757 N/A
A11: 5 | B11: =IF('All Form Data'!F15="","",'All Form Data'!F15) -> জাহিদুল ইসলাম ইমন | C11: =IF('All Form Data'!N15="","",'All Form Data'!N15) -> 01814393561 | D11: =IF('All Form Data'!I15="","",'All Form Data'!I15) -> জহিরুল ইসলাম | E11: =IF(OR('All Form Data'!AI15="",'All Form Data'!AK15=""),"",'All Form Data'!AI15&" "&'All Form Data'!AK15) -> N/A 01791364735
A12: 6 | B12: =IF('All Form Data'!F16="","",'All Form Data'!F16) -> আরমান হোসেন | C12: =IF('All Form Data'!N16="","",'All Form Data'!N16) -> 01855375547 | D12: =IF('All Form Data'!I16="","",'All Form Data'!I16) -> মোঃবাহাদুর | E12: =IF(OR('All Form Data'!AI16="",'All Form Data'!AK16=""),"",'All Form Data'!AI16&" "&'All Form Data'!AK16) -> 01819967848 01585751010
A13: 7 | B13: =IF('All Form Data'!F17="","",'All Form Data'!F17) -> রবিউল ছানি | C13: =IF('All Form Data'!N17="","",'All Form Data'!N17) -> 01810279672 | D13: =IF('All Form Data'!I17="","",'All Form Data'!I17) -> মোঃআবু তাহের | E13: =IF(OR('All Form Data'!AI17="",'All Form Data'!AK17=""),"",'All Form Data'!AI17&" "&'All Form Data'!AK17) -> 01920542966 01814340216
A14: 8 | B14: =IF('All Form Data'!F18="","",'All Form Data'!F18) -> আকিল রায়হান | C14: =IF('All Form Data'!N18="","",'All Form Data'!N18) -> 01585746887 | D14: =IF('All Form Data'!I18="","",'All Form Data'!I18) -> মোঃআবু তাহের | E14: =IF(OR('All Form Data'!AI18="",'All Form Data'!AK18=""),"",'All Form Data'!AI18&" "&'All Form Data'!AK18) -> 01911885644 01784856117
A15: 9 | B15: =IF('All Form Data'!F19="","",'All Form Data'!F19) -> সাদমান শাহরিয়ার মাহিন | C15: =IF('All Form Data'!N19="","",'All Form Data'!N19) -> 01631640948 | D15: =IF('All Form Data'!I19="","",'All Form Data'!I19) -> মোঃমুসলিম উদ্দিন | E15: =IF(OR('All Form Data'!AI19="",'All Form Data'!AK19=""),"",'All Form Data'!AI19&" "&'All Form Data'!AK19) -> 01743518238 01872911132
A16: 10 | B16: =IF('All Form Data'!#REF!="","",'All Form Data'!#REF!) -> #REF! | C16: =IF('All Form Data'!#REF!="","",'All Form Data'!#REF!) -> #REF! | D16: =IF('All Form Data'!#REF!="","",'All Form Data'!#REF!) -> #REF! | E16: =IF(OR('All Form Data'!#REF!="",'All Form Data'!#REF!=""),"",'All Form Data'!#REF!&" "&'All Form Data'!#REF!) -> #REF!
A17: 11 | B17: =IF('All Form Data'!#REF!="","",'All Form Data'!#REF!) -> #REF! | C17: =IF('All Form Data'!#REF!="","",'All Form Data'!#REF!) -> #REF! | D17: =IF('All Form Data'!#REF!="","",'All Form Data'!#REF!) -> #REF! | E17: =IF(OR('All Form Data'!#REF!="",'All Form Data'!#REF!=""),"",'All Form Data'!#REF!&" "&'All Form Data'!#REF!) -> #REF!
A18: 12 | B18: =IF('All Form Data'!F20="","",'All Form Data'!F20) -> রিফাত উদ্দীন | C18: =IF('All Form Data'!N20="","",'All Form Data'!N20) -> 01880961207 | D18: =IF('All Form Data'!I20="","",'All Form Data'!I20) -> শামসু উদ্দীন | E18: =IF(OR('All Form Data'!AI20="",'All Form Data'!AK20=""),"",'All Form Data'!AI20&" "&'All Form Data'!AK20) -> 01880961207 N/A
A19: 13 | B19: =IF('All Form Data'!F21="","",'All Form Data'!F21) -> বিজয় মল্লিক | C19: =IF('All Form Data'!N21="","",'All Form Data'!N21) -> 01404621823 | D19: =IF('All Form Data'!I21="","",'All Form Data'!I21) -> লিটন মল্লিক | E19: =IF(OR('All Form Data'!AI21="",'All Form Data'!AK21=""),"",'All Form Data'!AI21&" "&'All Form Data'!AK21) -> 01710524010 01823919305
A20: 14 | B20: =IF('All Form Data'!F22="","",'All Form Data'!F22) -> মোহাম্মদ রানা হোসেন | C20: =IF('All Form Data'!N22="","",'All Form Data'!N22) -> 01821351924 | D20: =IF('All Form Data'!I22="","",'All Form Data'!I22) -> আবুল কাশেম | E20: =IF(OR('All Form Data'!AI22="",'All Form Data'!AK22=""),"",'All Form Data'!AI22&" "&'All Form Data'!AK22) -> 01843808479 N/A
A21: 15 | B21: =IF('All Form Data'!F23="","",'All Form Data'!F23) -> নেয়ামত আলী | C21: =IF('All Form Data'!N23="","",'All Form Data'!N23) -> 01534536233 | D21: =IF('All Form Data'!I23="","",'All Form Data'!I23) -> মোঃ আলমগীর | E21: =IF(OR('All Form Data'!AI23="",'All Form Data'!AK23=""),"",'All Form Data'!AI23&" "&'All Form Data'!AK23) -> 01824155115 01996423740
A22: 16 | B22: =IF('All Form Data'!F24="","",'All Form Data'!F24) -> মোঃ শাহেদুর রহমান তালুকদার | C22: =IF('All Form Data'!N24="","",'All Form Data'!N24) -> 01881233185 | D22: =IF('All Form Data'!I24="","",'All Form Data'!I24) -> শফিউল আলম তালুকদার | E22: =IF(OR('All Form Data'!AI24="",'All Form Data'!AK24=""),"",'All Form Data'!AI24&" "&'All Form Data'!AK24) -> N/A 01874101267
A23: 17 | B23: =IF('All Form Data'!F25="","",'All Form Data'!F25) -> রাহাত হোসেন শাহিন | C23: =IF('All Form Data'!N25="","",'All Form Data'!N25) -> 01855839329 | D23: =IF('All Form Data'!I25="","",'All Form Data'!I25) -> শামসুল আলম | E23: =IF(OR('All Form Data'!AI25="",'All Form Data'!AK25=""),"",'All Form Data'!AI25&" "&'All Form Data'!AK25) -> N/A 01834616213
A24: 18 | B24: =IF('All Form Data'!F26="","",'All Form Data'!F26) -> নবর্ষি দেওয়ান | C24: =IF('All Form Data'!N26="","",'All Form Data'!N26) -> 01878499819 | D24: =IF('All Form Data'!I26="","",'All Form Data'!I26) -> গৌরী শেখর দেওয়ান | E24: =IF(OR('All Form Data'!AI26="",'All Form Data'!AK26=""),"",'All Form Data'!AI26&" "&'All Form Data'!AK26) -> N/A 01828869880
A25: 19 | B25: =IF('All Form Data'!F27="","",'All Form Data'!F27) -> মোঃ বেল্লাল খান | C25: =IF('All Form Data'!N27="","",'All Form Data'!N27) -> 01585465168 | D25: =IF('All Form Data'!I27="","",'All Form Data'!I27) -> আব্দূল লতিফ খান | E25: =IF(OR('All Form Data'!AI27="",'All Form Data'!AK27=""),"",'All Form Data'!AI27&" "&'All Form Data'!AK27) -> 01812825636 01879625470
A26: 20 | B26: =IF('All Form Data'!F28="","",'All Form Data'!F28) -> অর্ক নাথ অংকন | C26: =IF('All Form Data'!N28="","",'All Form Data'!N28) -> 01586238425 | D26: =IF('All Form Data'!I28="","",'All Form Data'!I28) -> গৌরাঙ্গ নাথ | E26: =IF(OR('All Form Data'!AI28="",'All Form Data'!AK28=""),"",'All Form Data'!AI28&" "&'All Form Data'!AK28) -> 01818292939 01830145037
A27: 21 | B27: =IF('All Form Data'!F29="","",'All Form Data'!F29) -> মোঃ আবরার ওয়াসিফ | C27: =IF('All Form Data'!N29="","",'All Form Data'!N29) -> 01843649633 | D27: =IF('All Form Data'!I29="","",'All Form Data'!I29) -> মোঃ আলা উদ্দীন | E27: =IF(OR('All Form Data'!AI29="",'All Form Data'!AK29=""),"",'All Form Data'!AI29&" "&'All Form Data'!AK29) -> N/A 01612929781
A28: 22 | B28: =IF('All Form Data'!F30="","",'All Form Data'!F30) -> মোহাম্মদ আব্দুল আল ফাহাদ | C28: =IF('All Form Data'!N30="","",'All Form Data'!N30) -> 01975196567 | D28: =IF('All Form Data'!I30="","",'All Form Data'!I30) -> মোহাম্মদ আব্দুল আলিম | E28: =IF(OR('All Form Data'!AI30="",'All Form Data'!AK30=""),"",'All Form Data'!AI30&" "&'All Form Data'!AK30) -> N/A 01814213061
A29: 23 | B29: =IF('All Form Data'!F31="","",'All Form Data'!F31) -> হাসনাত ফাহিম | C29: =IF('All Form Data'!N31="","",'All Form Data'!N31) -> 01871892929 | D29: =IF('All Form Data'!I31="","",'All Form Data'!I31) -> মোঃইলিয়াছ | E29: =IF(OR('All Form Data'!AI31="",'All Form Data'!AK31=""),"",'All Form Data'!AI31&" "&'All Form Data'!AK31) -> N/A 01842121672
A30: 24 | B30: =IF('All Form Data'!F32="","",'All Form Data'!F32) -> মোঃ কামরুল হাসান | C30: =IF('All Form Data'!N32="","",'All Form Data'!N32) -> 01854189622 | D30: =IF('All Form Data'!I32="","",'All Form Data'!I32) -> মোঃ শামসুল আলম | E30: =IF(OR('All Form Data'!AI32="",'All Form Data'!AK32=""),"",'All Form Data'!AI32&" "&'All Form Data'!AK32) -> 01823698692 01823698692

Sheet Signature colection
A1: `¶Zv cÖwk¶Yv_©x‡`i ¯^v¶i msMÖn
A2: ='All Form Data'!C2 -> †mkbt b‡f¤^i 2024 - †deªæqvix 2025
A3: ='All Form Data'!C3 -> cÖwk¶Y cÖ`vbKvix cÖwZôvb t BD‡mc AvgevMvb wUwfBwU Bbw÷wUDU|
A4: ='All Form Data'!C4 -> †UªW t B‡jKwUªK¨vj BÝU‡jkb GÛ †gBb‡Ub¨vÝ
A5: Accelerating and Strengthening Skills for Economic Transformation (ASSET) cÖKí
A6: µwgK bs | B6: cÖwk¶Yv_©xi bvg | C6: ¯^v¶i | D6: µwgK bs | E6: cÖwk¶Yv_©xi bvg | F6: ¯^v¶i
A7: 1 | B7: =IF('All Form Data'!F12="","",'All Form Data'!F12) -> মোহাম্মদ বাদশা | D7: 13 | E7: =IF('All Form Data'!F21="","",'All Form Data'!F21) -> বিজয় মল্লিক
A8: 2 | B8: =IF('All Form Data'!#REF!="","",'All Form Data'!#REF!) -> #REF! | D8: 14 | E8: =IF('All Form Data'!F22="","",'All Form Data'!F22) -> মোহাম্মদ রানা হোসেন
A9: 3 | B9: =IF('All Form Data'!F13="","",'All Form Data'!F13) -> জাহিদুল ইসলাম | D9: 15 | E9: =IF('All Form Data'!F23="","",'All Form Data'!F23) -> নেয়ামত আলী
A10: 4 | B10: =IF('All Form Data'!F14="","",'All Form Data'!F14) -> সুপন সাহা | D10: 16 | E10: =IF('All Form Data'!F24="","",'All Form Data'!F24) -> মোঃ শাহেদুর রহমান তালুকদার
A11: 5 | B11: =IF('All Form Data'!F15="","",'All Form Data'!F15) -> জাহিদুল ইসলাম ইমন | D11: 17 | E11: =IF('All Form Data'!F25="","",'All Form Data'!F25) -> রাহাত হোসেন শাহিন
A12: 6 | B12: =IF('All Form Data'!F16="","",'All Form Data'!F16) -> আরমান হোসেন | D12: 18 | E12: =IF('All Form Data'!F26="","",'All Form Data'!F26) -> নবর্ষি দেওয়ান
A13: 7 | B13: =IF('All Form Data'!F17="","",'All Form Data'!F17) -> রবিউল ছানি | D13: 19 | E13: =IF('All Form Data'!F27="","",'All Form Data'!F27) -> মোঃ বেল্লাল খান
A14: 8 | B14: =IF('All Form Data'!F18="","",'All Form Data'!F18) -> আকিল রায়হান | D14: 20 | E14: =IF('All Form Data'!F28="","",'All Form Data'!F28) -> অর্ক নাথ অংকন
A15: 9 | B15: =IF('All Form Data'!F19="","",'All Form Data'!F19) -> সাদমান শাহরিয়ার মাহিন | D15: 21 | E15: =IF('All Form Data'!F29="","",'All Form Data'!F29) -> মোঃ আবরার ওয়াসিফ
A16: 10 | B16: =IF('All Form Data'!#REF!="","",'All Form Data'!#REF!) -> #REF! | D16: 22 | E16: =IF('All Form Data'!F30="","",'All Form Data'!F30) -> মোহাম্মদ আব্দুল আল ফাহাদ
A17: 11 | B17: =IF('All Form Data'!#REF!="","",'All Form Data'!#REF!) -> #REF! | D17: 23 | E17: =IF('All Form Data'!F31="","",'All Form Data'!F31) -> হাসনাত ফাহিম
A18: 12 | B18: =IF('All Form Data'!F20="","",'All Form Data'!F20) -> রিফাত উদ্দীন | D18: 24 | E18: =IF('All Form Data'!F32="","",'All Form Data'!F32) -> মোঃ কামরুল হাসান

Sheet Pre selection
A1: `¶Zv cÖwk¶Yv_©x‡`i cÖvK-evQvB‡qi Z_¨vw`
A2: ='All Form Data'!C2 -> †mkbt b‡f¤^i 2024 - †deªæqvix 2025
A3: ='All Form Data'!C3 -> cÖwk¶Y cÖ`vbKvix cÖwZôvb t BD‡mc AvgevMvb wUwfBwU Bbw÷wUDU|
A4: ='All Form Data'!C4 -> †UªW t B‡jKwUªK¨vj BÝU‡jkb GÛ †gBb‡Ub¨vÝ
A5: Accelerating and Strengthening Skills for Economic Transformation (ASSET) cÖKí
A6: µwgK bs | B6: cÖwk¶Yv_©xi bvg | C6: wcZvi bvg | D6: gvZvi bvg | E6: dg© bs | F6: cÖvß b¤^i | G6: gšÍe¨
A7: 1 | B7: =IF('All Form Data'!F12="","",'All Form Data'!F12) -> মোহাম্মদ বাদশা | C7: =IF('All Form Data'!I12="","",'All Form Data'!I12) -> মোঃ হাসান | D7: =IF('All Form Data'!K12="","",'All Form Data'!K12) -> খুরশেদা বেগম | E7: =IF('All Form Data'!B12="","",'All Form Data'!B12) | G7: =IF('All Form Data'!AN12="Selected","wbe©vwPZ",IF('All Form Data'!AN12="Waiting","A‡c¶gvb",""))
A8: 2 | B8: =IF('All Form Data'!#REF!="","",'All Form Data'!#REF!) -> #REF! | C8: =IF('All Form Data'!#REF!="","",'All Form Data'!#REF!) -> #REF! | D8: =IF('All Form Data'!#REF!="","",'All Form Data'!#REF!) -> #REF! | E8: =IF('All Form Data'!#REF!="","",'All Form Data'!#REF!) -> #REF! | G8: =IF('All Form Data'!#REF!="Selected","wbe©vwPZ",IF('All Form Data'!#REF!="Waiting","A‡c¶gvb","")) -> #REF!
A9: 3 | B9: =IF('All Form Data'!F13="","",'All Form Data'!F13) -> জাহিদুল ইসলাম | C9: =IF('All Form Data'!I13="","",'All Form Data'!I13) -> মোঃ রফিক | D9: =IF('All Form Data'!K13="","",'All Form Data'!K13) -> সাজিয়া বেগম | E9: =IF('All Form Data'!B13="","",'All Form Data'!B13) | G9: =IF('All Form Data'!AN13="Selected","wbe©vwPZ",IF('All Form Data'!AN13="Waiting","A‡c¶gvb",""))
A10: 4 | B10: =IF('All Form Data'!F14="","",'All Form Data'!F14) -> সুপন সাহা | C10: =IF('All Form Data'!I14="","",'All Form Data'!I14) -> সুমন সাহা | D10: =IF('All Form Data'!K14="","",'All Form Data'!K14) -> শিল্পী সাহা | E10: =IF('All Form Data'!B14="","",'All Form Data'!B14) | G10: =IF('All Form Data'!AN14="Selected","wbe©vwPZ",IF('All Form Data'!AN14="Waiting","A‡c¶gvb",""))
A11: 5 | B11: =IF('All Form Data'!F15="","",'All Form Data'!F15) -> জাহিদুল ইসলাম ইমন | C11: =IF('All Form Data'!I15="","",'All Form Data'!I15) -> জহিরুল ইসলাম | D11: =IF('All Form Data'!K15="","",'All Form Data'!K15) -> হোসনে আরা বেগম | E11: =IF('All Form Data'!B15="","",'All Form Data'!B15) | G11: =IF('All Form Data'!AN15="Selected","wbe©vwPZ",IF('All Form Data'!AN15="Waiting","A‡c¶gvb",""))
A12: 6 | B12: =IF('All Form Data'!F16="","",'All Form Data'!F16) -> আরমান হোসেন | C12: =IF('All Form Data'!I16="","",'All Form Data'!I16) -> মোঃবাহাদুর | D12: =IF('All Form Data'!K16="","",'All Form Data'!K16) -> রিনা আক্তার | E12: =IF('All Form Data'!B16="","",'All Form Data'!B16) | G12: =IF('All Form Data'!AN16="Selected","wbe©vwPZ",IF('All Form Data'!AN16="Waiting","A‡c¶gvb",""))
A13: 7 | B13: =IF('All Form Data'!F17="","",'All Form Data'!F17) -> রবিউল ছানি | C13: =IF('All Form Data'!I17="","",'All Form Data'!I17) -> মোঃআবু তাহের | D13: =IF('All Form Data'!K17="","",'All Form Data'!K17) -> আকলিমা বেগম | E13: =IF('All Form Data'!B17="","",'All Form Data'!B17) | G13: =IF('All Form Data'!AN17="Selected","wbe©vwPZ",IF('All Form Data'!AN17="Waiting","A‡c¶gvb",""))
A14: 8 | B14: =IF('All Form Data'!F18="","",'All Form Data'!F18) -> আকিল রায়হান | C14: =IF('All Form Data'!I18="","",'All Form Data'!I18) -> মোঃআবু তাহের | D14: =IF('All Form Data'!K18="","",'All Form Data'!K18) -> শামিমা ফেরদৌস | E14: =IF('All Form Data'!B18="","",'All Form Data'!B18) | G14: =IF('All Form Data'!AN18="Selected","wbe©vwPZ",IF('All Form Data'!AN18="Waiting","A‡c¶gvb",""))
A15: 9 | B15: =IF('All Form Data'!F19="","",'All Form Data'!F19) -> সাদমান শাহরিয়ার মাহিন | C15: =IF('All Form Data'!I19="","",'All Form Data'!I19) -> মোঃমুসলিম উদ্দিন | D15: =IF('All Form Data'!K19="","",'All Form Data'!K19) -> পারভিন আক্তার | E15: =IF('All Form Data'!B19="","",'All Form Data'!B19) | G15: =IF('All Form Data'!AN19="Selected","wbe©vwPZ",IF('All Form Data'!AN19="Waiting","A‡c¶gvb",""))
A16: 10 | B16: =IF('All Form Data'!#REF!="","",'All Form Data'!#REF!) -> #REF! | C16: =IF('All Form Data'!#REF!="","",'All Form Data'!#REF!) -> #REF! | D16: =IF('All Form Data'!#REF!="","",'All Form Data'!#REF!) -> #REF! | E16: =IF('All Form Data'!#REF!="","",'All Form Data'!#REF!) -> #REF! | G16: =IF('All Form Data'!#REF!="Selected","wbe©vwPZ",IF('All Form Data'!#REF!="Waiting","A‡c¶gvb","")) -> #REF!
A17: 11 | B17: =IF('All Form Data'!#REF!="","",'All Form Data'!#REF!) -> #REF! | C17: =IF('All Form Data'!#REF!="","",'All Form Data'!#REF!) -> #REF! | D17: =IF('All Form Data'!#REF!="","",'All Form Data'!#REF!) -> #REF! | E17: =IF('All Form Data'!#REF!="","",'All Form Data'!#REF!) -> #REF! | G17: =IF('All Form Data'!#REF!="Selected","wbe©vwPZ",IF('All Form Data'!#REF!="Waiting","A‡c¶gvb","")) -> #REF!
A18: 12 | B18: =IF('All Form Data'!F20="","",'All Form Data'!F20) -> রিফাত উদ্দীন | C18: =IF('All Form Data'!I20="","",'All Form Data'!I20) -> শামসু উদ্দীন | D18: =IF('All Form Data'!K20="","",'All Form Data'!K20) -> রিনা আক্তার | E18: =IF('All Form Data'!B20="","",'All Form Data'!B20) | G18: =IF('All Form Data'!AN20="Selected","wbe©vwPZ",IF('All Form Data'!AN20="Waiting","A‡c¶gvb",""))
A19: 13 | B19: =IF('All Form Data'!F21="","",'All Form Data'!F21) -> বিজয় মল্লিক | C19: =IF('All Form Data'!I21="","",'All Form Data'!I21) -> লিটন মল্লিক | D19: =IF('All Form Data'!K21="","",'All Form Data'!K21) -> শিখা মল্লিক | E19: =IF('All Form Data'!B21="","",'All Form Data'!B21) | G19: =IF('All Form Data'!AN21="Selected","wbe©vwPZ",IF('All Form Data'!AN21="Waiting","A‡c¶gvb",""))
A20: 14 | B20: =IF('All Form Data'!F22="","",'All Form Data'!F22) -> মোহাম্মদ রানা হোসেন | C20: =IF('All Form Data'!I22="","",'All Form Data'!I22) -> আবুল কাশেম | D20: =IF('All Form Data'!K22="","",'All Form Data'!K22) -> রহিমা বেগম | E20: =IF('All Form Data'!B22="","",'All Form Data'!B22) | G20: =IF('All Form Data'!AN22="Selected","wbe©vwPZ",IF('All Form Data'!AN22="Waiting","A‡c¶gvb",""))
A21: 15 | B21: =IF('All Form Data'!F23="","",'All Form Data'!F23) -> নেয়ামত আলী | C21: =IF('All Form Data'!I23="","",'All Form Data'!I23) -> মোঃ আলমগীর | D21: =IF('All Form Data'!K23="","",'All Form Data'!K23) -> জান্নাতুল নাইমা | E21: =IF('All Form Data'!B23="","",'All Form Data'!B23) | G21: =IF('All Form Data'!AN23="Selected","wbe©vwPZ",IF('All Form Data'!AN23="Waiting","A‡c¶gvb",""))
A22: 16 | B22: =IF('All Form Data'!F24="","",'All Form Data'!F24) -> মোঃ শাহেদুর রহমান তালুকদার | C22: =IF('All Form Data'!I24="","",'All Form Data'!I24) -> শফিউল আলম তালুকদার | D22: =IF('All Form Data'!K24="","",'All Form Data'!K24) -> শেলিনা আকতার | E22: =IF('All Form Data'!B24="","",'All Form Data'!B24) | G22: =IF('All Form Data'!AN24="Selected","wbe©vwPZ",IF('All Form Data'!AN24="Waiting","A‡c¶gvb",""))
A23: 17 | B23: =IF('All Form Data'!F25="","",'All Form Data'!F25) -> রাহাত হোসেন শাহিন | C23: =IF('All Form Data'!I25="","",'All Form Data'!I25) -> শামসুল আলম | D23: =IF('All Form Data'!K25="","",'All Form Data'!K25) -> বিবি আয়শা | E23: =IF('All Form Data'!B25="","",'All Form Data'!B25) | G23: =IF('All Form Data'!AN25="Selected","wbe©vwPZ",IF('All Form Data'!AN25="Waiting","A‡c¶gvb",""))
A24: 18 | B24: =IF('All Form Data'!F26="","",'All Form Data'!F26) -> নবর্ষি দেওয়ান | C24: =IF('All Form Data'!I26="","",'All Form Data'!I26) -> গৌরী শেখর দেওয়ান | D24: =IF('All Form Data'!K26="","",'All Form Data'!K26) -> কাবেরী চাকমা | E24: =IF('All Form Data'!B26="","",'All Form Data'!B26) | G24: =IF('All Form Data'!AN26="Selected","wbe©vwPZ",IF('All Form Data'!AN26="Waiting","A‡c¶gvb",""))
A25: 19 | B25: =IF('All Form Data'!F27="","",'All Form Data'!F27) -> মোঃ বেল্লাল খান | C25: =IF('All Form Data'!I27="","",'All Form Data'!I27) -> আব্দূল লতিফ খান | D25: =IF('All Form Data'!K27="","",'All Form Data'!K27) -> বিলকিস বেগম | E25: =IF('All Form Data'!B27="","",'All Form Data'!B27) | G25: =IF('All Form Data'!AN27="Selected","wbe©vwPZ",IF('All Form Data'!AN27="Waiting","A‡c¶gvb",""))
A26: 20 | B26: =IF('All Form Data'!F28="","",'All Form Data'!F28) -> অর্ক নাথ অংকন | C26: =IF('All Form Data'!I28="","",'All Form Data'!I28) -> গৌরাঙ্গ নাথ | D26: =IF('All Form Data'!K28="","",'All Form Data'!K28) -> বাপ্পি দেবী | E26: =IF('All Form Data'!B28="","",'All Form Data'!B28) | G26: =IF('All Form Data'!AN28="Selected","wbe©vwPZ",IF('All Form Data'!AN28="Waiting","A‡c¶gvb",""))
A27: 21 | B27: =IF('All Form Data'!F29="","",'All Form Data'!F29) -> মোঃ আবরার ওয়াসিফ | C27: =IF('All Form Data'!I29="","",'All Form Data'!I29) -> মোঃ আলা উদ্দীন | D27: =IF('All Form Data'!K29="","",'All Form Data'!K29) -> লুৎফুন নাহার | E27: =IF('All Form Data'!B29="","",'All Form Data'!B29) | G27: =IF('All Form Data'!AN29="Selected","wbe©vwPZ",IF('All Form Data'!AN29="Waiting","A‡c¶gvb",""))
A28: 22 | B28: =IF('All Form Data'!F30="","",'All Form Data'!F30) -> মোহাম্মদ আব্দুল আল ফাহাদ | C28: =IF('All Form Data'!I30="","",'All Form Data'!I30) -> মোহাম্মদ আব্দুল আলিম | D28: =IF('All Form Data'!K30="","",'All Form Data'!K30) -> রিজিয়া বেগম | E28: =IF('All Form Data'!B30="","",'All Form Data'!B30) | G28: =IF('All Form Data'!AN30="Selected","wbe©vwPZ",IF('All Form Data'!AN30="Waiting","A‡c¶gvb",""))
A29: 23 | B29: =IF('All Form Data'!F31="","",'All Form Data'!F31) -> হাসনাত ফাহিম | C29: =IF('All Form Data'!I31="","",'All Form Data'!I31) -> মোঃইলিয়াছ | D29: =IF('All Form Data'!K31="","",'All Form Data'!K31) -> ফাতেমা বেগম | E29: =IF('All Form Data'!B31="","",'All Form Data'!B31) | G29: =IF('All Form Data'!AN31="Selected","wbe©vwPZ",IF('All Form Data'!AN31="Waiting","A‡c¶gvb",""))
... A31: 25 | B31: =IF('All Form Data'!F33="","",'All Form Data'!F33) -> আবরারুল হক চৌধুরী | C31: =IF('All Form Data'!I33="","",'All Form Data'!I33) -> আমিনুল হক চৌধুরী | D31: =IF('All Form Data'!K33="","",'All Form Data'!K33) -> রেনুআরা আখতার | E31: =IF('All Form Data'!B33="","",'All Form Data'!B33) | G31: =IF('All Form Data'!AN33="Selected","wbe©vwPZ",IF('All Form Data'!AN33="Waiting","A‡c¶gvb",""))
A32: 26 | B32: =IF('All Form Data'!#REF!="","",'All Form Data'!#REF!) -> #REF! | C32: =IF('All Form Data'!#REF!="","",'All Form Data'!#REF!) -> #REF! | D32: =IF('All Form Data'!#REF!="","",'All Form Data'!#REF!) -> #REF! | E32: =IF('All Form Data'!#REF!="","",'All Form Data'!#REF!) -> #REF! | G32: =IF('All Form Data'!#REF!="Selected","wbe©vwPZ",IF('All Form Data'!#REF!="Waiting","A‡c¶gvb","")) -> #REF!
A33: 27 | B33: =IF('All Form Data'!#REF!="","",'All Form Data'!#REF!) -> #REF! | C33: =IF('All Form Data'!#REF!="","",'All Form Data'!#REF!) -> #REF! | D33: =IF('All Form Data'!#REF!="","",'All Form Data'!#REF!) -> #REF! | E33: =IF('All Form Data'!#REF!="","",'All Form Data'!#REF!) -> #REF! | G33: =IF('All Form Data'!#REF!="Selected","wbe©vwPZ",IF('All Form Data'!#REF!="Waiting","A‡c¶gvb","")) -> #REF!
A34: 28 | B34: =IF('All Form Data'!#REF!="","",'All Form Data'!#REF!) -> #REF! | C34: =IF('All Form Data'!#REF!="","",'All Form Data'!#REF!) -> #REF! | D34: =IF('All Form Data'!#REF!="","",'All Form Data'!#REF!) -> #REF! | E34: =IF('All Form Data'!#REF!="","",'All Form Data'!#REF!) -> #REF! | G34: =IF('All Form Data'!#REF!="Selected","wbe©vwPZ",IF('All Form Data'!#REF!="Waiting","A‡c¶gvb","")) -> #REF!
A35: 29 | B35: =IF('All Form Data'!F43="","",'All Form Data'!F43) | C35: =IF('All Form Data'!I43="","",'All Form Data'!I43) | D35: =IF('All Form Data'!K43="","",'All Form Data'!K43) | E35: =IF('All Form Data'!B43="","",'All Form Data'!B43) -> 26 | G35: =IF('All Form Data'!AN43="Selected","wbe©vwPZ",IF('All Form Data'!AN43="Waiting","A‡c¶gvb",""))
A36: 30 | B36: =IF('All Form Data'!F44="","",'All Form Data'!F44) | C36: =IF('All Form Data'!I44="","",'All Form Data'!I44) | D36: =IF('All Form Data'!K44="","",'All Form Data'!K44) | E36: =IF('All Form Data'!B44="","",'All Form Data'!B44) -> 27 | G36: =IF('All Form Data'!AN44="Selected","wbe©vwPZ",IF('All Form Data'!AN44="Waiting","A‡c¶gvb",""))
A37: wjW †UªBbvi, wUwfBwU GÛ w¯‹jm | E37: †nW Ae wUwfBwU BÝwUwUDU

Sheet Selected
A1: `¶Zv cÖwk¶Yv_©x‡`i PzovšÍ ZvwjKv wbe©vPb
A2: ='All Form Data'!C2 -> †mkbt b‡f¤^i 2024 - †deªæqvix 2025
A3: ='All Form Data'!C3 -> cÖwk¶Y cÖ`vbKvix cÖwZôvb t BD‡mc AvgevMvb wUwfBwU Bbw÷wUDU|
A4: ='All Form Data'!C4 -> †UªW t B‡jKwUªK¨vj BÝU‡jkb GÛ †gBb‡Ub¨vÝ
A5: Accelerating and Strengthening Skills for Economic Transformation (ASSET) cÖKí
A6: µwgK bs | B6: cÖwk¶Yv_©xi bvg | C6: wcZvi bvg | D6: gvZvi bvg | E6: dg© bs | F6: cÖvß b¤^i | G6: gšÍe¨
A7: 1 | B7: =IF('All Form Data'!F12="","",'All Form Data'!F12) -> মোহাম্মদ বাদশা | C7: =IF('All Form Data'!I12="","",'All Form Data'!I12) -> মোঃ হাসান | D7: =IF('All Form Data'!K12="","",'All Form Data'!K12) -> খুরশেদা বেগম | E7: =IF('All Form Data'!B12="","",'All Form Data'!B12) | G7: =IF('All Form Data'!AN12="Selected","wbe©vwPZ",IF('All Form Data'!AN12="Waiting","A‡c¶gvb",""))
A8: 2 | B8: =IF('All Form Data'!#REF!="","",'All Form Data'!#REF!) -> #REF! | C8: =IF('All Form Data'!#REF!="","",'All Form Data'!#REF!) -> #REF! | D8: =IF('All Form Data'!#REF!="","",'All Form Data'!#REF!) -> #REF! | E8: =IF('All Form Data'!#REF!="","",'All Form Data'!#REF!) -> #REF! | G8: =IF('All Form Data'!#REF!="Selected","wbe©vwPZ",IF('All Form Data'!#REF!="Waiting","A‡c¶gvb","")) -> #REF!
A9: 3 | B9: =IF('All Form Data'!F13="","",'All Form Data'!F13) -> জাহিদুল ইসলাম | C9: =IF('All Form Data'!I13="","",'All Form Data'!I13) -> মোঃ রফিক | D9: =IF('All Form Data'!K13="","",'All Form Data'!K13) -> সাজিয়া বেগম | E9: =IF('All Form Data'!B13="","",'All Form Data'!B13) | G9: =IF('All Form Data'!AN13="Selected","wbe©vwPZ",IF('All Form Data'!AN13="Waiting","A‡c¶gvb",""))
A10: 4 | B10: =IF('All Form Data'!F14="","",'All Form Data'!F14) -> সুপন সাহা | C10: =IF('All Form Data'!I14="","",'All Form Data'!I14) -> সুমন সাহা | D10: =IF('All Form Data'!K14="","",'All Form Data'!K14) -> শিল্পী সাহা | E10: =IF('All Form Data'!B14="","",'All Form Data'!B14) | G10: =IF('All Form Data'!AN14="Selected","wbe©vwPZ",IF('All Form Data'!AN14="Waiting","A‡c¶gvb",""))
A11: 5 | B11: =IF('All Form Data'!F15="","",'All Form Data'!F15) -> জাহিদুল ইসলাম ইমন | C11: =IF('All Form Data'!I15="","",'All Form Data'!I15) -> জহিরুল ইসলাম | D11: =IF('All Form Data'!K15="","",'All Form Data'!K15) -> হোসনে আরা বেগম | E11: =IF('All Form Data'!B15="","",'All Form Data'!B15) | G11: =IF('All Form Data'!AN15="Selected","wbe©vwPZ",IF('All Form Data'!AN15="Waiting","A‡c¶gvb",""))
A12: 6 | B12: =IF('All Form Data'!F16="","",'All Form Data'!F16) -> আরমান হোসেন | C12: =IF('All Form Data'!I16="","",'All Form Data'!I16) -> মোঃবাহাদুর | D12: =IF('All Form Data'!K16="","",'All Form Data'!K16) -> রিনা আক্তার | E12: =IF('All Form Data'!B16="","",'All Form Data'!B16) | G12: =IF('All Form Data'!AN16="Selected","wbe©vwPZ",IF('All Form Data'!AN16="Waiting","A‡c¶gvb",""))
A13: 7 | B13: =IF('All Form Data'!F17="","",'All Form Data'!F17) -> রবিউল ছানি | C13: =IF('All Form Data'!I17="","",'All Form Data'!I17) -> মোঃআবু তাহের | D13: =IF('All Form Data'!K17="","",'All Form Data'!K17) -> আকলিমা বেগম | E13: =IF('All Form Data'!B17="","",'All Form Data'!B17) | G13: =IF('All Form Data'!AN17="Selected","wbe©vwPZ",IF('All Form Data'!AN17="Waiting","A‡c¶gvb",""))
A14: 8 | B14: =IF('All Form Data'!F18="","",'All Form Data'!F18) -> আকিল রায়হান | C14: =IF('All Form Data'!I18="","",'All Form Data'!I18) -> মোঃআবু তাহের | D14: =IF('All Form Data'!K18="","",'All Form Data'!K18) -> শামিমা ফেরদৌস | E14: =IF('All Form Data'!B18="","",'All Form Data'!B18) | G14: =IF('All Form Data'!AN18="Selected","wbe©vwPZ",IF('All Form Data'!AN18="Waiting","A‡c¶gvb",""))
A15: 9 | B15: =IF('All Form Data'!F19="","",'All Form Data'!F19) -> সাদমান শাহরিয়ার মাহিন | C15: =IF('All Form Data'!I19="","",'All Form Data'!I19) -> মোঃমুসলিম উদ্দিন | D15: =IF('All Form Data'!K19="","",'All Form Data'!K19) -> পারভিন আক্তার | E15: =IF('All Form Data'!B19="","",'All Form Data'!B19) | G15: =IF('All Form Data'!AN19="Selected","wbe©vwPZ",IF('All Form Data'!AN19="Waiting","A‡c¶gvb",""))
A16: 10 | B16: =IF('All Form Data'!#REF!="","",'All Form Data'!#REF!) -> #REF! | C16: =IF('All Form Data'!#REF!="","",'All Form Data'!#REF!) -> #REF! | D16: =IF('All Form Data'!#REF!="","",'All Form Data'!#REF!) -> #REF! | E16: =IF('All Form Data'!#REF!="","",'All Form Data'!#REF!) -> #REF! | G16: =IF('All Form Data'!#REF!="Selected","wbe©vwPZ",IF('All Form Data'!#REF!="Waiting","A‡c¶gvb","")) -> #REF!
A17: 11 | B17: =IF('All Form Data'!#REF!="","",'All Form Data'!#REF!) -> #REF! | C17: =IF('All Form Data'!#REF!="","",'All Form Data'!#REF!) -> #REF! | D17: =IF('All Form Data'!#REF!="","",'All Form Data'!#REF!) -> #REF! | E17: =IF('All Form Data'!#REF!="","",'All Form Data'!#REF!) -> #REF! | G17: =IF('All Form Data'!#REF!="Selected","wbe©vwPZ",IF('All Form Data'!#REF!="Waiting","A‡c¶gvb","")) -> #REF!
A18: 12 | B18: =IF('All Form Data'!F20="","",'All Form Data'!F20) -> রিফাত উদ্দীন | C18: =IF('All Form Data'!I20="","",'All Form Data'!I20) -> শামসু উদ্দীন | D18: =IF('All Form Data'!K20="","",'All Form Data'!K20) -> রিনা আক্তার | E18: =IF('All Form Data'!B20="","",'All Form Data'!B20) | G18: =IF('All Form Data'!AN20="Selected","wbe©vwPZ",IF('All Form Data'!AN20="Waiting","A‡c¶gvb",""))
A19: 13 | B19: =IF('All Form Data'!F21="","",'All Form Data'!F21) -> বিজয় মল্লিক | C19: =IF('All Form Data'!I21="","",'All Form Data'!I21) -> লিটন মল্লিক | D19: =IF('All Form Data'!K21="","",'All Form Data'!K21) -> শিখা মল্লিক | E19: =IF('All Form Data'!B21="","",'All Form Data'!B21) | G19: =IF('All Form Data'!AN21="Selected","wbe©vwPZ",IF('All Form Data'!AN21="Waiting","A‡c¶gvb",""))
A20: 14 | B20: =IF('All Form Data'!F22="","",'All Form Data'!F22) -> মোহাম্মদ রানা হোসেন | C20: =IF('All Form Data'!I22="","",'All Form Data'!I22) -> আবুল কাশেম | D20: =IF('All Form Data'!K22="","",'All Form Data'!K22) -> রহিমা বেগম | E20: =IF('All Form Data'!B22="","",'All Form Data'!B22) | G20: =IF('All Form Data'!AN22="Selected","wbe©vwPZ",IF('All Form Data'!AN22="Waiting","A‡c¶gvb",""))
A21: 15 | B21: =IF('All Form Data'!F23="","",'All Form Data'!F23) -> নেয়ামত আলী | C21: =IF('All Form Data'!I23="","",'All Form Data'!I23) -> মোঃ আলমগীর | D21: =IF('All Form Data'!K23="","",'All Form Data'!K23) -> জান্নাতুল নাইমা | E21: =IF('All Form Data'!B23="","",'All Form Data'!B23) | G21: =IF('All Form Data'!AN23="Selected","wbe©vwPZ",IF('All Form Data'!AN23="Waiting","A‡c¶gvb",""))
A22: 16 | B22: =IF('All Form Data'!F24="","",'All Form Data'!F24) -> মোঃ শাহেদুর রহমান তালুকদার | C22: =IF('All Form Data'!I24="","",'All Form Data'!I24) -> শফিউল আলম তালুকদার | D22: =IF('All Form Data'!K24="","",'All Form Data'!K24) -> শেলিনা আকতার | E22: =IF('All Form Data'!B24="","",'All Form Data'!B24) | G22: =IF('All Form Data'!AN24="Selected","wbe©vwPZ",IF('All Form Data'!AN24="Waiting","A‡c¶gvb",""))
A23: 17 | B23: =IF('All Form Data'!F25="","",'All Form Data'!F25) -> রাহাত হোসেন শাহিন | C23: =IF('All Form Data'!I25="","",'All Form Data'!I25) -> শামসুল আলম | D23: =IF('All Form Data'!K25="","",'All Form Data'!K25) -> বিবি আয়শা | E23: =IF('All Form Data'!B25="","",'All Form Data'!B25) | G23: =IF('All Form Data'!AN25="Selected","wbe©vwPZ",IF('All Form Data'!AN25="Waiting","A‡c¶gvb",""))
A24: 18 | B24: =IF('All Form Data'!F26="","",'All Form Data'!F26) -> নবর্ষি দেওয়ান | C24: =IF('All Form Data'!I26="","",'All Form Data'!I26) -> গৌরী শেখর দেওয়ান | D24: =IF('All Form Data'!K26="","",'All Form Data'!K26) -> কাবেরী চাকমা | E24: =IF('All Form Data'!B26="","",'All Form Data'!B26) | G24: =IF('All Form Data'!AN26="Selected","wbe©vwPZ",IF('All Form Data'!AN26="Waiting","A‡c¶gvb",""))
A25: 19 | B25: =IF('All Form Data'!F27="","",'All Form Data'!F27) -> মোঃ বেল্লাল খান | C25: =IF('All Form Data'!I27="","",'All Form Data'!I27) -> আব্দূল লতিফ খান | D25: =IF('All Form Data'!K27="","",'All Form Data'!K27) -> বিলকিস বেগম | E25: =IF('All Form Data'!B27="","",'All Form Data'!B27) | G25: =IF('All Form Data'!AN27="Selected","wbe©vwPZ",IF('All Form Data'!AN27="Waiting","A‡c¶gvb",""))
A26: 20 | B26: =IF('All Form Data'!F28="","",'All Form Data'!F28) -> অর্ক নাথ অংকন | C26: =IF('All Form Data'!I28="","",'All Form Data'!I28) -> গৌরাঙ্গ নাথ | D26: =IF('All Form Data'!K28="","",'All Form Data'!K28) -> বাপ্পি দেবী | E26: =IF('All Form Data'!B28="","",'All Form Data'!B28) | G26: =IF('All Form Data'!AN28="Selected","wbe©vwPZ",IF('All Form Data'!AN28="Waiting","A‡c¶gvb",""))
A27: 21 | B27: =IF('All Form Data'!F29="","",'All Form Data'!F29) -> মোঃ আবরার ওয়াসিফ | C27: =IF('All Form Data'!I29="","",'All Form Data'!I29) -> মোঃ আলা উদ্দীন | D27: =IF('All Form Data'!K29="","",'All Form Data'!K29) -> লুৎফুন নাহার | E27: =IF('All Form Data'!B29="","",'All Form Data'!B29) | G27: =IF('All Form Data'!AN29="Selected","wbe©vwPZ",IF('All Form Data'!AN29="Waiting","A‡c¶gvb",""))
A28: 22 | B28: =IF('All Form Data'!F30="","",'All Form Data'!F30) -> মোহাম্মদ আব্দুল আল ফাহাদ | C28: =IF('All Form Data'!I30="","",'All Form Data'!I30) -> মোহাম্মদ আব্দুল আলিম | D28: =IF('All Form Data'!K30="","",'All Form Data'!K30) -> রিজিয়া বেগম | E28: =IF('All Form Data'!B30="","",'All Form Data'!B30) | G28: =IF('All Form Data'!AN30="Selected","wbe©vwPZ",IF('All Form Data'!AN30="Waiting","A‡c¶gvb",""))
A29: 23 | B29: =IF('All Form Data'!F31="","",'All Form Data'!F31) -> হাসনাত ফাহিম | C29: =IF('All Form Data'!I31="","",'All Form Data'!I31) -> মোঃইলিয়াছ | D29: =IF('All Form Data'!K31="","",'All Form Data'!K31) -> ফাতেমা বেগম | E29: =IF('All Form Data'!B31="","",'All Form Data'!B31) | G29: =IF('All Form Data'!AN31="Selected","wbe©vwPZ",IF('All Form Data'!AN31="Waiting","A‡c¶gvb",""))
A30: 24 | B30: =IF('All Form Data'!F32="","",'All Form Data'!F32) -> মোঃ কামরুল হাসান | C30: =IF('All Form Data'!I32="","",'All Form Data'!I32) -> মোঃ শামসুল আলম | D30: =IF('All Form Data'!K32="","",'All Form Data'!K32) -> খতিজা বেগম | E30: =IF('All Form Data'!B32="","",'All Form Data'!B32) | G30: =IF('All Form Data'!AN32="Selected","wbe©vwPZ",IF('All Form Data'!AN32="Waiting","A‡c¶gvb",""))
A31: wjW †UªBbvi, wUwfBwU GÛ w¯‹jm | E31: †nW Ae wUwfBwU BÝwUwUDU

Sheet ASSET admission Data
A1: cÖwk¶Yv_©x‡`i Z_¨
A2: ='All Form Data'!C2 -> †mkbt b‡f¤^i 2024 - †deªæqvix 2025
A3: ='All Form Data'!C3 -> cÖwk¶Y cÖ`vbKvix cÖwZôvb t BD‡mc AvgevMvb wUwfBwU Bbw÷wUDU|
A4: ='All Form Data'!C4 -> †UªW t B‡jKwUªK¨vj BÝU‡jkb GÛ †gBb‡Ub¨vÝ
A5: Accelerating and Strengthening Skills for Economic Transformation (ASSET) cÖKí
A6: SL no | B6: ASSET ID | C6: cÖwk¶Yv_©xi bvg | D6: wcZvi bvg | E6: gvZvi bvg | F6: †gvevBj b¤^i | G6: RvZxq cwiPqcÎ b¤^i | H6: Rb¥ ZvwiL | I6: wk¶vMZ †hvM¨Zv | J6: cv‡ki mb | K6: cÖwk¶Yv_©xi Qwe | L6: wc.WweøD.wW | M6: Remarks
A7: 1 | B7: ='All Form Data'!C12 -> 250111846 | C7: =IF('All Form Data'!F12="","",'All Form Data'!F12) -> মোহাম্মদ বাদশা | D7: =IF('All Form Data'!I12="","",'All Form Data'!I12) -> মোঃ হাসান | E7: =IF('All Form Data'!K12="","",'All Form Data'!K12) -> খুরশেদা বেগম | F7: =IF('All Form Data'!N12="","",'All Form Data'!N12) -> 01305978432 | G7: =IF('All Form Data'!M12="","",'All Form Data'!M12) -> 3317890733 | H7: =IF('All Form Data'!G12="","",'All Form Data'!G12) -> 10.10.200 | I7: =IF('All Form Data'!Y12="","",'All Form Data'!Y12) -> এস,এস,সি | J7: =IF('All Form Data'!AA12="","",'All Form Data'!AA12) -> 2021 | L7: =IF('All Form Data'!AF12="","",'All Form Data'!AF12) -> না | M7: =IF('All Form Data'!AG12="","",'All Form Data'!AG12)
A8: 2 | B8: ='All Form Data'!#REF! -> #REF! | C8: =IF('All Form Data'!#REF!="","",'All Form Data'!#REF!) -> #REF! | D8: =IF('All Form Data'!#REF!="","",'All Form Data'!#REF!) -> #REF! | E8: =IF('All Form Data'!#REF!="","",'All Form Data'!#REF!) -> #REF! | F8: =IF('All Form Data'!#REF!="","",'All Form Data'!#REF!) -> #REF! | G8: =IF('All Form Data'!#REF!="","",'All Form Data'!#REF!) -> #REF! | H8: =IF('All Form Data'!#REF!="","",'All Form Data'!#REF!) -> #REF! | I8: =IF('All Form Data'!#REF!="","",'All Form Data'!#REF!) -> #REF! | J8: =IF('All Form Data'!#REF!="","",'All Form Data'!#REF!) -> #REF! | L8: =IF('All Form Data'!#REF!="","",'All Form Data'!#REF!) -> #REF! | M8: =IF('All Form Data'!#REF!="","",'All Form Data'!#REF!) -> #REF!
A9: 3 | B9: ='All Form Data'!C13 -> 250111853 | C9: =IF('All Form Data'!F13="","",'All Form Data'!F13) -> জাহিদুল ইসলাম | D9: =IF('All Form Data'!I13="","",'All Form Data'!I13) -> মোঃ রফিক | E9: =IF('All Form Data'!K13="","",'All Form Data'!K13) -> সাজিয়া বেগম | F9: =IF('All Form Data'!N13="","",'All Form Data'!N13) -> 01888239320 | G9: =IF('All Form Data'!M13="","",'All Form Data'!M13) -> 1982221135 | H9: =IF('All Form Data'!G13="","",'All Form Data'!G13) -> 24,08.2006 | I9: =IF('All Form Data'!Y13="","",'All Form Data'!Y13) -> এস,এস,সি | J9: =IF('All Form Data'!AA13="","",'All Form Data'!AA13) -> 2021 | L9: =IF('All Form Data'!AF13="","",'All Form Data'!AF13) -> না | M9: =IF('All Form Data'!AG13="","",'All Form Data'!AG13)
A10: 4 | B10: ='All Form Data'!C14 -> 250111857 | C10: =IF('All Form Data'!F14="","",'All Form Data'!F14) -> সুপন সাহা | D10: =IF('All Form Data'!I14="","",'All Form Data'!I14) -> সুমন সাহা | E10: =IF('All Form Data'!K14="","",'All Form Data'!K14) -> শিল্পী সাহা | F10: =IF('All Form Data'!N14="","",'All Form Data'!N14) -> 01843256390 | G10: =IF('All Form Data'!M14="","",'All Form Data'!M14) -> 2882077627 | H10: =IF('All Form Data'!G14="","",'All Form Data'!G14) -> 12,02,2007 | I10: =IF('All Form Data'!Y14="","",'All Form Data'!Y14) -> এস,এস,সি | J10: =IF('All Form Data'!AA14="","",'All Form Data'!AA14) -> 2023 | L10: =IF('All Form Data'!AF14="","",'All Form Data'!AF14) -> না | M10: =IF('All Form Data'!AG14="","",'All Form Data'!AG14)
A11: 5 | B11: ='All Form Data'!C15 -> 250111861 | C11: =IF('All Form Data'!F15="","",'All Form Data'!F15) -> জাহিদুল ইসলাম ইমন | D11: =IF('All Form Data'!I15="","",'All Form Data'!I15) -> জহিরুল ইসলাম | E11: =IF('All Form Data'!K15="","",'All Form Data'!K15) -> হোসনে আরা বেগম | F11: =IF('All Form Data'!N15="","",'All Form Data'!N15) -> 01814393561 | G11: =IF('All Form Data'!M15="","",'All Form Data'!M15) -> 9172738362 | H11: =IF('All Form Data'!G15="","",'All Form Data'!G15) -> 02,02,2004 | I11: =IF('All Form Data'!Y15="","",'All Form Data'!Y15) -> জে,এস,সি | J11: =IF('All Form Data'!AA15="","",'All Form Data'!AA15) -> 2020 | L11: =IF('All Form Data'!AF15="","",'All Form Data'!AF15) -> না | M11: =IF('All Form Data'!AG15="","",'All Form Data'!AG15)
A12: 6 | B12: ='All Form Data'!C16 -> 250111862 | C12: =IF('All Form Data'!F16="","",'All Form Data'!F16) -> আরমান হোসেন | D12: =IF('All Form Data'!I16="","",'All Form Data'!I16) -> মোঃবাহাদুর | E12: =IF('All Form Data'!K16="","",'All Form Data'!K16) -> রিনা আক্তার | F12: =IF('All Form Data'!N16="","",'All Form Data'!N16) -> 01855375547 | G12: =IF('All Form Data'!M16="","",'All Form Data'!M16) -> 4667424719 | H12: =IF('All Form Data'!G16="","",'All Form Data'!G16) -> 11,12,2001 | I12: =IF('All Form Data'!Y16="","",'All Form Data'!Y16) -> এইচ,এস,সি | J12: =IF('All Form Data'!AA16="","",'All Form Data'!AA16) -> 2022 | L12: =IF('All Form Data'!AF16="","",'All Form Data'!AF16) -> না | M12: =IF('All Form Data'!AG16="","",'All Form Data'!AG16)
A13: 7 | B13: ='All Form Data'!C17 -> 250111866 | C13: =IF('All Form Data'!F17="","",'All Form Data'!F17) -> রবিউল ছানি | D13: =IF('All Form Data'!I17="","",'All Form Data'!I17) -> মোঃআবু তাহের | E13: =IF('All Form Data'!K17="","",'All Form Data'!K17) -> আকলিমা বেগম | F13: =IF('All Form Data'!N17="","",'All Form Data'!N17) -> 01810279672 | G13: =IF('All Form Data'!M17="","",'All Form Data'!M17) -> 20051517017100398 | H13: =IF('All Form Data'!G17="","",'All Form Data'!G17) -> 22,01,2005 | I13: =IF('All Form Data'!Y17="","",'All Form Data'!Y17) -> এস,এস,সি | J13: =IF('All Form Data'!AA17="","",'All Form Data'!AA17) -> 2021 | L13: =IF('All Form Data'!AF17="","",'All Form Data'!AF17) -> না | M13: =IF('All Form Data'!AG17="","",'All Form Data'!AG17)
A14: 8 | B14: ='All Form Data'!C18 -> 250111868 | C14: =IF('All Form Data'!F18="","",'All Form Data'!F18) -> আকিল রায়হান | D14: =IF('All Form Data'!I18="","",'All Form Data'!I18) -> মোঃআবু তাহের | E14: =IF('All Form Data'!K18="","",'All Form Data'!K18) -> শামিমা ফেরদৌস | F14: =IF('All Form Data'!N18="","",'All Form Data'!N18) -> 01585746887 | G14: =IF('All Form Data'!M18="","",'All Form Data'!M18) -> 7367863589 | H14: =IF('All Form Data'!G18="","",'All Form Data'!G18) -> 12,03,2002 | I14: =IF('All Form Data'!Y18="","",'All Form Data'!Y18) -> এইচ,এস,সি | J14: =IF('All Form Data'!AA18="","",'All Form Data'!AA18) -> 2022 | L14: =IF('All Form Data'!AF18="","",'All Form Data'!AF18) -> না | M14: =IF('All Form Data'!AG18="","",'All Form Data'!AG18)
A15: 9 | B15: ='All Form Data'!C19 -> 250111880 | C15: =IF('All Form Data'!F19="","",'All Form Data'!F19) -> সাদমান শাহরিয়ার মাহিন | D15: =IF('All Form Data'!I19="","",'All Form Data'!I19) -> মোঃমুসলিম উদ্দিন | E15: =IF('All Form Data'!K19="","",'All Form Data'!K19) -> পারভিন আক্তার | F15: =IF('All Form Data'!N19="","",'All Form Data'!N19) -> 01631640948 | G15: =IF('All Form Data'!M19="","",'All Form Data'!M19) -> 9167885103 | H15: =IF('All Form Data'!G19="","",'All Form Data'!G19) -> 31,10,2004 | I15: =IF('All Form Data'!Y19="","",'All Form Data'!Y19) -> এস,এস,সি | J15: =IF('All Form Data'!AA19="","",'All Form Data'!AA19) -> 2021 | L15: =IF('All Form Data'!AF19="","",'All Form Data'!AF19) -> হ্যাঁ | M15: =IF('All Form Data'!AG19="","",'All Form Data'!AG19) -> Low Vission
A16: 10 | B16: ='All Form Data'!#REF! -> #REF! | C16: =IF('All Form Data'!#REF!="","",'All Form Data'!#REF!) -> #REF! | D16: =IF('All Form Data'!#REF!="","",'All Form Data'!#REF!) -> #REF! | E16: =IF('All Form Data'!#REF!="","",'All Form Data'!#REF!) -> #REF! | F16: =IF('All Form Data'!#REF!="","",'All Form Data'!#REF!) -> #REF! | G16: =IF('All Form Data'!#REF!="","",'All Form Data'!#REF!) -> #REF! | H16: =IF('All Form Data'!#REF!="","",'All Form Data'!#REF!) -> #REF! | I16: =IF('All Form Data'!#REF!="","",'All Form Data'!#REF!) -> #REF! | J16: =IF('All Form Data'!#REF!="","",'All Form Data'!#REF!) -> #REF! | L16: =IF('All Form Data'!#REF!="","",'All Form Data'!#REF!) -> #REF! | M16: =IF('All Form Data'!#REF!="","",'All Form Data'!#REF!) -> #REF!
A17: 11 | B17: ='All Form Data'!#REF! -> #REF! | C17: =IF('All Form Data'!#REF!="","",'All Form Data'!#REF!) -> #REF! | D17: =IF('All Form Data'!#REF!="","",'All Form Data'!#REF!) -> #REF! | E17: =IF('All Form Data'!#REF!="","",'All Form Data'!#REF!) -> #REF! | F17: =IF('All Form Data'!#REF!="","",'All Form Data'!#REF!) -> #REF! | G17: =IF('All Form Data'!#REF!="","",'All Form Data'!#REF!) -> #REF! | H17: =IF('All Form Data'!#REF!="","",'All Form Data'!#REF!) -> #REF! | I17: =IF('All Form Data'!#REF!="","",'All Form Data'!#REF!) -> #REF! | J17: =IF('All Form Data'!#REF!="","",'All Form Data'!#REF!) -> #REF! | L17: =IF('All Form Data'!#REF!="","",'All Form Data'!#REF!) -> #REF! | M17: =IF('All Form Data'!#REF!="","",'All Form Data'!#REF!) -> #REF!
A18: 12 | B18: ='All Form Data'!C20 -> 250111884 | C18: =IF('All Form Data'!F20="","",'All Form Data'!F20) -> রিফাত উদ্দীন | D18: =IF('All Form Data'!I20="","",'All Form Data'!I20) -> শামসু উদ্দীন | E18: =IF('All Form Data'!K20="","",'All Form Data'!K20) -> রিনা আক্তার | F18: =IF('All Form Data'!N20="","",'All Form Data'!N20) -> 01880961207 | G18: =IF('All Form Data'!M20="","",'All Form Data'!M20) -> 20051518666022037 | H18: =IF('All Form Data'!G20="","",'All Form Data'!G20) -> 03.08.2005 | I18: =IF('All Form Data'!Y20="","",'All Form Data'!Y20) -> এস,এস,সি | J18: =IF('All Form Data'!AA20="","",'All Form Data'!AA20) -> 2023 | L18: =IF('All Form Data'!AF20="","",'All Form Data'!AF20) -> না | M18: =IF('All Form Data'!AG20="","",'All Form Data'!AG20)
A19: 13 | B19: ='All Form Data'!C21 -> 250111885 | C19: =IF('All Form Data'!F21="","",'All Form Data'!F21) -> বিজয় মল্লিক | D19: =IF('All Form Data'!I21="","",'All Form Data'!I21) -> লিটন মল্লিক | E19: =IF('All Form Data'!K21="","",'All Form Data'!K21) -> শিখা মল্লিক | F19: =IF('All Form Data'!N21="","",'All Form Data'!N21) -> 01404621823 | G19: =IF('All Form Data'!M21="","",'All Form Data'!M21) -> 20041591602158738 | H19: =IF('All Form Data'!G21="","",'All Form Data'!G21) -> 27.02.2004 | I19: =IF('All Form Data'!Y21="","",'All Form Data'!Y21) -> এস,এস,সি | J19: =IF('All Form Data'!AA21="","",'All Form Data'!AA21) -> 2024 | L19: =IF('All Form Data'!AF21="","",'All Form Data'!AF21) -> না | M19: =IF('All Form Data'!AG21="","",'All Form Data'!AG21)
A20: 14 | B20: ='All Form Data'!C22 -> 250111891 | C20: =IF('All Form Data'!F22="","",'All Form Data'!F22) -> মোহাম্মদ রানা হোসেন | D20: =IF('All Form Data'!I22="","",'All Form Data'!I22) -> আবুল কাশেম | E20: =IF('All Form Data'!K22="","",'All Form Data'!K22) -> রহিমা বেগম | F20: =IF('All Form Data'!N22="","",'All Form Data'!N22) -> 01821351924 | G20: =IF('All Form Data'!M22="","",'All Form Data'!M22) -> 20061516185016449 | H20: =IF('All Form Data'!G22="","",'All Form Data'!G22) -> 02.03.2006 | I20: =IF('All Form Data'!Y22="","",'All Form Data'!Y22) -> এস,এস,সি | J20: =IF('All Form Data'!AA22="","",'All Form Data'!AA22) -> 2023 | L20: =IF('All Form Data'!AF22="","",'All Form Data'!AF22) -> না | M20: =IF('All Form Data'!AG22="","",'All Form Data'!AG22)
A21: 15 | B21: ='All Form Data'!C23 -> 250111895 | C21: =IF('All Form Data'!F23="","",'All Form Data'!F23) -> নেয়ামত আলী | D21: =IF('All Form Data'!I23="","",'All Form Data'!I23) -> মোঃ আলমগীর | E21: =IF('All Form Data'!K23="","",'All Form Data'!K23) -> জান্নাতুল নাইমা | F21: =IF('All Form Data'!N23="","",'All Form Data'!N23) -> 01534536233 | G21: =IF('All Form Data'!M23="","",'All Form Data'!M23) -> 1981084922 | H21: =IF('All Form Data'!G23="","",'All Form Data'!G23) -> 02,03,2007 | I21: =IF('All Form Data'!Y23="","",'All Form Data'!Y23) -> এস,এস,সি | J21: =IF('All Form Data'!AA23="","",'All Form Data'!AA23) -> 2023 | L21: =IF('All Form Data'!AF23="","",'All Form Data'!AF23) -> না | M21: =IF('All Form Data'!AG23="","",'All Form Data'!AG23)
A22: 16 | B22: ='All Form Data'!C24 -> 250111897 | C22: =IF('All Form Data'!F24="","",'All Form Data'!F24) -> মোঃ শাহেদুর রহমান তালুকদার | D22: =IF('All Form Data'!I24="","",'All Form Data'!I24) -> শফিউল আলম তালুকদার | E22: =IF('All Form Data'!K24="","",'All Form Data'!K24) -> শেলিনা আকতার | F22: =IF('All Form Data'!N24="","",'All Form Data'!N24) -> 01881233185 | G22: =IF('All Form Data'!M24="","",'All Form Data'!M24) -> 20021510894119829 | H22: =IF('All Form Data'!G24="","",'All Form Data'!G24) -> 05.01.2002 | I22: =IF('All Form Data'!Y24="","",'All Form Data'!Y24) -> এস,এস,সি | J22: =IF('All Form Data'!AA24="","",'All Form Data'!AA24) -> 2019 | L22: =IF('All Form Data'!AF24="","",'All Form Data'!AF24) -> হ্যাঁ | M22: =IF('All Form Data'!AG24="","",'All Form Data'!AG24) -> Low Vission
A23: 17 | B23: ='All Form Data'!C25 -> 250111898 | C23: =IF('All Form Data'!F25="","",'All Form Data'!F25) -> রাহাত হোসেন শাহিন | D23: =IF('All Form Data'!I25="","",'All Form Data'!I25) -> শামসুল আলম | E23: =IF('All Form Data'!K25="","",'All Form Data'!K25) -> বিবি আয়শা | F23: =IF('All Form Data'!N25="","",'All Form Data'!N25) -> 01855839329 | G23: =IF('All Form Data'!M25="","",'All Form Data'!M25) -> 20061516124108762 | H23: =IF('All Form Data'!G25="","",'All Form Data'!G25) -> 01.01.2006 | I23: =IF('All Form Data'!Y25="","",'All Form Data'!Y25) -> এস,এস,সি | J23: =IF('All Form Data'!AA25="","",'All Form Data'!AA25) -> 2022 | L23: =IF('All Form Data'!AF25="","",'All Form Data'!AF25) -> না | M23: =IF('All Form Data'!AG25="","",'All Form Data'!AG25)
A24: 18 | B24: ='All Form Data'!C26 -> 250111901 | C24: =IF('All Form Data'!F26="","",'All Form Data'!F26) -> নবর্ষি দেওয়ান | D24: =IF('All Form Data'!I26="","",'All Form Data'!I26) -> গৌরী শেখর দেওয়ান | E24: =IF('All Form Data'!K26="","",'All Form Data'!K26) -> কাবেরী চাকমা | F24: =IF('All Form Data'!N26="","",'All Form Data'!N26) -> 01878499819 | G24: =IF('All Form Data'!M26="","",'All Form Data'!M26) -> 6903940077 | H24: =IF('All Form Data'!G26="","",'All Form Data'!G26) -> 17.06.1996 | I24: =IF('All Form Data'!Y26="","",'All Form Data'!Y26) -> এস,এস,সি | J24: =IF('All Form Data'!AA26="","",'All Form Data'!AA26) -> 2012 | L24: =IF('All Form Data'!AF26="","",'All Form Data'!AF26) -> না | M24: =IF('All Form Data'!AG26="","",'All Form Data'!AG26)
A25: 19 | B25: ='All Form Data'!C27 -> 250111903 | C25: =IF('All Form Data'!F27="","",'All Form Data'!F27) -> মোঃ বেল্লাল খান | D25: =IF('All Form Data'!I27="","",'All Form Data'!I27) -> আব্দূল লতিফ খান | E25: =IF('All Form Data'!K27="","",'All Form Data'!K27) -> বিলকিস বেগম | F25: =IF('All Form Data'!N27="","",'All Form Data'!N27) -> 01585465168 | G25: =IF('All Form Data'!M27="","",'All Form Data'!M27) -> 20064614379100939 | H25: =IF('All Form Data'!G27="","",'All Form Data'!G27) -> 09.09.2006 | I25: =IF('All Form Data'!Y27="","",'All Form Data'!Y27) -> এস,এস,সি | J25: =IF('All Form Data'!AA27="","",'All Form Data'!AA27) -> 2023 | L25: =IF('All Form Data'!AF27="","",'All Form Data'!AF27) -> না | M25: =IF('All Form Data'!AG27="","",'All Form Data'!AG27)
A26: 20 | B26: ='All Form Data'!C28 -> 250111907 | C26: =IF('All Form Data'!F28="","",'All Form Data'!F28) -> অর্ক নাথ অংকন | D26: =IF('All Form Data'!I28="","",'All Form Data'!I28) -> গৌরাঙ্গ নাথ | E26: =IF('All Form Data'!K28="","",'All Form Data'!K28) -> বাপ্পি দেবী | F26: =IF('All Form Data'!N28="","",'All Form Data'!N28) -> 01586238425 | G26: =IF('All Form Data'!M28="","",'All Form Data'!M28) -> 20071591615105088 | H26: =IF('All Form Data'!G28="","",'All Form Data'!G28) -> 23,08,2007 | I26: =IF('All Form Data'!Y28="","",'All Form Data'!Y28) -> এস,এস,সি | J26: =IF('All Form Data'!AA28="","",'All Form Data'!AA28) -> 2023 | L26: =IF('All Form Data'!AF28="","",'All Form Data'!AF28) -> হ্যাঁ | M26: =IF('All Form Data'!AG28="","",'All Form Data'!AG28) -> Low Vission
A27: 21 | B27: ='All Form Data'!C29 -> 250111910 | C27: =IF('All Form Data'!F29="","",'All Form Data'!F29) -> মোঃ আবরার ওয়াসিফ | D27: =IF('All Form Data'!I29="","",'All Form Data'!I29) -> মোঃ আলা উদ্দীন | E27: =IF('All Form Data'!K29="","",'All Form Data'!K29) -> লুৎফুন নাহার | F27: =IF('All Form Data'!N29="","",'All Form Data'!N29) -> 01843649633 | G27: =IF('All Form Data'!M29="","",'All Form Data'!M29) -> 20077512171035670 | H27: =IF('All Form Data'!G29="","",'All Form Data'!G29) -> 04.10.2007 | I27: =IF('All Form Data'!Y29="","",'All Form Data'!Y29) -> জে,এস,সি | J27: =IF('All Form Data'!AA29="","",'All Form Data'!AA29) -> 2024 | L27: =IF('All Form Data'!AF29="","",'All Form Data'!AF29) -> না | M27: =IF('All Form Data'!AG29="","",'All Form Data'!AG29)
A28: 22 | B28: ='All Form Data'!C30 -> 250111911 | C28: =IF('All Form Data'!F30="","",'All Form Data'!F30) -> মোহাম্মদ আব্দুল আল ফাহাদ | D28: =IF('All Form Data'!I30="","",'All Form Data'!I30) -> মোহাম্মদ আব্দুল আলিম | E28: =IF('All Form Data'!K30="","",'All Form Data'!K30) -> রিজিয়া বেগম | F28: =IF('All Form Data'!N30="","",'All Form Data'!N30) -> 01975196567 | G28: =IF('All Form Data'!M30="","",'All Form Data'!M30) -> 4218937656 | H28: =IF('All Form Data'!G30="","",'All Form Data'!G30) -> 15.10.2006 | I28: =IF('All Form Data'!Y30="","",'All Form Data'!Y30) -> এস,এস,সি | J28: =IF('All Form Data'!AA30="","",'All Form Data'!AA30) -> 2023 | L28: =IF('All Form Data'!AF30="","",'All Form Data'!AF30) -> না | M28: =IF('All Form Data'!AG30="","",'All Form Data'!AG30)
A29: 23 | B29: ='All Form Data'!C31 -> 250111913 | C29: =IF('All Form Data'!F31="","",'All Form Data'!F31) -> হাসনাত ফাহিম | D29: =IF('All Form Data'!I31="","",'All Form Data'!I31) -> মোঃইলিয়াছ | E29: =IF('All Form Data'!K31="","",'All Form Data'!K31) -> ফাতেমা বেগম | F29: =IF('All Form Data'!N31="","",'All Form Data'!N31) -> 01871892929 | G29: =IF('All Form Data'!M31="","",'All Form Data'!M31) -> 1046446744 | H29: =IF('All Form Data'!G31="","",'All Form Data'!G31) -> 03.10.2002 | I29: =IF('All Form Data'!Y31="","",'All Form Data'!Y31) -> এস,এস,সি | J29: =IF('All Form Data'!AA31="","",'All Form Data'!AA31) -> 2019 | L29: =IF('All Form Data'!AF31="","",'All Form Data'!AF31) -> না | M29: =IF('All Form Data'!AG31="","",'All Form Data'!AG31)
A30: 24 | B30: ='All Form Data'!C32 -> 250111915 | C30: =IF('All Form Data'!F32="","",'All Form Data'!F32) -> মোঃ কামরুল হাসান | D30: =IF('All Form Data'!I32="","",'All Form Data'!I32) -> মোঃ শামসুল আলম | E30: =IF('All Form Data'!K32="","",'All Form Data'!K32) -> খতিজা বেগম | F30: =IF('All Form Data'!N32="","",'All Form Data'!N32) -> 01854189622 | G30: =IF('All Form Data'!M32="","",'All Form Data'!M32) -> 20061518647131789 | H30: =IF('All Form Data'!G32="","",'All Form Data'!G32) -> 27.02.2006 | I30: =IF('All Form Data'!Y32="","",'All Form Data'!Y32) -> এস,এস,সি | J30: =IF('All Form Data'!AA32="","",'All Form Data'!AA32) -> 2025 | L30: =IF('All Form Data'!AF32="","",'All Form Data'!AF32) -> না | M30: =IF('All Form Data'!AG32="","",'All Form Data'!AG32)

Sheet Attendance Sheet
A1: cÖwk¶Yv_©x nvwRiv LvZv
A2: ='All Form Data'!C2 -> †mkbt b‡f¤^i 2024 - †deªæqvix 2025
A3: ='All Form Data'!C3 -> cÖwk¶Y cÖ`vbKvix cÖwZôvb t BD‡mc AvgevMvb wUwfBwU Bbw÷wUDU|
A4: ='All Form Data'!C4 -> †UªW t B‡jKwUªK¨vj BÝU‡jkb GÛ †gBb‡Ub¨vÝ
A5: Accelerating and Strengthening Skills for Economic Transformation (ASSET) cÖKí
A6: e¨vP bs t | B6: 02 | AA6: gvmt | AC6: b‡f¤^i | AE6: -2025
A7: µwgK bs | B7: cÖwk¶Yv_©xi bvg | C7: 1 | D7: 2 | E7: 3 | F7: 4 | G7: 5 | H7: 6 | I7: 7 | J7: 8 | K7: 9 | L7: 10 | M7: 11 | N7: 12 | O7: 13 | P7: 14 | Q7: 15 | R7: 16 | S7: 17 | T7: 18 | U7: 19 | V7: 20 | W7: 21 | X7: 22 | Y7: 23 | Z7: 24 | AA7: 25 | AB7: 26 | AC7: 27 | AD7: 28 | AE7: 29 | AF7: 30 | AG7: 31 | AH7: %
A8: 1 | B8: =IF(Selected!B7="","",Selected!B7) -> মোহাম্মদ বাদশা
A9: 2 | B9: =IF(Selected!B8="","",Selected!B8) -> #REF!
A10: 3 | B10: =IF(Selected!B9="","",Selected!B9) -> জাহিদুল ইসলাম
A11: 4 | B11: =IF(Selected!B10="","",Selected!B10) -> সুপন সাহা
A12: 5 | B12: =IF(Selected!B11="","",Selected!B11) -> জাহিদুল ইসলাম ইমন
A13: 6 | B13: =IF(Selected!B12="","",Selected!B12) -> আরমান হোসেন
A14: 7 | B14: =IF(Selected!B13="","",Selected!B13) -> রবিউল ছানি
A15: 8 | B15: =IF(Selected!B14="","",Selected!B14) -> আকিল রায়হান
A16: 9 | B16: =IF(Selected!B15="","",Selected!B15) -> সাদমান শাহরিয়ার মাহিন
A17: 10 | B17: =IF(Selected!B16="","",Selected!B16) -> #REF!
A18: 11 | B18: =IF(Selected!B17="","",Selected!B17) -> #REF!
A19: 12 | B19: =IF(Selected!B18="","",Selected!B18) -> রিফাত উদ্দীন
... A31: 24 | B31: =IF(Selected!B30="","",Selected!B30) -> মোঃ কামরুল হাসান
A32: cÖwk¶‡Ki ¯^v¶i
A33: wjW †UªBbvi, wUwfBwU GÛ w¯‹jm | AC33: †nW Ae wUwfBwU BÝwUwUDU

Sheet Distribution Sheet
A1: `¶Zv cÖwk¶Yv_©x‡`i wk¶v DcKiY weZiY ZvwjKv
A2: ='All Form Data'!C2 -> †mkbt b‡f¤^i 2024 - †deªæqvix 2025
A3: ='All Form Data'!C3 -> cÖwk¶Y cÖ`vbKvix cÖwZôvb t BD‡mc AvgevMvb wUwfBwU Bbw÷wUDU|
A4: ='All Form Data'!C4 -> †UªW t B‡jKwUªK¨vj BÝU‡jkb GÛ †gBb‡Ub¨vÝ
A5: Accelerating and Strengthening Skills for Economic Transformation (ASSET) cÖKí
A6: Materials Distribution Sheet
A8: Batch No: 02 | D8: Trade: Electrical Installation & Maintenance(EIM)
A9: Duration: 04.11.2024 - 04.03.2025
A11: Roll No | B11: Name of the Trainees | C11: CBLM | D11: Pencil | E11: Bag | F11: Apron / T-Shirt | G11: Eraser | H11: Binding Khata | I11: Pen | J11: Sharpner | K11: Signature of Trainee
A12: ='[1]3.Selected'!A9 -> 1 | B12: ='Attendance Sheet'!B8 -> মোহাম্মদ বাদশা | C12: 1 | D12: 1 | E12: 1 | F12: 1 | G12: 1 | H12: 1 | I12: 1 | J12: 1
A13: ='[1]3.Selected'!A10 -> 2 | B13: ='Attendance Sheet'!B9 -> #REF! | C13: 1 | D13: 1 | E13: 1 | F13: 1 | G13: 1 | H13: 1 | I13: 1 | J13: 1
A14: ='[1]3.Selected'!A11 -> 3 | B14: ='Attendance Sheet'!B10 -> জাহিদুল ইসলাম | C14: 1 | D14: 1 | E14: 1 | F14: 1 | G14: 1 | H14: 1 | I14: 1 | J14: 1
A15: ='[1]3.Selected'!A12 -> 4 | B15: ='Attendance Sheet'!B11 -> সুপন সাহা | C15: 1 | D15: 1 | E15: 1 | F15: 1 | G15: 1 | H15: 1 | I15: 1 | J15: 1
A16: ='[1]3.Selected'!A13 -> 5 | B16: ='Attendance Sheet'!B12 -> জাহিদুল ইসলাম ইমন | C16: 1 | D16: 1 | E16: 1 | F16: 1 | G16: 1 | H16: 1 | I16: 1 | J16: 1
A17: ='[1]3.Selected'!A14 -> 6 | B17: ='Attendance Sheet'!B13 -> আরমান হোসেন | C17: 1 | D17: 1 | E17: 1 | F17: 1 | G17: 1 | H17: 1 | I17: 1 | J17: 1
A18: ='[1]3.Selected'!A15 -> 7 | B18: ='Attendance Sheet'!B14 -> রবিউল ছানি | C18: 1 | D18: 1 | E18: 1 | F18: 1 | G18: 1 | H18: 1 | I18: 1 | J18: 1
A19: ='[1]3.Selected'!A16 -> 8 | B19: ='Attendance Sheet'!B15 -> আকিল রায়হান | C19: 1 | D19: 1 | E19: 1 | F19: 1 | G19: 1 | H19: 1 | I19: 1 | J19: 1
A20: ='[1]3.Selected'!A17 -> 9 | B20: ='Attendance Sheet'!B16 -> সাদমান শাহরিয়ার মাহিন | C20: 1 | D20: 1 | E20: 1 | F20: 1 | G20: 1 | H20: 1 | I20: 1 | J20: 1
A21: ='[1]3.Selected'!A18 -> 10 | B21: ='Attendance Sheet'!B17 -> #REF! | C21: 1 | D21: 1 | E21: 1 | F21: 1 | G21: 1 | H21: 1 | I21: 1 | J21: 1
A22: ='[1]3.Selected'!A19 -> 11 | B22: ='Attendance Sheet'!B18 -> #REF! | C22: 1 | D22: 1 | E22: 1 | F22: 1 | G22: 1 | H22: 1 | I22: 1 | J22: 1
A23: ='[1]3.Selected'!A20 -> 12 | B23: ='Attendance Sheet'!B19 -> রিফাত উদ্দীন | C23: 1 | D23: 1 | E23: 1 | F23: 1 | G23: 1 | H23: 1 | I23: 1 | J23: 1
... A35: ='[1]3.Selected'!A32 -> 24 | B35: ='Attendance Sheet'!B31 -> মোঃ কামরুল হাসান | C35: 1 | D35: 1 | E35: 1 | F35: 1 | G35: 1 | H35: 1 | I35: 1 | J35: 1
B36: Total | C36: =SUM(C12:C35) -> 24 | D36: =SUM(D12:D35) -> 24 | E36: =SUM(E12:E35) -> 24 | F36: =SUM(F12:F35) -> 24 | G36: =SUM(G12:G35) -> 24 | H36: =SUM(H12:H35) -> 24 | I36: =SUM(I12:I35) -> 24 | J36: =SUM(J12:J35) -> 24
A38: Particulars | C38: CBLM | D38: Pencil | E38: Bag | F38: Apron / T-Shirt | G38: Eraser | H38: Binding Khata | I38: Pen | J38: Sharpner | K38: Remarks
A39: Opening Balance | C39: Nill | D39: Nill | E39: Nill | F39: Nill | G39: Nill | H39: Nill | I39: Nill | J39: Nill
A40: Received | C40: =C36 -> 24 | D40: =D36 -> 24 | E40: =E36 -> 24 | F40: =F36 -> 24 | G40: =G36 -> 24 | H40: =H36 -> 24 | I40: =I36 -> 24 | J40: =J36 -> 24
A41: Total Distribution | C41: 24 | D41: 24 | E41: 24 | F41: 24 | G41: 24 | H41: 24 | I41: 24 | J41: 24
A42: Closing Balance | C42: =IF(C40-C41=0,"Nill",C40-C41) -> Nill | D42: =IF(D40-D41=0,"Nill",D40-D41) -> Nill | E42: =IF(E40-E41=0,"Nill",E40-E41) -> Nill | F42: =IF(F40-F41=0,"Nill",F40-F41) -> Nill | G42: =IF(G40-G41=0,"Nill",G40-G41) -> Nill | H42: =IF(H40-H41=0,"Nill",H40-H41) -> Nill | I42: =IF(I40-I41=0,"Nill",I40-I41) -> Nill | J42: =IF(J40-J41=0,"Nill",J40-J41) -> Nill
A45: Signature of Trainer | D45: Signature of Lead Trainer | J45: Head of TVET Institute

Sheet Training plan
A1: `¶Zv cÖwk¶Yv_©x‡`i cÖwk¶Y cwiKíbv
A2: ='All Form Data'!C2 -> †mkbt b‡f¤^i 2024 - †deªæqvix 2025
A3: ='All Form Data'!C3 -> cÖwk¶Y cÖ`vbKvix cÖwZôvb t BD‡mc AvgevMvb wUwfBwU Bbw÷wUDU|
A4: ='All Form Data'!C4 -> †UªW t B‡jKwUªK¨vj BÝU‡jkb GÛ †gBb‡Ub¨vÝ
A5: Accelerating and Strengthening Skills for Economic Transformation (ASSET) cÖKí
A7: Duration: 04 November'2024 - 04 March'2025
A9: Day | B9: Date | C9: Remarks | D9: Day | E9: Date | F9: Remarks
A10: Day-01 | B10: 45600 | D10: Day-45 | E10: 45658
A11: Day-02 | B11: 45601 | D11: Day-46 | E11: 45659
A12: Day-03 | B12: 45602 | D12: Day-47 | E12: 45662
A13: Day-04 | B13: 45603 | D13: Day-48 | E13: 45663
A14: Day-05 | B14: 45605 | D14: Day-49 | E14: 45664
A15: Day-06 | B15: 45606 | D15: Day-50 | E15: 45665
A16: Day-07 | B16: 45607 | D16: Day-51 | E16: 45666
A17: Day-08 | B17: 45608 | D17: Day-52 | E17: 45669
A18: Day-09 | B18: 45609 | D18: Day-53 | E18: 45670
A19: Day-10 | B19: 45610 | D19: Day-54 | E19: 45671
A20: Day-11 | B20: 45612 | D20: Day-55 | E20: 45672
A21: Day-12 | B21: 45613 | D21: Day-56 | E21: 45673
... A53: Day-44 | B53: 45657 | D53: Day-88 | E53: 45720
A54: wjW †UªBbvi, wUwfBwU GÛ w¯‹jm | E54: †nW Ae wUwfBwU BÝwUwUDU

Sheet Class Routine
A1: cÖwk¶Yv_©x‡`i K¬vm iywUb
A2: ='All Form Data'!C2 -> †mkbt b‡f¤^i 2024 - †deªæqvix 2025
A3: ='All Form Data'!C3 -> cÖwk¶Y cÖ`vbKvix cÖwZôvb t BD‡mc AvgevMvb wUwfBwU Bbw÷wUDU|
A4: ='All Form Data'!C4 -> †UªW t B‡jKwUªK¨vj BÝU‡jkb GÛ †gBb‡Ub¨vÝ
A5: Accelerating and Strengthening Skills for Economic Transformation (ASSET) cÖKí
A7: Class Start: 01:00 PM | F7: Class End: 05:00 PM | H7: Duration: 04 Hours | K7: Total Classes: 88
A8: Batch:02 | F8: Trade: Electrical Installation and Maintenance | K8: Room No: 301
A10: SL | B10: Date/Day | C10: From | D10: To | E10: T/P | F10: Topic of class | G10: SL | H10: Date/Day | I10: From | J10: To | K10: T/P | L10: Topic of class
A11: 01 | B11: =Date!B2 -> 45600 | C11: 0.54166667 | D11: 0.57291667 | E11: T | F11: Apply Occupational Safety and Health (OSH) Procedure in the Workplace | G11: 14 | H11: =Date!B28 -> 45615 | I11: 0.54166667 | J11: 0.57291667 | K11: T | L11: Work in a team environment
B12: =Date!B3 -> Monday | C12: 0.57291667 | D12: 0.70833333 | E12: P | H12: =Date!B29 -> Tuesday | I12: 0.57291667 | J12: 0.70833333 | K12: P
A13: 02 | B13: =Date!B4 -> 45601 | C13: 0.54166667 | D13: 0.57291667 | E13: T | F13: Apply Occupational Safety and Health (OSH) Procedure in the Workplace | G13: 15 | H13: =Date!B30 -> 45616 | I13: 0.54166667 | J13: 0.57291667 | K13: T | L13: Work in a team environment
B14: =Date!B5 -> Tuesday | C14: 0.57291667 | D14: 0.70833333 | E14: P | H14: =Date!B31 -> Wednesday | I14: 0.57291667 | J14: 0.70833333 | K14: P
A15: 03 | B15: =Date!B6 -> 45602 | C15: 0.54166667 | D15: 0.57291667 | E15: T | F15: Apply Occupational Safety and Health (OSH) Procedure in the Workplace | G15: 16 | H15: =Date!B32 -> 45617 | I15: 0.54166667 | J15: 0.57291667 | K15: T | L15: Work in a team environment
B16: =Date!B7 -> Wednesday | C16: 0.57291667 | D16: 0.70833333 | E16: P | H16: =Date!B33 -> Thursday | I16: 0.57291667 | J16: 0.70833333 | K16: P
A17: 04 | B17: =Date!B8 -> 45603 | C17: 0.54166667 | D17: 0.57291667 | E17: T | F17: Apply Occupational Safety and Health (OSH) Procedure in the Workplace | G17: 17 | H17: =Date!B34 -> 45619 | I17: 0.54166667 | J17: 0.57291667 | K17: T | L17: Work in the Construction Sector
B18: =Date!B9 -> Thursday | C18: 0.57291667 | D18: 0.70833333 | E18: P | H18: =Date!B35 -> Saturday | I18: 0.57291667 | J18: 0.70833333 | K18: P
A19: 05 | B19: =Date!B10 -> 45605 | C19: 0.54166667 | D19: 0.57291667 | E19: T | F19: Communicate in the workplace | G19: 18 | H19: =Date!B36 -> 45620 | I19: 0.54166667 | J19: 0.57291667 | K19: T | L19: Work in the Construction Sector
B20: =Date!B11 -> Saturday | C20: 0.57291667 | D20: 0.70833333 | E20: P | H20: =Date!B37 -> Sunday | I20: 0.57291667 | J20: 0.70833333 | K20: P
A21: 06 | B21: =Date!B12 -> 45606 | C21: 0.54166667 | D21: 0.57291667 | E21: T | F21: Communicate in the workplace | G21: 19 | H21: =Date!B38 -> 45621 | I21: 0.54166667 | J21: 0.57291667 | K21: T | L21: Work in the Construction Sector
B22: =Date!B13 -> Sunday | C22: 0.57291667 | D22: 0.70833333 | E22: P | H22: =Date!B39 -> Monday | I22: 0.57291667 | J22: 0.70833333 | K22: P
A23: 07 | B23: =Date!B14 -> 45607 | C23: 0.54166667 | D23: 0.57291667 | E23: T | F23: Communicate in the workplace | G23: 20 | H23: =Date!B40 -> 45622 | I23: 0.54166667 | J23: 0.57291667 | K23: T | L23: Work in the Construction Sector
B24: =Date!B15 -> Monday | C24: 0.57291667 | D24: 0.70833333 | E24: P | H24: =Date!B41 -> Tuesday | I24: 0.57291667 | J24: 0.70833333 | K24: P
A25: 08 | B25: =Date!B16 -> 45608 | C25: 0.54166667 | D25: 0.57291667 | E25: T | F25: Communicate in the workplace | G25: 21 | H25: =Date!B42 -> 45623 | I25: 0.54166667 | J25: 0.57291667 | K25: T | L25: Work in the Construction Sector
B26: =Date!B17 -> Tuesday | C26: 0.57291667 | D26: 0.70833333 | E26: P | H26: =Date!B43 -> Wednesday | I26: 0.57291667 | J26: 0.70833333 | K26: P
A27: 09 | B27: =Date!B18 -> 45609 | C27: 0.54166667 | D27: 0.57291667 | E27: T | F27: Communicate in the workplace | G27: 22 | H27: =Date!B44 -> 45624 | I27: 0.54166667 | J27: 0.57291667 | K27: T | L27: Interpret Drawings and Specifications in Construction Manuals
B28: =Date!B19 -> Wednesday | C28: 0.57291667 | D28: 0.70833333 | E28: P | H28: =Date!B45 -> Thursday | I28: 0.57291667 | J28: 0.70833333 | K28: P
A29: 10 | B29: =Date!B20 -> 45610 | C29: 0.54166667 | D29: 0.57291667 | E29: T | F29: Communicate in the workplace | G29: 23 | H29: =Date!B46 -> 45626 | I29: 0.54166667 | J29: 0.57291667 | K29: T | L29: Interpret Drawings and Specifications in Construction Manuals
B30: =Date!B21 -> Thursday | C30: 0.57291667 | D30: 0.70833333 | E30: P | H30: =Date!B47 -> Saturday | I30: 0.57291667 | J30: 0.70833333 | K30: P
A31: 11 | B31: =Date!B22 -> 45612 | C31: 0.54166667 | D31: 0.57291667 | E31: T | F31: Communicate in the workplace | G31: 24 | H31: =Date!B48 -> 45627 | I31: 0.54166667 | J31: 0.57291667 | K31: T | L31: Interpret Drawings and Specifications in Construction Manuals
B32: =Date!B23 -> Saturday | C32: 0.57291667 | D32: 0.70833333 | E32: P | H32: =Date!B49 -> Sunday | I32: 0.57291667 | J32: 0.70833333 | K32: P
A33: 12 | B33: =Date!B24 -> 45613 | C33: 0.54166667 | D33: 0.57291667 | E33: T | F33: Work in a team environment | G33: 25 | H33: =Date!B50 -> 45628 | I33: 0.54166667 | J33: 0.57291667 | K33: T | L33: Interpret Drawings and Specifications in Construction Manuals
B34: =Date!B25 -> Sunday | C34: 0.57291667 | D34: 0.70833333 | E34: P | H34: =Date!B51 -> Monday | I34: 0.57291667 | J34: 0.70833333 | K34: P
A35: 13 | B35: =Date!B26 -> 45614 | C35: 0.54166667 | D35: 0.57291667 | E35: T | F35: Work in a team environment | G35: 26 | H35: =Date!B52 -> 45629 | I35: 0.54166667 | J35: 0.57291667 | K35: T | L35: Interpret Drawings and Specifications in Construction Manuals
B36: =Date!B27 -> Monday | C36: 0.57291667 | D36: 0.70833333 | E36: P | H36: =Date!B53 -> Tuesday | I36: 0.57291667 | J36: 0.70833333 | K36: P
A37: 27 | B37: =Date!B54 -> 45630 | C37: 0.54166667 | D37: 0.57291667 | E37: T | F37: Use Hand Tools and Power Tools | G37: 44 | H37: =Date!B88 -> 45657 | I37: 0.54166667 | J37: 0.57291667 | K37: T | L37: Perform Installation of Electrical Circuit
B38: =Date!B55 -> Wednesday | C38: 0.57291667 | D38: 0.70833333 | E38: P | H38: =Date!B89 -> Tuesday | I38: 0.57291667 | J38: 0.70833333 | K38: P
A39: 28 | B39: =Date!B56 -> 45631 | C39: 0.54166667 | D39: 0.57291667 | E39: T | F39: Use Hand Tools and Power Tools | G39: 45 | H39: =Date!B90 -> 45658 | I39: 0.54166667 | J39: 0.57291667 | K39: T | L39: Perform Installation of Electrical Circuit
B40: =Date!B57 -> Thursday | C40: 0.57291667 | D40: 0.70833333 | E40: P | H40: =Date!B91 -> Wednesday | I40: 0.57291667 | J40: 0.70833333 | K40: P
A41: 29 | B41: =Date!B58 -> 45633 | C41: 0.54166667 | D41: 0.57291667 | E41: T | F41: Use Hand Tools and Power Tools | G41: 46 | H41: =Date!B92 -> 45659 | I41: 0.54166667 | J41: 0.57291667 | K41: T | L41: Perform Installation of Electrical Circuit
B42: =Date!B59 -> Saturday | C42: 0.57291667 | D42: 0.70833333 | E42: P | H42: =Date!B93 -> Thursday | I42: 0.57291667 | J42: 0.70833333 | K42: P
A43: 30 | B43: =Date!B60 -> 45634 | C43: 0.54166667 | D43: 0.57291667 | E43: T | F43: Use Hand Tools and Power Tools | G43: 47 | H43: =Date!B94 -> 45662 | I43: 0.54166667 | J43: 0.57291667 | K43: T | L43: Perform Installation of Electrical Circuit
B44: =Date!B61 -> Sunday | C44: 0.57291667 | D44: 0.70833333 | E44: P | H44: =Date!B95 -> Sunday | I44: 0.57291667 | J44: 0.70833333 | K44: P
A45: 31 | B45: =Date!B62 -> 45635 | C45: 0.54166667 | D45: 0.57291667 | E45: T | F45: Use Hand Tools and Power Tools | G45: 48 | H45: =Date!B96 -> 45663 | I45: 0.54166667 | J45: 0.57291667 | K45: T | L45: Perform Installation of Electrical Circuit
B46: =Date!B63 -> Monday | C46: 0.57291667 | D46: 0.70833333 | E46: P | H46: =Date!B97 -> Monday | I46: 0.57291667 | J46: 0.70833333 | K46: P
A47: 32 | B47: =Date!B64 -> 45636 | C47: 0.54166667 | D47: 0.57291667 | E47: T | F47: Apply Fundamentals Skills for Electrical Works | G47: 49 | H47: =Date!B98 -> 45664 | I47: 0.54166667 | J47: 0.57291667 | K47: T | L47: Perform Installation of Electrical Circuit
B48: =Date!B65 -> Tuesday | C48: 0.57291667 | D48: 0.70833333 | E48: P | H48: =Date!B99 -> Tuesday | I48: 0.57291667 | J48: 0.70833333 | K48: P
A49: 33 | B49: =Date!B66 -> 45637 | C49: 0.54166667 | D49: 0.57291667 | E49: T | F49: Apply Fundamentals Skills for Electrical Works | G49: 50 | H49: =Date!B100 -> 45665 | I49: 0.54166667 | J49: 0.57291667 | K49: T | L49: Perform Installation of Electrical Circuit
B50: =Date!B67 -> Wednesday | C50: 0.57291667 | D50: 0.70833333 | E50: P | H50: =Date!B101 -> Wednesday | I50: 0.57291667 | J50: 0.70833333 | K50: P
A51: 34 | B51: =Date!B68 -> 45638 | C51: 0.54166667 | D51: 0.57291667 | E51: T | F51: Apply Fundamentals Skills for Electrical Works | G51: 51 | H51: =Date!B102 -> 45666 | I51: 0.54166667 | J51: 0.57291667 | K51: T | L51: Perform Installation of Electrical Circuit
B52: =Date!B69 -> Thursday | C52: 0.57291667 | D52: 0.70833333 | E52: P | H52: =Date!B103 -> Thursday | I52: 0.57291667 | J52: 0.70833333 | K52: P
A53: 35 | B53: =Date!B70 -> 45641 | C53: 0.54166667 | D53: 0.57291667 | E53: T | F53: Apply Fundamentals Skills for Electrical Works | G53: 52 | H53: =Date!B104 -> 45669 | I53: 0.54166667 | J53: 0.57291667 | K53: T | L53: Perform Installation of Electrical Circuit
B54: =Date!B71 -> Sunday | C54: 0.57291667 | D54: 0.70833333 | E54: P | H54: =Date!B105 -> Sunday | I54: 0.57291667 | J54: 0.70833333 | K54: P
A55: 36 | B55: =Date!B72 -> 45643 | C55: 0.54166667 | D55: 0.57291667 | E55: T | F55: Apply Fundamentals Skills for Electrical Works | G55: 53 | H55: =Date!B106 -> 45670 | I55: 0.54166667 | J55: 0.57291667 | K55: T | L55: Perform Installation of Electrical Circuit
B56: =Date!B73 -> Tuesday | C56: 0.57291667 | D56: 0.70833333 | E56: P | H56: =Date!B107 -> Monday | I56: 0.57291667 | J56: 0.70833333 | K56: P
A57: 37 | B57: =Date!B74 -> 45644 | C57: 0.54166667 | D57: 0.57291667 | E57: T | F57: Perform Wire and Cable Joints | G57: 54 | H57: =Date!B108 -> 45671 | I57: 0.54166667 | J57: 0.57291667 | K57: T | L57: Perform Installation of Electrical Circuit
B58: =Date!B75 -> Wednesday | C58: 0.57291667 | D58: 0.70833333 | E58: P | H58: =Date!B109 -> Tuesday | I58: 0.57291667 | J58: 0.70833333 | K58: P
A59: 38 | B59: =Date!B76 -> 45645 | C59: 0.54166667 | D59: 0.57291667 | E59: T | F59: Perform Wire and Cable Joints | G59: 55 | H59: =Date!B110 -> 45672 | I59: 0.54166667 | J59: 0.57291667 | K59: T | L59: Perform Channel Wiring
B60: =Date!B77 -> Thursday | C60: 0.57291667 | D60: 0.70833333 | E60: P | H60: =Date!B111 -> Wednesday | I60: 0.57291667 | J60: 0.70833333 | K60: P
A61: 39 | B61: =Date!B78 -> 45648 | C61: 0.54166667 | D61: 0.57291667 | E61: T | F61: Perform Wire and Cable Joints | G61: 56 | H61: =Date!B112 -> 45673 | I61: 0.54166667 | J61: 0.57291667 | K61: T | L61: Perform Channel Wiring
B62: =Date!B79 -> Sunday | C62: 0.57291667 | D62: 0.70833333 | E62: P | H62: =Date!B113 -> Thursday | I62: 0.57291667 | J62: 0.70833333 | K62: P
A63: 40 | B63: =Date!B80 -> 45649 | C63: 0.54166667 | D63: 0.57291667 | E63: T | F63: Perform Wire and Cable Joints | G63: 57 | H63: =Date!B114 -> 45676 | I63: 0.54166667 | J63: 0.57291667 | K63: T | L63: Perform Channel Wiring
B64: =Date!B81 -> Monday | C64: 0.57291667 | D64: 0.70833333 | E64: P | H64: =Date!B115 -> Sunday | I64: 0.57291667 | J64: 0.70833333 | K64: P
A65: 41 | B65: =Date!B82 -> 45650 | C65: 0.54166667 | D65: 0.57291667 | E65: T | F65: Perform Wire and Cable Joints | G65: 58 | H65: =Date!B116 -> 45677 | I65: 0.54166667 | J65: 0.57291667 | K65: T | L65: Perform Channel Wiring
B66: =Date!B83 -> Tuesday | C66: 0.57291667 | D66: 0.70833333 | E66: P | H66: =Date!B117 -> Monday | I66: 0.57291667 | J66: 0.70833333 | K66: P
A67: 42 | B67: =Date!B84 -> 45655 | C67: 0.54166667 | D67: 0.57291667 | E67: T | F67: Perform Installation of Electrical Circuit | G67: 59 | H67: =Date!B118 -> 45678 | I67: 0.54166667 | J67: 0.57291667 | K67: T | L67: Perform Channel Wiring
B68: =Date!B85 -> Sunday | C68: 0.57291667 | D68: 0.70833333 | E68: P | H68: =Date!B119 -> Tuesday | I68: 0.57291667 | J68: 0.70833333 | K68: P
A69: 43 | B69: =Date!B86 -> 45656 | C69: 0.54166667 | D69: 0.57291667 | E69: T | F69: Perform Installation of Electrical Circuit | G69: 60 | H69: =Date!B120 -> 45679 | I69: 0.54166667 | J69: 0.57291667 | K69: T | L69: Perform Channel Wiring
B70: =Date!B87 -> Monday | C70: 0.57291667 | D70: 0.70833333 | E70: P | H70: =Date!B121 -> Wednesday | I70: 0.57291667 | J70: 0.70833333 | K70: P
A71: 61 | B71: =Date!B122 -> 45680 | C71: 0.54166667 | D71: 0.57291667 | E71: T | F71: Perform Channel Wiring | G71: 75 | H71: =Date!B150 -> 45700 | I71: 0.54166667 | J71: 0.57291667 | K71: T | L71: Perform Conduit Wiring
B72: =Date!B123 -> Thursday | C72: 0.57291667 | D72: 0.70833333 | E72: P | H72: =Date!B151 -> Wednesday | I72: 0.57291667 | J72: 0.70833333 | K72: P
A73: 62 | B73: =Date!B124 -> 45683 | C73: 0.54166667 | D73: 0.57291667 | E73: T | F73: Perform Channel Wiring | G73: 76 | H73: =Date!B152 -> 45701 | I73: 0.54166667 | J73: 0.57291667 | K73: T | L73: Perform Conduit Wiring
B74: =Date!B125 -> Sunday | C74: 0.57291667 | D74: 0.70833333 | E74: P | H74: =Date!B153 -> Thursday | I74: 0.57291667 | J74: 0.70833333 | K74: P
A75: 63 | B75: =Date!B126 -> 45684 | C75: 0.54166667 | D75: 0.57291667 | E75: T | F75: Perform Channel Wiring | G75: 77 | H75: =Date!B154 -> 45704 | I75: 0.54166667 | J75: 0.57291667 | K75: T | L75: Perform Conduit Wiring
B76: =Date!B127 -> Monday | C76: 0.57291667 | D76: 0.70833333 | E76: P | H76: =Date!B155 -> Sunday | I76: 0.57291667 | J76: 0.70833333 | K76: P
A77: 64 | B77: =Date!B128 -> 45685 | C77: 0.54166667 | D77: 0.57291667 | E77: T | F77: Perform Channel Wiring | G77: 78 | H77: =Date!B156 -> 45705 | I77: 0.54166667 | J77: 0.57291667 | K77: T | L77: Perform Conduit Wiring
B78: =Date!B129 -> Tuesday | C78: 0.57291667 | D78: 0.70833333 | E78: P | H78: =Date!B157 -> Monday | I78: 0.57291667 | J78: 0.70833333 | K78: P
A79: 65 | B79: =Date!B130 -> 45686 | C79: 0.54166667 | D79: 0.57291667 | E79: T | F79: Perform Channel Wiring | G79: 79 | H79: =Date!B158 -> 45706 | I79: 0.54166667 | J79: 0.57291667 | K79: T | L79: Perform Conduit Wiring
B80: =Date!B131 -> Wednesday | C80: 0.57291667 | D80: 0.70833333 | E80: P | H80: =Date!B159 -> Tuesday | I80: 0.57291667 | J80: 0.70833333 | K80: P
A81: 66 | B81: =Date!B132 -> 45687 | C81: 0.54166667 | D81: 0.57291667 | E81: T | F81: Perform Channel Wiring | G81: 80 | H81: =Date!B160 -> 45707 | I81: 0.54166667 | J81: 0.57291667 | K81: T | L81: Perform Conduit Wiring
B82: =Date!B133 -> Thursday | C82: 0.57291667 | D82: 0.70833333 | E82: P | H82: =Date!B161 -> Wednesday | I82: 0.57291667 | J82: 0.70833333 | K82: P
A83: 67 | B83: =Date!B134 -> 45690 | C83: 0.54166667 | D83: 0.57291667 | E83: T | F83: Perform Channel Wiring | G83: 81 | H83: =Date!B162 -> 45708 | I83: 0.54166667 | J83: 0.57291667 | K83: T | L83: Perform Conduit Wiring
B84: =Date!B135 -> Sunday | C84: 0.57291667 | D84: 0.70833333 | E84: P | H84: =Date!B163 -> Thursday | I84: 0.57291667 | J84: 0.70833333 | K84: P
A85: 68 | B85: =Date!B136 -> 45691 | C85: 0.54166667 | D85: 0.57291667 | E85: T | F85: Perform Channel Wiring | G85: 82 | H85: =Date!B164 -> 45711 | I85: 0.54166667 | J85: 0.57291667 | K85: T | L85: Perform Conduit Wiring
B86: =Date!B137 -> Monday | C86: 0.57291667 | D86: 0.70833333 | E86: P | H86: =Date!B165 -> Sunday | I86: 0.57291667 | J86: 0.70833333 | K86: P
A87: 69 | B87: =Date!B138 -> 45692 | C87: 0.54166667 | D87: 0.57291667 | E87: T | F87: Perform Channel Wiring | G87: 83 | H87: =Date!B166 -> 45712 | I87: 0.54166667 | J87: 0.57291667 | K87: T | L87: Perform Conduit Wiring
B88: =Date!B139 -> Tuesday | C88: 0.57291667 | D88: 0.70833333 | E88: P | H88: =Date!B167 -> Monday | I88: 0.57291667 | J88: 0.70833333 | K88: P
A89: 70 | B89: =Date!B140 -> 45693 | C89: 0.54166667 | D89: 0.57291667 | E89: T | F89: Perform Channel Wiring | G89: 84 | H89: =Date!B168 -> 45713 | I89: 0.54166667 | J89: 0.57291667 | K89: T | L89: Perform Conduit Wiring
B90: =Date!B141 -> Wednesday | C90: 0.57291667 | D90: 0.70833333 | E90: P | H90: =Date!B169 -> Tuesday | I90: 0.57291667 | J90: 0.70833333 | K90: P
A91: 71 | B91: =Date!B142 -> 45694 | C91: 0.54166667 | D91: 0.57291667 | E91: T | F91: Perform Channel Wiring | G91: 85 | H91: =Date!B170 -> 45715 | I91: 0.54166667 | J91: 0.57291667 | K91: T | L91: Perform Conduit Wiring
B92: =Date!B143 -> Thursday | C92: 0.57291667 | D92: 0.70833333 | E92: P | H92: =Date!B171 -> Thursday | I92: 0.57291667 | J92: 0.70833333 | K92: P
A93: 72 | B93: =Date!B144 -> 45697 | C93: 0.54166667 | D93: 0.57291667 | E93: T | F93: Perform Conduit Wiring | G93: 86 | H93: =Date!B172 -> 45718 | I93: 0.54166667 | J93: 0.57291667 | K93: T | L93: Perform Conduit Wiring
B94: =Date!B145 -> Sunday | C94: 0.57291667 | D94: 0.70833333 | E94: P | H94: =Date!B173 -> Sunday | I94: 0.57291667 | J94: 0.70833333 | K94: P
A95: 73 | B95: =Date!B146 -> 45698 | C95: 0.54166667 | D95: 0.57291667 | E95: T | F95: Perform Conduit Wiring | G95: 87 | H95: =Date!B174 -> 45719 | I95: 0.54166667 | J95: 0.57291667 | K95: T | L95: Perform Conduit Wiring
B96: =Date!B147 -> Monday | C96: 0.57291667 | D96: 0.70833333 | E96: P | H96: =Date!B175 -> Monday | I96: 0.57291667 | J96: 0.70833333 | K96: P
A97: 74 | B97: =Date!B148 -> 45699 | C97: 0.54166667 | D97: 0.57291667 | E97: T | F97: Perform Conduit Wiring | G97: 88 | H97: =Date!B176 -> 45720 | I97: 0.54166667 | J97: 0.57291667 | K97: T | L97: Perform Conduit Wiring
B98: =Date!B149 -> Tuesday | C98: 0.57291667 | D98: 0.70833333 | E98: P | H98: =Date!B177 -> Tuesday | I98: 0.57291667 | J98: 0.70833333 | K98: P
A100: Trainer | E100: Lead trainer,TVET & Skills | K100: Head of TVET Institute

Sheet Lesson plan
A1: cÖwk¶Yv_©x‡`i cvV cwiKíbv
A2: ='All Form Data'!C2 -> †mkbt b‡f¤^i 2024 - †deªæqvix 2025
A3: ='All Form Data'!C3 -> cÖwk¶Y cÖ`vbKvix cÖwZôvb t BD‡mc AvgevMvb wUwfBwU Bbw÷wUDU|
A4: ='All Form Data'!C4 -> †UªW t B‡jKwUªK¨vj BÝU‡jkb GÛ †gBb‡Ub¨vÝ
A5: Accelerating and Strengthening Skills for Economic Transformation (ASSET) cÖKí
A7: A. Generic Competencies
A9: Unit Of Competency: Apply Occupational Safety and Health (OSH) Procedure in the Workplace | D9: Code: GU002L2V1
A10: Elements of Competency: Identify OSH policies and procedure. Follow OSH procedure. Report hazards and risks. Respond to emergencies. Maintain personal well-being | D10: Trainer Name: Snehasish Biswas
A12: Relevant Performance of Criteria | B12: Discussion & Demonstration | C12: Training Day | D12: Date | E12: Class Hours | F12: Total Duration
A13: 1.1. OHS policies and safe operating procedures are accessed and stated. 1.2. Safety signs and symbols are identified and followed. 1.3. Emergency response, evacuation procedures and other contingency measures are determined according to workplace requirements. 2.1.Personal protective eguipment (PPE) is selected and collected as required. 2.2. Personal protective equipment (PPE) is correctly used in accordance with organization OHS procedures and practices. 2.3. A clear and tidy workplace is maintained as per workplace standard. 2.4. PPE is maintained to keep them operational and compliant with OHS reaulations. 3.1 Hazards and risks are identified, assessed and controlled. 3.2 Incidents arising from hazards and risks are reported to designated authority. 4.1 Alarms and warning devices are responded. 4.2 Workplace emergency procedures are followed. 4.3 Contingency measures during workplace accidents, fire and other emergencies are recognized and followed in accordance with organization procedures. 4.4 Frist aid procedures is applied durinq emerqency situations. 5.1 OHS policies and procedures are adhered to. 5.2 OHS awareness programs are participated in as per workplace guidelines and procedures. 5.3 Corrective actions are implemented to correct unsafe condition in the workplace. 5.4 "Fit to work" records are updated and maintained according to workplace requirements. | B13: The trainer will demonstrate the procedures in addressing the activities to be undertaken in the CBLM on Apply OSH practices in the Workshop. | C13: Day - 01 | D13: ='Training plan'!B10 -> 45600 | E13: 4 Hours | F13: 16 Hours
C14: Day - 02 | D14: ='Training plan'!B11 -> 45601 | E14: 4 Hours
C15: Day - 03 | D15: ='Training plan'!B12 -> 45602 | E15: 4 Hours
C16: Day - 04 | D16: ='Training plan'!B13 -> 45603 | E16: 4 Hours
A17: Unit Of Competency: Communicate in the Workplace | D17: Code: GU012L2V1
A18: Elements of Competency: Receive verbal instructions. Interpret verbal and written information/ instruction. Convey instructions using verbal and written forms of communication. Complete written documentation. Participate in work place meetings and discussions. | D18: Trainer Name: Snehasish Biswas
A20: Relevant Performance of Criteria | B20: Discussion & Demonstration | C20: Training Day | D20: Date | E20: Class Hours | F20: Total Duration
A21: 1.1 Instructions are accessed and interpreted 1.2 Questions are asked to clarify understanding or gain more information. 1.3 Information/instruction is recorded. 2.1 Written instructions are interpreted. 2.2 Work signage's are properly responded. 2.3 Routine written instructions are followed in sequence. 2.4 Feedback is given to workplace supervisor. 3.1 Relevant communication methods are used to transmit instructions. 3.2 Appropriate non-verbal communication is used. 3.3 Channels of communication are identified and followed 3.4 Communication tools and equipment are operated and faults are identified and reported. 3.5 Information is conveyed using appropriate forms. 4.1 All required documentation is completed 4.2 Workplace data are recorded 4.3 Written information/instruction is passed to personnel. 5.1 Meetings are attended regularly and on time. 5.2 Meeting inputs are consistent with the meeting purpose and established protocols. 5.3 Opinions are expressed without interruption. 5.4 Meeting outputs are processed and implemented. | B21: The trainer will demonstrate the procedures in addressing the activities to be undertaken in the CBLM on Communicate in the Workplace | C21: Day - 05 | D21: ='Training plan'!B14 -> 45605 | E21: 4 Hours | F21: 28 Hours
C22: Day - 06 | D22: ='Training plan'!B15 -> 45606 | E22: 4 Hours
C23: Day - 07 | D23: ='Training plan'!B16 -> 45607 | E23: 4 Hours
C24: Day - 08 | D24: ='Training plan'!B17 -> 45608 | E24: 4 Hours
C25: Day - 09 | D25: ='Training plan'!B18 -> 45609 | E25: 4 Hours
C26: Day - 10 | D26: ='Training plan'!B19 -> 45610 | E26: 4 Hours
C27: Day - 11 | D27: ='Training plan'!B20 -> 45612 | E27: 4 Hours
A28: Unit Of Competency: Work in a team environment | D28: Code: GU003L2V1
A29: Elements of Competency: Define team role and scope. Identify individual role and responsibility. Participate in team discussions. Work as a team member. | D29: Trainer Name: Snehasish Biswas
A31: Relevant Performance of Criteria | B31: Discussion & Demonstration | C31: Training Day | D31: Date | E31: Class Hours | F31: Total Duration
A32: 1.1. Role and objectives of the team are defined. 1.2. Team structure, responsibilities and reporting relations are identified from team discussions and other external sources. 2.1 Individual roles and responsibilities of team members are identified. 2.2 Reporting relationships among team members are defined and clarified. 2.3 Reporting relationships external to the team are defined and clarified. 3.1 Ideas related to team plans are contributed. 3.2 Recommendations for improving team work are put forward. 4.1. Effective forms of communication are used to interact with team members. 4.2. Communication channels are followed. 4.3. OHS practices are followed. | B32: The trainer will demonstrate the procedures in addressing the activities to be undertaken in the CBLM on Work in a team environment | C32: Day - 12 | D32: ='Training plan'!B21 -> 45613 | E32: 4 Hours | F32: 20 Hours
C33: Day - 13 | D33: ='Training plan'!B22 -> 45614 | E33: 4 Hours
C34: Day - 14 | D34: ='Training plan'!B23 -> 45615 | E34: 4 Hours
C35: Day - 15 | D35: ='Training plan'!B24 -> 45616 | E35: 4 Hours
C36: Day - 16 | D36: ='Training plan'!B25 -> 45617 | E36: 4 Hours
A37: B. Sector Specific Competencies
A39: Unit Of Competency: Work in the Construction Sector | D39: Code: SUCS001L2V1
A40: Elements of Competency: Describe the organizational structure within the sector. Identify processes and procedures. Identify tools, equipment and materials. Identify workplace requirements. Organize own workload. Practice OHS. | D40: Trainer Name: Snehasish Biswas
A42: Relevant Performance of Criteria | B42: Discussion & Demonstration | C42: Training Day | D42: Date | E42: Class Hours | F42: Total Duration
A43: 1.1. OHS policies and safe operating procedures are accessed and stated. 1.2. Safety signs and symbols are identified and followed. 1.3. Emergency response, evacuation procedures and other contingency measures are determined according to workplace requirements. 2.1.Personal protective eguipment (PPE) is selected and collected as required. 1.1 Scope, nature and major fields of the construction sector are determined 1.2 The profile of the construction sector in relation to Bangladesh employment conditions is determined 1.3 Trends and technologies relevant to the sector are explained. 1.4 Relevant policies and guidelines are identified and interpreted. 1.5 Instructions as to procedures in achieving quality are obtained, understood and clarified. 2.1 Construction processes are identified and described. 2.2 Work activities are identified. 2.3 Adjustments are interpreted. 3.1 Appropriate manuals are accessed to ensure up-to-date specifications of tools, materials and equipment. 3.2 Construction tools1 materials and eguipment are identified. 3.3 Substitutes are identified in case of non-availability. 4.1 Workplace reguirements are identified and clarified. 4.2 Roles and responsibilities of all personnel are described. 4.3 Workplace's practices are identified. 4.4 Problem-solving strategies are used to address bottlenecks, inconsistencies and other concerns. 5.1 Own work activities are planned and progress of work is communicated to relevant staff. 5.2 Work activities are completed. 5.3 Difficulties and bottlenecks are identified, and solutions are put forwarded. 5.4 Own work is monitored against workplace standards and areas for improvement identified and acted upon. 6.1. Relevant OHS practices are identified. 6.2. Relevant OHS practices are interpreted and implemented. | B43: The trainer will demonstrate the procedures in addressing the activities to be undertaken in the CBLM on Work in the Construction Sector | C43: Day - 17 | D43: ='Training plan'!B26 -> 45619 | E43: 4 Hours | F43: 20 Hours
C44: Day - 18 | D44: ='Training plan'!B27 -> 45620 | E44: 4 Hours
C45: Day - 19 | D45: ='Training plan'!B28 -> 45621 | E45: 4 Hours
C46: Day - 20 | D46: ='Training plan'!B29 -> 45622 | E46: 4 Hours
C47: Day - 21 | D47: ='Training plan'!B30 -> 45623 | E47: 4 Hours
A48: Unit Of Competency: Interpret Drawings and Specifications in Construction Manuals | D48: Code: SUCS002L2V1
A49: Elements of Competency: Identify information from manuals. Interpret drawings and specifications. Store manuals. | D49: Trainer Name: Snehasish Biswas
A51: Relevant Performance of Criteria | B51: Discussion & Demonstration | C51: Training Day | D51: Date | E51: Class Hours | F51: Total Duration
A52: 1.1 Appropriate manuals are identified and accessed. 1.2 Version and date of the manual are checked to ensure up- to-date specifications of tools, equipment, materials and procedures. 2.1 Relevant drawings and specifications are correctly identified. 2.2 Terms and abbreviations are identified. 2.3 Sians and svmbols are identified 3.1 Drawings and specifications are interpreted. 3.2 Schedules, dimensions and specifications contained in the drawings are interpreted. 4.1. Documents are collected and packed. 4.2. Documents are stored to prevent damage, and ready access and updating of information when required. | B52: The trainer will demonstrate the procedures in addressing the activities to be undertaken in the CBLM on Interpret Drawings and Specifications in Construction Manuals | C52: Day - 22 | D52: ='Training plan'!B31 -> 45624 | E52: 4 Hours | F52: 20 Hours
C53: Day - 23 | D53: ='Training plan'!B32 -> 45626 | E53: 4 Hours
C54: Day - 24 | D54: ='Training plan'!B33 -> 45627 | E54: 4 Hours
C55: Day - 25 | D55: ='Training plan'!B34 -> 45628 | E55: 4 Hours
C56: Day - 26 | D56: ='Training plan'!B35 -> 45629 | E56: 4 Hours
A57: C. Occupation Specific Competencies
A59: Unit Of Competency: Use hand tools and power tools | D59: Code: OUEIM001L2V1
A60: Elements of Competency: Practice OHS. Identify tools. Use hand tools. Use power tools. Perform basic preventive maintenance.Clean and store tools | D60: Trainer Name: Snehasish Biswas
A62: Relevant Performance of Criteria | B62: Discussion & Demonstration | C62: Training Day | D62: Date | E62: Class Hours | F62: Total Duration
A63: 1.1 PPE are used 1.2 Devices to suppress dust are used as required 1.3 Safety requirements are being adhered to before, during and after use 1.4 Accidents and emergency cases are reported 1.5 The workplace is cleaned and cleared of debris and unwanted materials 2.1 Appropriate tools are selected 2.2 Applications of tools are defined 2.3 Hand tools and power tools are prepared 2.4 Sources of power supply for power tools recognized 3.1 Appropriate tool is used as required 3.2 Proper hand-eye coordination is applied in the use of hand tools 3.3 Unsafe or faulty tools are identified and marked for repair 4.1 Route for power supply established in accordance with worker safety requirements 4.2 Proper sequence of operations is applied in using power tools to produce results 4.3 Power tools are used as required 5.1 Tools and equipment are cleaned 5.2 Appropriate lubricants are identified 5.3 Tools and equipment are lubricated 5.4 Measuring instruments are checked and calibrated 5.5 Defective instruments, equipment and accessories are inspected and corrected or replaced 5.6 Tools are inspected, repaired and replaced after use 6.1. The workplace is cleaned and cleared of debris and unwanted materials 6.2. Waste materials are disposed 6.3. Inventory of tools are conducted 6.4. Tools are cleaned and stored safely in appropriate location 6.5. Hazardous materials are identified for separate handling. | B63: The trainer will demonstrate the procedures in addressing the activities to be undertaken in the CBLM on Use hand tools and power tools | C63: Day -27 | D63: ='Training plan'!B36 -> 45630 | E63: 4 Hours | F63: 20 Hours
C64: Day -28 | D64: ='Training plan'!B37 -> 45631 | E64: 4 Hours
C65: Day -29 | D65: ='Training plan'!B38 -> 45633 | E65: 4 Hours
C66: Day -30 | D66: ='Training plan'!B39 -> 45634 | E66: 4 Hours
C67: Day -31 | D67: ='Training plan'!B40 -> 45635 | E67: 4 Hours
A68: Unit Of Competency: Apply Fundamentals Skills for Electrical Works | D68: Code: OUEIM002L2V1
A69: Elements of Competency:Prepare for works. Identify types of tool/equipment. Identify symbols of electrical fittings. Identify fittings used in electrical works. Measure Current. Measure Voltage. Maintain workplace, tools, equipment and materials | D69: Trainer Name: Snehasish Biswas
A71: Relevant Performance of Criteria | B71: Discussion & Demonstration | C71: Training Day | D71: Date | E71: Class Hours | F71: Total Duration
A72: 1.1. PPE is collected and worn as per job requirement. 1.2. Workplace is prepared as per job requirement 1.3. Tools1 egui12ment and materials are selected and collected as per job requirement 2.1 Collected Tools/equipment are displayed. 2.2 Tools are listed and taqqed as per tool specification 3.1 Electrical symbols are listed. 3.2 Symbols are matched with listed symbol as per drawing 3.3 Svmbols are tagged by match with the fittings 4.1 Fittings are collected and displayed. 4.2 Fittings are listed and tagged 4.3 Fittinqs are matched with listed fitting as per drawing Using ampere meter 5.1 Insulation of cable terminal is removed using knife or wire stripper as required 5.2 Range of Ammeter is set as per job requirement. 5.3 The ampere meter is connected in series with the load as per circuit diagram 5.4 Power supply switch is kept on as maintaining SOP. 5.5 Ampere meter reading is recorded Using clip-on meter 5.6 Selector knob is adjusted of clip-on meter as required. 5.7 Phase cable is inserted into the ring of the clip-on meter 5.8 Ampere meter reading is recorded. 5.9 Clip-on meter is disconnected from the phase line as required Using Volt meter 6.1 Insulation of cable terminal is removed using knife or wire stripper as required 6.2 Range of voltmeter is set as per job requirement 6.3 Voltmeter is connected in parallel with the load as per circuit diagram 6.4 Power supply is switched ON as required. 6.5 Volt meter reading is recorded Using AVO/Multi meter 6.6 AVO/Multi meter pointer/scale is adjusted 6.7 Selector switch of AVO/Multi meter is kept in AC voltage ranqe as required 6.8 AVO/Multi meter is connected to probe/test cord with supply line (phase to phase or phase to neutral) as per circuit diagram 6.9 AVO/Multi meter reading is recorded. 6.10 Power supply is disconnected as required 7.1 Tools, equipment and materials are cleaned as per SOP 7.2 Defective tools and equipment are identified, separated and reported to the designated person 7.3 Tools, equipment and materials are stored as per workplace procedure 7.4 Workplace is cleaned as per SOP 7.5 Waste materials are disposed in the designated place | B72: The trainer will demonstrate the procedures in addressing the activities to be undertaken in the CBLM on Apply Fundamentals Skills for Electrical Works | C72: Day - 32 | D72: ='Training plan'!B41 -> 45636 | E72: 4 Hours | F72: 20 Hours
C73: Day - 33 | D73: ='Training plan'!B42 -> 45637 | E73: 4 Hours
C74: Day - 34 | D74: ='Training plan'!B43 -> 45638
C75: Day - 35 | D75: ='Training plan'!B44 -> 45641 | E75: 4 Hours
C76: Day - 36 | D76: ='Training plan'!B45 -> 45643 | E76: 4 Hours
C77: Day - 36 | E77: 4 Hours
A78: Unit Of Competency: Perform Wire and Cable Joints | D78: Code: OUEIM003L2V1
A79: Elements of Competency: Prepare for works. Identify sizes and capacity of wires and cables. Make Wire and Cable Joint. Maintain workplace, tools, equipment and materials | D79: Trainer Name: Snehasish Biswas
A81: Relevant Performance of Criteria | B81: Discussion & Demonstration | C81: Training Day | D81: Date | E81: Class Hours | F81: Total Duration
A82: 1.1. PPE is collected and worn as per job requirement 1.2. Workplace is prepared as per job requirement 1.3. Tools1 egui ment and materials are selected and collected as per job requirement 2.1. Wire and cable are placed separately in the working table in sequence 2.2. Wires and cables are listed & tagged as per sizes 2.3. Size of the cable is compared with the cable specification as per requirement 2.4. Proper diameter of conductor is measured using SWG/Micrometer 2.5. Cable sizes are compared with current carrying capacity 3.1. Insulation of cable is removed as required from cable terminal using knife or wire stripper 3.2. Conductor surface is scraped by using emery paper/electrician knife 3.3. Scrapped cables are tying according to the requirement of wire and cable joint 3.4. Soldering (if required) 3.5. Tying wire is tapped as per drawing 4.1. Tools, equipment and materials are cleaned as per manufacturer instruction 4.2. Defective tools and equipment are identified and separated and reported to the designated person 4.3. Tools, equipment and materials are restored as per workplace procedure 4.4. Workplace is cleaned as per company procedure 4.5. Waste materials are disposed in the designated place | B82: The trainer will demonstrate the procedures in addressing the activities to be undertaken in the CBLM on Perform Wire and Cable Joints | C82: Day - 37 | D82: ='Training plan'!B46 -> 45644 | E82: 4 Hours | F82: 20 Hours
C83: Day - 38 | D83: ='Training plan'!B47 -> 45645 | E83: 4 Hours
C84: Day - 39 | D84: ='Training plan'!B48 -> 45648 | E84: 4 Hours
C85: Day - 40 | D85: ='Training plan'!B49 -> 45649 | E85: 4 Hours
C86: Day - 41 | D86: ='Training plan'!B50 -> 45650 | E86: 4 Hours
A87: Unit Of Competency: Perform Installation of Electrical Circuit | D87: Code: OUEIM004L2V1
A88: Elements of Competency: Prepare for works. Control one lamp by SPST and SPDT switch. Control one calling bell from two point Prepare the circuit of Fluorescent Lamp (Tube Light). Install Ceiling Fan with regulator. | D88: Trainer Name: Snehasish Biswas
A90: Relevant Performance of Criteria | B90: Discussion & Demonstration | C90: Training Day | D90: Date | E90: Class Hours | F90: Total Duration
A91: 1.1. PPE is collected and worn as per job requirement 1.2. Workplace is prepared as per job requirement 1.3. Tools, equipment and materials are collected as per job requirement 2.1. Circuit layout is drawn as per drawing 2.2. Circuit materials are placed on the board as per drawing 2.3. Fittings and fixtures are connected and fitted in to circuit as per drawing 2.4. One lamp is controlled by SPST switch 2.5. One lamp is controlled by SPOT switch from two points 2.6. Circuit Test is performed as per SOP 3.1. Circuit layout is drawn as per drawing 3.2. Circuit materials are placed on the board as per drawing 3.3. Fittings are connected and fitted in to circuit as per drawing 3.4. Circuit connection is checked according to the drawing 3.5. Circuit is tested as per SOP 4.1. Circuit layout is drawn as per drawing 4.2. Circuit materials are placed on the board as per drawing 4.3. Fittings and fixtures are connected and fitted in to circuit as per drawing 4.4. Circuit connection is checked according to the drawing 4.5. Circuit is tested as per SOP 5.1. Circuit layout is drawn as per drawing 5.2. Circuit materials are placed on the board as per drawing 5.3. Fittings and fixtures are connected and fitted in to circuit as per drawing 5.4. Circuit connection is checked according to the drawing 5.5. Circuit is tested as per SOP | B91: The trainer will demonstrate the procedures in addressing the activities to be undertaken in the CBLM on Perform Installation of Electrical Circuit | C91: Day - 42 | D91: ='Training plan'!B51 -> 45655 | E91: 4 Hours | F91: 52 Hours
C92: Day - 43 | D92: ='Training plan'!B52 -> 45656 | E92: 4 Hours
C93: Day - 44 | D93: ='Training plan'!B53 -> 45657 | E93: 4 Hours
C94: Day - 45 | D94: ='Training plan'!E10 -> 45658 | E94: 4 Hours
C95: Day - 46 | D95: ='Training plan'!E11 -> 45659 | E95: 4 Hours
C96: Day - 47 | D96: ='Training plan'!E12 -> 45662 | E96: 4 Hours
C97: Day - 48 | D97: ='Training plan'!E13 -> 45663 | E97: 4 Hours
C98: Day - 49 | D98: ='Training plan'!E14 -> 45664 | E98: 4 Hours
C99: Day - 50 | D99: ='Training plan'!E15 -> 45665 | E99: 4 Hours
C100: Day - 51 | D100: ='Training plan'!E16 -> 45666 | E100: 4 Hours
C101: Day - 52 | D101: ='Training plan'!E17 -> 45669 | E101: 4 Hours
C102: Day - 53 | D102: ='Training plan'!E18 -> 45670 | E102: 4 Hours
C103: Day - 54 | D103: ='Training plan'!E19 -> 45671 | E103: 4 Hours
A104: Unit Of Competency: Perform Channel Wiring | D104: Code: OUEIM005L2V1
A105: Elements of Competency: Prepare for works. Perform Channel Wiring. Install boards and other accessories of wiring. Test the wiring. Maintain workplace, tools and materials | D105: Trainer Name: Snehasish Biswas
A107: Relevant Performance of Criteria | B107: Discussion & Demonstration | C107: Training Day | D107: Date | E107: Class Hours | F107: Total Duration
A108: 1.1. PPE is collected and worn as per job requirement 1.2. Workplace is prepared as per job requirement 1.3. Tools, equipment and materials are collected as per job requirement 1.4. Drawinqs are collected and interpreted 2.1. Drawing is selected and collected as per job requirement 2.2. Channel size is identified and selected as per the number and size of cables to be embedded inside 2.3. Lower part of channel is set as per SOP 2.4. PVC cable is laid into the channel as per the diagram 2.5. Upper part of channel is set as per SOP 2.6. Load point is connected with the switch board 2.7. Connection is checked as per SOP 2.8. Performance of circuit is checked 3.1 Boards are collected and fitted 3.2 Switches, sockets, fan regulator and ballast are fitted 3.3 Switches, sockets and fan regulator are connected to the circuits 3.4 Ceiling rose and different types of holders are fitted 3.5 Those fixtures are connected to the circuit 3.6 MCB, and MCCB are connected and fitted 4.1 Polarity of wiring is checked 4.2 Polarity is justified and checked each of the switches, fuses and circuit breakers 4.3 Circuit breakers are disconnected 4.1. All loads are connected and checked the continuity each of the switches and circuit breakers 5.1. Tools, equipment and materials are cleaned as per standard 5.2. Defective tools and equipment are identified, separated and reported to the designated person 5.3. Tools, equipment and materials are stored as per workplace procedure 5.4. Workplace is cleaned as per workplace procedure 5.5. Waste materials are disoosed in the designated place | B108: The trainer will demonstrate the procedures in addressing the activities to be undertaken in the CBLM on Perform Channel Wiring | C108: Day - 55 | D108: ='Training plan'!E20 -> 45672 | E108: 5 Hours | F108: 72 Hours
C109: Day - 56 | D109: ='Training plan'!E21 -> 45673 | E109: 5 Hours
C110: Day - 57 | D110: ='Training plan'!E22 -> 45676 | E110: 5 Hours
C111: Day - 58 | D111: ='Training plan'!E23 -> 45677 | E111: 5 Hours
C112: Day - 59 | D112: ='Training plan'!E24 -> 45678 | E112: 4 Hours
C113: Day - 60 | D113: ='Training plan'!E25 -> 45679 | E113: 4 Hours
C114: Day - 61 | D114: ='Training plan'!E26 -> 45680 | E114: 4 Hours
...

Sheet Trainee Data (Ban)
A1: cÖwk¶Yv_©x‡`i Z_¨
A2: ='All Form Data'!C2 -> †mkbt b‡f¤^i 2024 - †deªæqvix 2025
A3: ='All Form Data'!C3 -> cÖwk¶Y cÖ`vbKvix cÖwZôvb t BD‡mc AvgevMvb wUwfBwU Bbw÷wUDU|
A4: ='All Form Data'!C4 -> †UªW t B‡jKwUªK¨vj BÝU‡jkb GÛ †gBb‡Ub¨vÝ
A5: Accelerating and Strengthening Skills for Economic Transformation (ASSET) cÖKí
A6: µt bs | B6: G‡mU AvBwW | C6: cÖwk¶Yv_©xi bvg | D6: wcZvi bvg | E6: gvZvi bvg | F6: †gvevBj b¤^i | G6: RvZxq cwiPqcÎ b¤^i | H6: cwiPqc‡Îi aib | I6: Rb¥ ZvwiL | J6: ¯’vqx wVKvbv | K6: eZ©gvb wVKvbv | L6: wbR †Rjv | M6: wk¶vMZ †hvM¨Zv | N6: cv‡ki mb | O6: wj½ | P6: DcRvwZ | Q6: wc.WweøD.wW | R6: aib | S6: cÖwk¶Yv_©xi Qwe | T6: djvdj
A7: 1 | B7: =IF('All Form Data'!C12="","",'All Form Data'!C12) -> 250111846 | C7: =IF('All Form Data'!F12="","",'All Form Data'!F12) -> মোহাম্মদ বাদশা | D7: =IF('All Form Data'!I12="","",'All Form Data'!I12) -> মোঃ হাসান | E7: =IF('All Form Data'!K12="","",'All Form Data'!K12) -> খুরশেদা বেগম | F7: =IF('All Form Data'!N12="","",'All Form Data'!N12) -> 01305978432 | G7: =IF('All Form Data'!M12="","",'All Form Data'!M12) -> 3317890733 | H7: =IF('All Form Data'!L12="NID","GbAvBwW",IF('All Form Data'!L12="BCN","Rb¥mb`","")) -> GbAvBwW | I7: =IF('All Form Data'!G12="","",'All Form Data'!G12) -> 10.10.200 | J7: =IF('All Form Data'!T12="","",'All Form Data'!T12) -> কোচুয়াই.পোটিয়া.চট্টগ্রাম | K7: =IF('All Form Data'!U12="","",'All Form Data'!U12) -> সিলিমপুর.সিডিএ আবাসিক এলাকা,চট্টগ্রাম | L7: =IF('All Form Data'!W12="","",'All Form Data'!W12) -> চট্টগ্রাম | M7: =IF('All Form Data'!Y12="","",'All Form Data'!Y12) -> এস,এস,সি | N7: =IF('All Form Data'!AA12="","",'All Form Data'!AA12) -> 2021 | O7: =IF('All Form Data'!Q12="","",'All Form Data'!Q12) | P7: =IF('All Form Data'!AD12="","",'All Form Data'!AD12) -> না | Q7: =IF('All Form Data'!AF12="","",'All Form Data'!AF12) -> না | R7: =IF('All Form Data'!AG12="","",'All Form Data'!AG12) | T7: =IF('All Form Data'!AQ12="C","Kw¤c‡U›U",IF('All Form Data'!AQ12="NYC","bU B‡qU Kw¤c‡U›U",""))
A8: 2 | B8: =IF('All Form Data'!#REF!="","",'All Form Data'!#REF!) -> #REF! | C8: =IF('All Form Data'!#REF!="","",'All Form Data'!#REF!) -> #REF! | D8: =IF('All Form Data'!#REF!="","",'All Form Data'!#REF!) -> #REF! | E8: =IF('All Form Data'!#REF!="","",'All Form Data'!#REF!) -> #REF! | F8: =IF('All Form Data'!#REF!="","",'All Form Data'!#REF!) -> #REF! | G8: =IF('All Form Data'!#REF!="","",'All Form Data'!#REF!) -> #REF! | H8: =IF('All Form Data'!#REF!="NID","GbAvBwW",IF('All Form Data'!#REF!="BCN","Rb¥mb`","")) -> #REF! | I8: =IF('All Form Data'!#REF!="","",'All Form Data'!#REF!) -> #REF! | J8: =IF('All Form Data'!#REF!="","",'All Form Data'!#REF!) -> #REF! | K8: =IF('All Form Data'!#REF!="","",'All Form Data'!#REF!) -> #REF! | L8: =IF('All Form Data'!#REF!="","",'All Form Data'!#REF!) -> #REF! | M8: =IF('All Form Data'!#REF!="","",'All Form Data'!#REF!) -> #REF! | N8: =IF('All Form Data'!#REF!="","",'All Form Data'!#REF!) -> #REF! | O8: =IF('All Form Data'!#REF!="","",'All Form Data'!#REF!) -> #REF! | P8: =IF('All Form Data'!#REF!="","",'All Form Data'!#REF!) -> #REF! | ... R8: =IF('All Form Data'!#REF!="","",'All Form Data'!#REF!) -> #REF! | T8: =IF('All Form Data'!#REF!="C","Kw¤c‡U›U",IF('All Form Data'!#REF!="NYC","bU B‡qU Kw¤c‡U›U","")) -> #REF!
A9: 3 | B9: =IF('All Form Data'!C13="","",'All Form Data'!C13) -> 250111853 | C9: =IF('All Form Data'!F13="","",'All Form Data'!F13) -> জাহিদুল ইসলাম | D9: =IF('All Form Data'!I13="","",'All Form Data'!I13) -> মোঃ রফিক | E9: =IF('All Form Data'!K13="","",'All Form Data'!K13) -> সাজিয়া বেগম | F9: =IF('All Form Data'!N13="","",'All Form Data'!N13) -> 01888239320 | G9: =IF('All Form Data'!M13="","",'All Form Data'!M13) -> 1982221135 | H9: =IF('All Form Data'!L13="NID","GbAvBwW",IF('All Form Data'!L13="BCN","Rb¥mb`","")) -> GbAvBwW | I9: =IF('All Form Data'!G13="","",'All Form Data'!G13) -> 24,08.2006 | J9: =IF('All Form Data'!T13="","",'All Form Data'!T13) -> চক ফরিদ, চারলক্ষ্ম, কর্ণফুলী, চট্টগ্রাম, | K9: =IF('All Form Data'!U13="","",'All Form Data'!U13) -> চক ফরিদ, চারলক্ষ্ম, কর্ণফুলী, চট্টগ্রাম, | L9: =IF('All Form Data'!W13="","",'All Form Data'!W13) -> চট্টগ্রাম | M9: =IF('All Form Data'!Y13="","",'All Form Data'!Y13) -> এস,এস,সি | N9: =IF('All Form Data'!AA13="","",'All Form Data'!AA13) -> 2021 | O9: =IF('All Form Data'!Q13="","",'All Form Data'!Q13) | P9: =IF('All Form Data'!AD13="","",'All Form Data'!AD13) -> না | Q9: =IF('All Form Data'!AF13="","",'All Form Data'!AF13) -> না | R9: =IF('All Form Data'!AG13="","",'All Form Data'!AG13) | T9: =IF('All Form Data'!AQ13="C","Kw¤c‡U›U",IF('All Form Data'!AQ13="NYC","bU B‡qU Kw¤c‡U›U",""))
A10: 4 | B10: =IF('All Form Data'!C14="","",'All Form Data'!C14) -> 250111857 | C10: =IF('All Form Data'!F14="","",'All Form Data'!F14) -> সুপন সাহা | D10: =IF('All Form Data'!I14="","",'All Form Data'!I14) -> সুমন সাহা | E10: =IF('All Form Data'!K14="","",'All Form Data'!K14) -> শিল্পী সাহা | F10: =IF('All Form Data'!N14="","",'All Form Data'!N14) -> 01843256390 | G10: =IF('All Form Data'!M14="","",'All Form Data'!M14) -> 2882077627 | H10: =IF('All Form Data'!L14="NID","GbAvBwW",IF('All Form Data'!L14="BCN","Rb¥mb`","")) -> GbAvBwW | I10: =IF('All Form Data'!G14="","",'All Form Data'!G14) -> 12,02,2007 | J10: =IF('All Form Data'!T14="","",'All Form Data'!T14) -> সাহা বাড়ী, মধ্য মাহমুদাবাদ, বারোবকুন্ড.সীতাকুন্ড.চট্টগ্রাম. | K10: =IF('All Form Data'!U14="","",'All Form Data'!U14) -> সাহা বাড়ী, মধ্য মাহমুদাবাদ, বারোবকুন্ড.সীতাকুন্ড.চট্টগ্রাম. | L10: =IF('All Form Data'!W14="","",'All Form Data'!W14) -> চট্টগ্রাম | M10: =IF('All Form Data'!Y14="","",'All Form Data'!Y14) -> এস,এস,সি | N10: =IF('All Form Data'!AA14="","",'All Form Data'!AA14) -> 2023 | O10: =IF('All Form Data'!Q14="","",'All Form Data'!Q14) | P10: =IF('All Form Data'!AD14="","",'All Form Data'!AD14) -> না | Q10: =IF('All Form Data'!AF14="","",'All Form Data'!AF14) -> না | R10: =IF('All Form Data'!AG14="","",'All Form Data'!AG14) | T10: =IF('All Form Data'!AQ14="C","Kw¤c‡U›U",IF('All Form Data'!AQ14="NYC","bU B‡qU Kw¤c‡U›U",""))
A11: 5 | B11: =IF('All Form Data'!C15="","",'All Form Data'!C15) -> 250111861 | C11: =IF('All Form Data'!F15="","",'All Form Data'!F15) -> জাহিদুল ইসলাম ইমন | D11: =IF('All Form Data'!I15="","",'All Form Data'!I15) -> জহিরুল ইসলাম | E11: =IF('All Form Data'!K15="","",'All Form Data'!K15) -> হোসনে আরা বেগম | F11: =IF('All Form Data'!N15="","",'All Form Data'!N15) -> 01814393561 | G11: =IF('All Form Data'!M15="","",'All Form Data'!M15) -> 9172738362 | H11: =IF('All Form Data'!L15="NID","GbAvBwW",IF('All Form Data'!L15="BCN","Rb¥mb`","")) -> GbAvBwW | I11: =IF('All Form Data'!G15="","",'All Form Data'!G15) -> 02,02,2004 | J11: =IF('All Form Data'!T15="","",'All Form Data'!T15) -> ইসমাইল সরকারের বাড়ি,কোদম রসুল.কোদমতলী.চট্টগ্রাম, | K11: =IF('All Form Data'!U15="","",'All Form Data'!U15) -> ইসমাইল সরকারের বাড়ি,কোদম রসুল.কোদমতলী.চট্টগ্রাম, | L11: =IF('All Form Data'!W15="","",'All Form Data'!W15) -> চট্টগ্রাম | M11: =IF('All Form Data'!Y15="","",'All Form Data'!Y15) -> জে,এস,সি | N11: =IF('All Form Data'!AA15="","",'All Form Data'!AA15) -> 2020 | O11: =IF('All Form Data'!Q15="","",'All Form Data'!Q15) | P11: =IF('All Form Data'!AD15="","",'All Form Data'!AD15) -> না | Q11: =IF('All Form Data'!AF15="","",'All Form Data'!AF15) -> না | R11: =IF('All Form Data'!AG15="","",'All Form Data'!AG15) | T11: =IF('All Form Data'!AQ15="C","Kw¤c‡U›U",IF('All Form Data'!AQ15="NYC","bU B‡qU Kw¤c‡U›U",""))
A12: 6 | B12: =IF('All Form Data'!C16="","",'All Form Data'!C16) -> 250111862 | C12: =IF('All Form Data'!F16="","",'All Form Data'!F16) -> আরমান হোসেন | D12: =IF('All Form Data'!I16="","",'All Form Data'!I16) -> মোঃবাহাদুর | E12: =IF('All Form Data'!K16="","",'All Form Data'!K16) -> রিনা আক্তার | F12: =IF('All Form Data'!N16="","",'All Form Data'!N16) -> 01855375547 | G12: =IF('All Form Data'!M16="","",'All Form Data'!M16) -> 4667424719 | H12: =IF('All Form Data'!L16="NID","GbAvBwW",IF('All Form Data'!L16="BCN","Rb¥mb`","")) -> GbAvBwW | I12: =IF('All Form Data'!G16="","",'All Form Data'!G16) -> 11,12,2001 | J12: =IF('All Form Data'!T16="","",'All Form Data'!T16) -> কাজীপাড়া,কুমিরা,সীতাকুন্ড,চট্টগ্রাম। | K12: =IF('All Form Data'!U16="","",'All Form Data'!U16) -> কাজীপাড়া,কুমিরা,সীতাকুন্ড,চট্টগ্রাম। | L12: =IF('All Form Data'!W16="","",'All Form Data'!W16) -> চট্টগ্রাম | M12: =IF('All Form Data'!Y16="","",'All Form Data'!Y16) -> এইচ,এস,সি | N12: =IF('All Form Data'!AA16="","",'All Form Data'!AA16) -> 2022 | O12: =IF('All Form Data'!Q16="","",'All Form Data'!Q16) | P12: =IF('All Form Data'!AD16="","",'All Form Data'!AD16) -> না | Q12: =IF('All Form Data'!AF16="","",'All Form Data'!AF16) -> না | R12: =IF('All Form Data'!AG16="","",'All Form Data'!AG16) | T12: =IF('All Form Data'!AQ16="C","Kw¤c‡U›U",IF('All Form Data'!AQ16="NYC","bU B‡qU Kw¤c‡U›U",""))
A13: 7 | B13: =IF('All Form Data'!C17="","",'All Form Data'!C17) -> 250111866 | C13: =IF('All Form Data'!F17="","",'All Form Data'!F17) -> রবিউল ছানি | D13: =IF('All Form Data'!I17="","",'All Form Data'!I17) -> মোঃআবু তাহের | E13: =IF('All Form Data'!K17="","",'All Form Data'!K17) -> আকলিমা বেগম | F13: =IF('All Form Data'!N17="","",'All Form Data'!N17) -> 01810279672 | G13: =IF('All Form Data'!M17="","",'All Form Data'!M17) -> 20051517017100398 | H13: =IF('All Form Data'!L17="NID","GbAvBwW",IF('All Form Data'!L17="BCN","Rb¥mb`","")) -> Rb¥mb` | I13: =IF('All Form Data'!G17="","",'All Form Data'!G17) -> 22,01,2005 | J13: =IF('All Form Data'!T17="","",'All Form Data'!T17) -> পূর্ব চন্দ্রঘোনা, খন্দকার পাড়া, রাঙ্গুনিয়া.চট্টগ্রাম। | K13: =IF('All Form Data'!U17="","",'All Form Data'!U17) -> 2106 তালুকদার ভিলা, আল ফালাহ গলি. খুলশী, চট্টগ্রাম। | L13: =IF('All Form Data'!W17="","",'All Form Data'!W17) -> চট্টগ্রাম | M13: =IF('All Form Data'!Y17="","",'All Form Data'!Y17) -> এস,এস,সি | N13: =IF('All Form Data'!AA17="","",'All Form Data'!AA17) -> 2021 | O13: =IF('All Form Data'!Q17="","",'All Form Data'!Q17) | P13: =IF('All Form Data'!AD17="","",'All Form Data'!AD17) -> না | Q13: =IF('All Form Data'!AF17="","",'All Form Data'!AF17) -> না | R13: =IF('All Form Data'!AG17="","",'All Form Data'!AG17) | T13: =IF('All Form Data'!AQ17="C","Kw¤c‡U›U",IF('All Form Data'!AQ17="NYC","bU B‡qU Kw¤c‡U›U",""))
A14: 8 | B14: =IF('All Form Data'!C18="","",'All Form Data'!C18) -> 250111868 | C14: =IF('All Form Data'!F18="","",'All Form Data'!F18) -> আকিল রায়হান | D14: =IF('All Form Data'!I18="","",'All Form Data'!I18) -> মোঃআবু তাহের | E14: =IF('All Form Data'!K18="","",'All Form Data'!K18) -> শামিমা ফেরদৌস | F14: =IF('All Form Data'!N18="","",'All Form Data'!N18) -> 01585746887 | G14: =IF('All Form Data'!M18="","",'All Form Data'!M18) -> 7367863589 | H14: =IF('All Form Data'!L18="NID","GbAvBwW",IF('All Form Data'!L18="BCN","Rb¥mb`","")) -> GbAvBwW | I14: =IF('All Form Data'!G18="","",'All Form Data'!G18) -> 12,03,2002 | J14: =IF('All Form Data'!T18="","",'All Form Data'!T18) -> লতিফপুর, জাফরাবাদ, সীতাকুণ্ড, চট্টগ্রাম। | K14: =IF('All Form Data'!U18="","",'All Form Data'!U18) -> লতিফপুর, জাফরাবাদ, সীতাকুণ্ড, চট্টগ্রাম। | L14: =IF('All Form Data'!W18="","",'All Form Data'!W18) -> চট্টগ্রাম | M14: =IF('All Form Data'!Y18="","",'All Form Data'!Y18) -> এইচ,এস,সি | N14: =IF('All Form Data'!AA18="","",'All Form Data'!AA18) -> 2022 | O14: =IF('All Form Data'!Q18="","",'All Form Data'!Q18) | P14: =IF('All Form Data'!AD18="","",'All Form Data'!AD18) -> না | Q14: =IF('All Form Data'!AF18="","",'All Form Data'!AF18) -> না | R14: =IF('All Form Data'!AG18="","",'All Form Data'!AG18) | T14: =IF('All Form Data'!AQ18="C","Kw¤c‡U›U",IF('All Form Data'!AQ18="NYC","bU B‡qU Kw¤c‡U›U",""))
A15: 9 | B15: =IF('All Form Data'!C19="","",'All Form Data'!C19) -> 250111880 | C15: =IF('All Form Data'!F19="","",'All Form Data'!F19) -> সাদমান শাহরিয়ার মাহিন | D15: =IF('All Form Data'!I19="","",'All Form Data'!I19) -> মোঃমুসলিম উদ্দিন | E15: =IF('All Form Data'!K19="","",'All Form Data'!K19) -> পারভিন আক্তার | F15: =IF('All Form Data'!N19="","",'All Form Data'!N19) -> 01631640948 | G15: =IF('All Form Data'!M19="","",'All Form Data'!M19) -> 9167885103 | H15: =IF('All Form Data'!L19="NID","GbAvBwW",IF('All Form Data'!L19="BCN","Rb¥mb`","")) -> GbAvBwW | I15: =IF('All Form Data'!G19="","",'All Form Data'!G19) -> 31,10,2004 | J15: =IF('All Form Data'!T19="","",'All Form Data'!T19) -> মাদামবিবির হাট, জাহানাবাদ, ভাটিয়ারী, সীতাকুণ্ড, চট্টগ্রাম। | K15: =IF('All Form Data'!U19="","",'All Form Data'!U19) -> মাদামবিবির হাট, জাহানাবাদ, ভাটিয়ারী, সীতাকুণ্ড, চট্টগ্রাম। | L15: =IF('All Form Data'!W19="","",'All Form Data'!W19) -> চট্টগ্রাম | M15: =IF('All Form Data'!Y19="","",'All Form Data'!Y19) -> এস,এস,সি | N15: =IF('All Form Data'!AA19="","",'All Form Data'!AA19) -> 2021 | O15: =IF('All Form Data'!Q19="","",'All Form Data'!Q19) | P15: =IF('All Form Data'!AD19="","",'All Form Data'!AD19) -> না | Q15: =IF('All Form Data'!AF19="","",'All Form Data'!AF19) -> হ্যাঁ | R15: =IF('All Form Data'!AG19="","",'All Form Data'!AG19) -> Low Vission | T15: =IF('All Form Data'!AQ19="C","Kw¤c‡U›U",IF('All Form Data'!AQ19="NYC","bU B‡qU Kw¤c‡U›U",""))
A16: 10 | B16: =IF('All Form Data'!#REF!="","",'All Form Data'!#REF!) -> #REF! | C16: =IF('All Form Data'!#REF!="","",'All Form Data'!#REF!) -> #REF! | D16: =IF('All Form Data'!#REF!="","",'All Form Data'!#REF!) -> #REF! | E16: =IF('All Form Data'!#REF!="","",'All Form Data'!#REF!) -> #REF! | F16: =IF('All Form Data'!#REF!="","",'All Form Data'!#REF!) -> #REF! | G16: =IF('All Form Data'!#REF!="","",'All Form Data'!#REF!) -> #REF! | H16: =IF('All Form Data'!#REF!="NID","GbAvBwW",IF('All Form Data'!#REF!="BCN","Rb¥mb`","")) -> #REF! | I16: =IF('All Form Data'!#REF!="","",'All Form Data'!#REF!) -> #REF! | J16: =IF('All Form Data'!#REF!="","",'All Form Data'!#REF!) -> #REF! | K16: =IF('All Form Data'!#REF!="","",'All Form Data'!#REF!) -> #REF! | L16: =IF('All Form Data'!#REF!="","",'All Form Data'!#REF!) -> #REF! | M16: =IF('All Form Data'!#REF!="","",'All Form Data'!#REF!) -> #REF! | N16: =IF('All Form Data'!#REF!="","",'All Form Data'!#REF!) -> #REF! | O16: =IF('All Form Data'!#REF!="","",'All Form Data'!#REF!) -> #REF! | P16: =IF('All Form Data'!#REF!="","",'All Form Data'!#REF!) -> #REF! | ... R16: =IF('All Form Data'!#REF!="","",'All Form Data'!#REF!) -> #REF! | T16: =IF('All Form Data'!#REF!="C","Kw¤c‡U›U",IF('All Form Data'!#REF!="NYC","bU B‡qU Kw¤c‡U›U","")) -> #REF!
A17: 11 | B17: =IF('All Form Data'!#REF!="","",'All Form Data'!#REF!) -> #REF! | C17: =IF('All Form Data'!#REF!="","",'All Form Data'!#REF!) -> #REF! | D17: =IF('All Form Data'!#REF!="","",'All Form Data'!#REF!) -> #REF! | E17: =IF('All Form Data'!#REF!="","",'All Form Data'!#REF!) -> #REF! | F17: =IF('All Form Data'!#REF!="","",'All Form Data'!#REF!) -> #REF! | G17: =IF('All Form Data'!#REF!="","",'All Form Data'!#REF!) -> #REF! | H17: =IF('All Form Data'!#REF!="NID","GbAvBwW",IF('All Form Data'!#REF!="BCN","Rb¥mb`","")) -> #REF! | I17: =IF('All Form Data'!#REF!="","",'All Form Data'!#REF!) -> #REF! | J17: =IF('All Form Data'!#REF!="","",'All Form Data'!#REF!) -> #REF! | K17: =IF('All Form Data'!#REF!="","",'All Form Data'!#REF!) -> #REF! | L17: =IF('All Form Data'!#REF!="","",'All Form Data'!#REF!) -> #REF! | M17: =IF('All Form Data'!#REF!="","",'All Form Data'!#REF!) -> #REF! | N17: =IF('All Form Data'!#REF!="","",'All Form Data'!#REF!) -> #REF! | O17: =IF('All Form Data'!#REF!="","",'All Form Data'!#REF!) -> #REF! | P17: =IF('All Form Data'!#REF!="","",'All Form Data'!#REF!) -> #REF! | ... R17: =IF('All Form Data'!#REF!="","",'All Form Data'!#REF!) -> #REF! | T17: =IF('All Form Data'!#REF!="C","Kw¤c‡U›U",IF('All Form Data'!#REF!="NYC","bU B‡qU Kw¤c‡U›U","")) -> #REF!
A18: 12 | B18: =IF('All Form Data'!C20="","",'All Form Data'!C20) -> 250111884 | C18: =IF('All Form Data'!F20="","",'All Form Data'!F20) -> রিফাত উদ্দীন | D18: =IF('All Form Data'!I20="","",'All Form Data'!I20) -> শামসু উদ্দীন | E18: =IF('All Form Data'!K20="","",'All Form Data'!K20) -> রিনা আক্তার | F18: =IF('All Form Data'!N20="","",'All Form Data'!N20) -> 01880961207 | G18: =IF('All Form Data'!M20="","",'All Form Data'!M20) -> 20051518666022037 | H18: =IF('All Form Data'!L20="NID","GbAvBwW",IF('All Form Data'!L20="BCN","Rb¥mb`","")) -> Rb¥mb` | I18: =IF('All Form Data'!G20="","",'All Form Data'!G20) -> 03.08.2005 | J18: =IF('All Form Data'!T20="","",'All Form Data'!T20) -> লতিফ পুর,পাক্কা রাস্তার মাথা,দক্ষিণ সোলিম পুর.জাফরাবাদ,সীতাকুন্ড, | K18: =IF('All Form Data'!U20="","",'All Form Data'!U20) -> লতিফ পুর,পাক্কা রাস্তার মাথা,দক্ষিণ সোলিম পুর.জাফরাবাদ,সীতাকুন্ড, | L18: =IF('All Form Data'!W20="","",'All Form Data'!W20) -> চট্টগ্রাম | M18: =IF('All Form Data'!Y20="","",'All Form Data'!Y20) -> এস,এস,সি | N18: =IF('All Form Data'!AA20="","",'All Form Data'!AA20) -> 2023 | O18: =IF('All Form Data'!Q20="","",'All Form Data'!Q20) | P18: =IF('All Form Data'!AD20="","",'All Form Data'!AD20) -> না | Q18: =IF('All Form Data'!AF20="","",'All Form Data'!AF20) -> না | R18: =IF('All Form Data'!AG20="","",'All Form Data'!AG20) | T18: =IF('All Form Data'!AQ20="C","Kw¤c‡U›U",IF('All Form Data'!AQ20="NYC","bU B‡qU Kw¤c‡U›U",""))
A19: 13 | B19: =IF('All Form Data'!C21="","",'All Form Data'!C21) -> 250111885 | C19: =IF('All Form Data'!F21="","",'All Form Data'!F21) -> বিজয় মল্লিক | D19: =IF('All Form Data'!I21="","",'All Form Data'!I21) -> লিটন মল্লিক | E19: =IF('All Form Data'!K21="","",'All Form Data'!K21) -> শিখা মল্লিক | F19: =IF('All Form Data'!N21="","",'All Form Data'!N21) -> 01404621823 | G19: =IF('All Form Data'!M21="","",'All Form Data'!M21) -> 20041591602158738 | H19: =IF('All Form Data'!L21="NID","GbAvBwW",IF('All Form Data'!L21="BCN","Rb¥mb`","")) -> Rb¥mb` | I19: =IF('All Form Data'!G21="","",'All Form Data'!G21) -> 27.02.2004 | J19: =IF('All Form Data'!T21="","",'All Form Data'!T21) -> বালুছরা, জালালাবাদ, খুলসি, চট্টগ্রাম | K19: =IF('All Form Data'!U21="","",'All Form Data'!U21) -> পশ্চিম ভূজপুর, ফটিকছড়ি, চট্টগ্রাম, | L19: =IF('All Form Data'!W21="","",'All Form Data'!W21) -> চট্টগ্রাম | M19: =IF('All Form Data'!Y21="","",'All Form Data'!Y21) -> এস,এস,সি | N19: =IF('All Form Data'!AA21="","",'All Form Data'!AA21) -> 2024 | O19: =IF('All Form Data'!Q21="","",'All Form Data'!Q21) | P19: =IF('All Form Data'!AD21="","",'All Form Data'!AD21) -> না | Q19: =IF('All Form Data'!AF21="","",'All Form Data'!AF21) -> না | R19: =IF('All Form Data'!AG21="","",'All Form Data'!AG21) | T19: =IF('All Form Data'!AQ21="C","Kw¤c‡U›U",IF('All Form Data'!AQ21="NYC","bU B‡qU Kw¤c‡U›U",""))
A20: 14 | B20: =IF('All Form Data'!C22="","",'All Form Data'!C22) -> 250111891 | C20: =IF('All Form Data'!F22="","",'All Form Data'!F22) -> মোহাম্মদ রানা হোসেন | D20: =IF('All Form Data'!I22="","",'All Form Data'!I22) -> আবুল কাশেম | E20: =IF('All Form Data'!K22="","",'All Form Data'!K22) -> রহিমা বেগম | F20: =IF('All Form Data'!N22="","",'All Form Data'!N22) -> 01821351924 | G20: =IF('All Form Data'!M22="","",'All Form Data'!M22) -> 20061516185016449 | H20: =IF('All Form Data'!L22="NID","GbAvBwW",IF('All Form Data'!L22="BCN","Rb¥mb`","")) -> Rb¥mb` | I20: =IF('All Form Data'!G22="","",'All Form Data'!G22) -> 02.03.2006 | J20: =IF('All Form Data'!T22="","",'All Form Data'!T22) -> শিকলবাহা.কর্ণফুলী,চট্টগ্রাম। | K20: =IF('All Form Data'!U22="","",'All Form Data'!U22) -> শিকলবাহা.কর্ণফুলী,চট্টগ্রাম। | L20: =IF('All Form Data'!W22="","",'All Form Data'!W22) -> চট্টগ্রাম | M20: =IF('All Form Data'!Y22="","",'All Form Data'!Y22) -> এস,এস,সি | N20: =IF('All Form Data'!AA22="","",'All Form Data'!AA22) -> 2023 | O20: =IF('All Form Data'!Q22="","",'All Form Data'!Q22) | P20: =IF('All Form Data'!AD22="","",'All Form Data'!AD22) -> না | Q20: =IF('All Form Data'!AF22="","",'All Form Data'!AF22) -> না | R20: =IF('All Form Data'!AG22="","",'All Form Data'!AG22) | T20: =IF('All Form Data'!AQ22="C","Kw¤c‡U›U",IF('All Form Data'!AQ22="NYC","bU B‡qU Kw¤c‡U›U",""))
A21: 15 | B21: =IF('All Form Data'!C23="","",'All Form Data'!C23) -> 250111895 | C21: =IF('All Form Data'!F23="","",'All Form Data'!F23) -> নেয়ামত আলী | D21: =IF('All Form Data'!I23="","",'All Form Data'!I23) -> মোঃ আলমগীর | E21: =IF('All Form Data'!K23="","",'All Form Data'!K23) -> জান্নাতুল নাইমা | F21: =IF('All Form Data'!N23="","",'All Form Data'!N23) -> 01534536233 | G21: =IF('All Form Data'!M23="","",'All Form Data'!M23) -> 1981084922 | H21: =IF('All Form Data'!L23="NID","GbAvBwW",IF('All Form Data'!L23="BCN","Rb¥mb`","")) -> GbAvBwW | I21: =IF('All Form Data'!G23="","",'All Form Data'!G23) -> 02,03,2007 | J21: =IF('All Form Data'!T23="","",'All Form Data'!T23) -> ইস্পানি গেট নং ০১. আকবর শাহ, চট্টগ্রাম, | K21: =IF('All Form Data'!U23="","",'All Form Data'!U23) -> খুলশী কলোনি, পিটিআই.চট্টগ্রাম। | L21: =IF('All Form Data'!W23="","",'All Form Data'!W23) -> চট্টগ্রাম | M21: =IF('All Form Data'!Y23="","",'All Form Data'!Y23) -> এস,এস,সি | N21: =IF('All Form Data'!AA23="","",'All Form Data'!AA23) -> 2023 | O21: =IF('All Form Data'!Q23="","",'All Form Data'!Q23) | P21: =IF('All Form Data'!AD23="","",'All Form Data'!AD23) -> না | Q21: =IF('All Form Data'!AF23="","",'All Form Data'!AF23) -> না | R21: =IF('All Form Data'!AG23="","",'All Form Data'!AG23) | T21: =IF('All Form Data'!AQ23="C","Kw¤c‡U›U",IF('All Form Data'!AQ23="NYC","bU B‡qU Kw¤c‡U›U",""))
A22: 16 | B22: =IF('All Form Data'!C24="","",'All Form Data'!C24) -> 250111897 | C22: =IF('All Form Data'!F24="","",'All Form Data'!F24) -> মোঃ শাহেদুর রহমান তালুকদার | D22: =IF('All Form Data'!I24="","",'All Form Data'!I24) -> শফিউল আলম তালুকদার | E22: =IF('All Form Data'!K24="","",'All Form Data'!K24) -> শেলিনা আকতার | F22: =IF('All Form Data'!N24="","",'All Form Data'!N24) -> 01881233185 | G22: =IF('All Form Data'!M24="","",'All Form Data'!M24) -> 20021510894119829 | H22: =IF('All Form Data'!L24="NID","GbAvBwW",IF('All Form Data'!L24="BCN","Rb¥mb`","")) -> Rb¥mb` | I22: =IF('All Form Data'!G24="","",'All Form Data'!G24) -> 05.01.2002 | J22: =IF('All Form Data'!T24="","",'All Form Data'!T24) -> বাড়ি নং-61.রোড নং-03.কুঞ্জ ছায়া,বাইজিদ,চট্টগ্রাম। | K22: =IF('All Form Data'!U24="","",'All Form Data'!U24) -> শিলকুপ.জোলডি-৪৩৯০,বাঁশখালি.চট্টগ্রাম। | L22: =IF('All Form Data'!W24="","",'All Form Data'!W24) -> চট্টগ্রাম | M22: =IF('All Form Data'!Y24="","",'All Form Data'!Y24) -> এস,এস,সি | N22: =IF('All Form Data'!AA24="","",'All Form Data'!AA24) -> 2019 | O22: =IF('All Form Data'!Q24="","",'All Form Data'!Q24) | P22: =IF('All Form Data'!AD24="","",'All Form Data'!AD24) -> না | Q22: =IF('All Form Data'!AF24="","",'All Form Data'!AF24) -> হ্যাঁ | R22: =IF('All Form Data'!AG24="","",'All Form Data'!AG24) -> Low Vission | T22: =IF('All Form Data'!AQ24="C","Kw¤c‡U›U",IF('All Form Data'!AQ24="NYC","bU B‡qU Kw¤c‡U›U",""))
A23: 17 | B23: =IF('All Form Data'!C25="","",'All Form Data'!C25) -> 250111898 | C23: =IF('All Form Data'!F25="","",'All Form Data'!F25) -> রাহাত হোসেন শাহিন | D23: =IF('All Form Data'!I25="","",'All Form Data'!I25) -> শামসুল আলম | E23: =IF('All Form Data'!K25="","",'All Form Data'!K25) -> বিবি আয়শা | F23: =IF('All Form Data'!N25="","",'All Form Data'!N25) -> 01855839329 | G23: =IF('All Form Data'!M25="","",'All Form Data'!M25) -> 20061516124108762 | H23: =IF('All Form Data'!L25="NID","GbAvBwW",IF('All Form Data'!L25="BCN","Rb¥mb`","")) -> Rb¥mb` | I23: =IF('All Form Data'!G25="","",'All Form Data'!G25) -> 01.01.2006 | J23: =IF('All Form Data'!T25="","",'All Form Data'!T25) -> চরলক্ষ্যা, কর্ণফুলী, চট্টগ্রাম। | K23: =IF('All Form Data'!U25="","",'All Form Data'!U25) -> চরলক্ষ্যা, কর্ণফুলী, চট্টগ্রাম। | L23: =IF('All Form Data'!W25="","",'All Form Data'!W25) -> চট্টগ্রাম | M23: =IF('All Form Data'!Y25="","",'All Form Data'!Y25) -> এস,এস,সি | N23: =IF('All Form Data'!AA25="","",'All Form Data'!AA25) -> 2022 | O23: =IF('All Form Data'!Q25="","",'All Form Data'!Q25) | P23: =IF('All Form Data'!AD25="","",'All Form Data'!AD25) -> না | Q23: =IF('All Form Data'!AF25="","",'All Form Data'!AF25) -> না | R23: =IF('All Form Data'!AG25="","",'All Form Data'!AG25) | T23: =IF('All Form Data'!AQ25="C","Kw¤c‡U›U",IF('All Form Data'!AQ25="NYC","bU B‡qU Kw¤c‡U›U",""))
A24: 18 | B24: =IF('All Form Data'!C26="","",'All Form Data'!C26) -> 250111901 | C24: =IF('All Form Data'!F26="","",'All Form Data'!F26) -> নবর্ষি দেওয়ান | D24: =IF('All Form Data'!I26="","",'All Form Data'!I26) -> গৌরী শেখর দেওয়ান | E24: =IF('All Form Data'!K26="","",'All Form Data'!K26) -> কাবেরী চাকমা | F24: =IF('All Form Data'!N26="","",'All Form Data'!N26) -> 01878499819 | G24: =IF('All Form Data'!M26="","",'All Form Data'!M26) -> 6903940077 | H24: =IF('All Form Data'!L26="NID","GbAvBwW",IF('All Form Data'!L26="BCN","Rb¥mb`","")) -> GbAvBwW | I24: =IF('All Form Data'!G26="","",'All Form Data'!G26) -> 17.06.1996 | J24: =IF('All Form Data'!T26="","",'All Form Data'!T26) -> বোরাদন,দীঘিনালা,খাগড়াছড়ি,চট্টগ্রাম। | K24: =IF('All Form Data'!U26="","",'All Form Data'!U26) -> শাহেনশাহ বিল্ডিং, ফ্রিপোর্ট, বন্দর, চট্টগ্রাম। | L24: =IF('All Form Data'!W26="","",'All Form Data'!W26) -> চট্টগ্রাম | M24: =IF('All Form Data'!Y26="","",'All Form Data'!Y26) -> এস,এস,সি | N24: =IF('All Form Data'!AA26="","",'All Form Data'!AA26) -> 2012 | O24: =IF('All Form Data'!Q26="","",'All Form Data'!Q26) | P24: =IF('All Form Data'!AD26="","",'All Form Data'!AD26) -> হ্যাঁ | Q24: =IF('All Form Data'!AF26="","",'All Form Data'!AF26) -> না | R24: =IF('All Form Data'!AG26="","",'All Form Data'!AG26) | T24: =IF('All Form Data'!AQ26="C","Kw¤c‡U›U",IF('All Form Data'!AQ26="NYC","bU B‡qU Kw¤c‡U›U",""))
A25: 19 | B25: =IF('All Form Data'!C27="","",'All Form Data'!C27) -> 250111903 | C25: =IF('All Form Data'!F27="","",'All Form Data'!F27) -> মোঃ বেল্লাল খান | D25: =IF('All Form Data'!I27="","",'All Form Data'!I27) -> আব্দূল লতিফ খান | E25: =IF('All Form Data'!K27="","",'All Form Data'!K27) -> বিলকিস বেগম | F25: =IF('All Form Data'!N27="","",'All Form Data'!N27) -> 01585465168 | G25: =IF('All Form Data'!M27="","",'All Form Data'!M27) -> 20064614379100939 | H25: =IF('All Form Data'!L27="NID","GbAvBwW",IF('All Form Data'!L27="BCN","Rb¥mb`","")) -> Rb¥mb` | I25: =IF('All Form Data'!G27="","",'All Form Data'!G27) -> 09.09.2006 | J25: =IF('All Form Data'!T27="","",'All Form Data'!T27) -> বেতছড়ি,30 নং.বড় মেরুং.দীঘিনালা-4420.খাগড়াছড়ি। | K25: =IF('All Form Data'!U27="","",'All Form Data'!U27) -> বাইজিদ,চট্টগ্রাম। | L25: =IF('All Form Data'!W27="","",'All Form Data'!W27) -> খাগড়াছড়ি | M25: =IF('All Form Data'!Y27="","",'All Form Data'!Y27) -> এস,এস,সি | N25: =IF('All Form Data'!AA27="","",'All Form Data'!AA27) -> 2023 | O25: =IF('All Form Data'!Q27="","",'All Form Data'!Q27) | P25: =IF('All Form Data'!AD27="","",'All Form Data'!AD27) -> না | Q25: =IF('All Form Data'!AF27="","",'All Form Data'!AF27) -> না | R25: =IF('All Form Data'!AG27="","",'All Form Data'!AG27) | T25: =IF('All Form Data'!AQ27="C","Kw¤c‡U›U",IF('All Form Data'!AQ27="NYC","bU B‡qU Kw¤c‡U›U",""))
A26: 20 | B26: =IF('All Form Data'!C28="","",'All Form Data'!C28) -> 250111907 | C26: =IF('All Form Data'!F28="","",'All Form Data'!F28) -> অর্ক নাথ অংকন | D26: =IF('All Form Data'!I28="","",'All Form Data'!I28) -> গৌরাঙ্গ নাথ | E26: =IF('All Form Data'!K28="","",'All Form Data'!K28) -> বাপ্পি দেবী | F26: =IF('All Form Data'!N28="","",'All Form Data'!N28) -> 01586238425 | G26: =IF('All Form Data'!M28="","",'All Form Data'!M28) -> 20071591615105088 | H26: =IF('All Form Data'!L28="NID","GbAvBwW",IF('All Form Data'!L28="BCN","Rb¥mb`","")) -> Rb¥mb` | I26: =IF('All Form Data'!G28="","",'All Form Data'!G28) -> 23,08,2007 | J26: =IF('All Form Data'!T28="","",'All Form Data'!T28) -> টাকোটা, আনোয়ারা, চট্টগ্রাম | K26: =IF('All Form Data'!U28="","",'All Form Data'!U28) -> হালিশহর। চট্টগ্রাম, | L26: =IF('All Form Data'!W28="","",'All Form Data'!W28) -> খাগড়াছড়ি | M26: =IF('All Form Data'!Y28="","",'All Form Data'!Y28) -> এস,এস,সি | N26: =IF('All Form Data'!AA28="","",'All Form Data'!AA28) -> 2023 | O26: =IF('All Form Data'!Q28="","",'All Form Data'!Q28) | P26: =IF('All Form Data'!AD28="","",'All Form Data'!AD28) -> না | Q26: =IF('All Form Data'!AF28="","",'All Form Data'!AF28) -> হ্যাঁ | R26: =IF('All Form Data'!AG28="","",'All Form Data'!AG28) -> Low Vission | T26: =IF('All Form Data'!AQ28="C","Kw¤c‡U›U",IF('All Form Data'!AQ28="NYC","bU B‡qU Kw¤c‡U›U",""))
A27: 21 | B27: =IF('All Form Data'!C29="","",'All Form Data'!C29) -> 250111910 | C27: =IF('All Form Data'!F29="","",'All Form Data'!F29) -> মোঃ আবরার ওয়াসিফ | D27: =IF('All Form Data'!I29="","",'All Form Data'!I29) -> মোঃ আলা উদ্দীন | E27: =IF('All Form Data'!K29="","",'All Form Data'!K29) -> লুৎফুন নাহার | F27: =IF('All Form Data'!N29="","",'All Form Data'!N29) -> 01843649633 | G27: =IF('All Form Data'!M29="","",'All Form Data'!M29) -> 20077512171035670 | H27: =IF('All Form Data'!L29="NID","GbAvBwW",IF('All Form Data'!L29="BCN","Rb¥mb`","")) -> Rb¥mb` | I27: =IF('All Form Data'!G29="","",'All Form Data'!G29) -> 04.10.2007 | J27: =IF('All Form Data'!T29="","",'All Form Data'!T29) -> আবুল খায়েরের বাড়ি সারেং.রামপুর.কোম্পানী গঞ্জ,নোয়াখালী। | K27: =IF('All Form Data'!U29="","",'All Form Data'!U29) -> গ্রীন ভিউ, পাঁচলাইশ, চট্টগ্রাম। | L27: =IF('All Form Data'!W29="","",'All Form Data'!W29) -> নোয়াখালী | M27: =IF('All Form Data'!Y29="","",'All Form Data'!Y29) -> জে,এস,সি | N27: =IF('All Form Data'!AA29="","",'All Form Data'!AA29) -> 2024 | O27: =IF('All Form Data'!Q29="","",'All Form Data'!Q29) | P27: =IF('All Form Data'!AD29="","",'All Form Data'!AD29) -> না | Q27: =IF('All Form Data'!AF29="","",'All Form Data'!AF29) -> না | R27: =IF('All Form Data'!AG29="","",'All Form Data'!AG29) | T27: =IF('All Form Data'!AQ29="C","Kw¤c‡U›U",IF('All Form Data'!AQ29="NYC","bU B‡qU Kw¤c‡U›U",""))
A28: 22 | B28: =IF('All Form Data'!C30="","",'All Form Data'!C30) -> 250111911 | C28: =IF('All Form Data'!F30="","",'All Form Data'!F30) -> মোহাম্মদ আব্দুল আল ফাহাদ | D28: =IF('All Form Data'!I30="","",'All Form Data'!I30) -> মোহাম্মদ আব্দুল আলিম | E28: =IF('All Form Data'!K30="","",'All Form Data'!K30) -> রিজিয়া বেগম | F28: =IF('All Form Data'!N30="","",'All Form Data'!N30) -> 01975196567 | G28: =IF('All Form Data'!M30="","",'All Form Data'!M30) -> 4218937656 | H28: =IF('All Form Data'!L30="NID","GbAvBwW",IF('All Form Data'!L30="BCN","Rb¥mb`","")) -> GbAvBwW | I28: =IF('All Form Data'!G30="","",'All Form Data'!G30) -> 15.10.2006 | J28: =IF('All Form Data'!T30="","",'All Form Data'!T30) -> অলি আহমদ মিয়ার বাড়ি, হোরিহোরপুর, চৈতেন্যের হাট, মিরশ্বরাই, চট্টগ্রাম। | K28: =IF('All Form Data'!U30="","",'All Form Data'!U30) -> ওয়্যারলেস মুরগির ফার্ম,পিটিআই,খুলশী,চট্টগ্রাম। | L28: =IF('All Form Data'!W30="","",'All Form Data'!W30) -> চট্টগ্রাম | M28: =IF('All Form Data'!Y30="","",'All Form Data'!Y30) -> এস,এস,সি | N28: =IF('All Form Data'!AA30="","",'All Form Data'!AA30) -> 2023 | O28: =IF('All Form Data'!Q30="","",'All Form Data'!Q30) | P28: =IF('All Form Data'!AD30="","",'All Form Data'!AD30) -> না | Q28: =IF('All Form Data'!AF30="","",'All Form Data'!AF30) -> না | R28: =IF('All Form Data'!AG30="","",'All Form Data'!AG30) | T28: =IF('All Form Data'!AQ30="C","Kw¤c‡U›U",IF('All Form Data'!AQ30="NYC","bU B‡qU Kw¤c‡U›U",""))
A29: 23 | B29: =IF('All Form Data'!C31="","",'All Form Data'!C31) -> 250111913 | C29: =IF('All Form Data'!F31="","",'All Form Data'!F31) -> হাসনাত ফাহিম | D29: =IF('All Form Data'!I31="","",'All Form Data'!I31) -> মোঃইলিয়াছ | E29: =IF('All Form Data'!K31="","",'All Form Data'!K31) -> ফাতেমা বেগম | F29: =IF('All Form Data'!N31="","",'All Form Data'!N31) -> 01871892929 | G29: =IF('All Form Data'!M31="","",'All Form Data'!M31) -> 1046446744 | H29: =IF('All Form Data'!L31="NID","GbAvBwW",IF('All Form Data'!L31="BCN","Rb¥mb`","")) -> GbAvBwW | I29: =IF('All Form Data'!G31="","",'All Form Data'!G31) -> 03.10.2002 | J29: =IF('All Form Data'!T31="","",'All Form Data'!T31) -> সাতঘোরিয়া, শিবেরহাট, সন্দ্বীপ, চট্টগ্রাম। | K29: =IF('All Form Data'!U31="","",'All Form Data'!U31) -> বাড়ি নং-১২, ব্লক নং, -এ. হালিশহর, চট্টগ্রাম। | L29: =IF('All Form Data'!W31="","",'All Form Data'!W31) -> সন্দীপ | M29: =IF('All Form Data'!Y31="","",'All Form Data'!Y31) -> এস,এস,সি | N29: =IF('All Form Data'!AA31="","",'All Form Data'!AA31) -> 2019 | O29: =IF('All Form Data'!Q31="","",'All Form Data'!Q31) | P29: =IF('All Form Data'!AD31="","",'All Form Data'!AD31) -> না | Q29: =IF('All Form Data'!AF31="","",'All Form Data'!AF31) -> না | R29: =IF('All Form Data'!AG31="","",'All Form Data'!AG31) | T29: =IF('All Form Data'!AQ31="C","Kw¤c‡U›U",IF('All Form Data'!AQ31="NYC","bU B‡qU Kw¤c‡U›U",""))
A30: 24 | B30: =IF('All Form Data'!C32="","",'All Form Data'!C32) -> 250111915 | C30: =IF('All Form Data'!F32="","",'All Form Data'!F32) -> মোঃ কামরুল হাসান | D30: =IF('All Form Data'!I32="","",'All Form Data'!I32) -> মোঃ শামসুল আলম | E30: =IF('All Form Data'!K32="","",'All Form Data'!K32) -> খতিজা বেগম | F30: =IF('All Form Data'!N32="","",'All Form Data'!N32) -> 01854189622 | G30: =IF('All Form Data'!M32="","",'All Form Data'!M32) -> 20061518647131789 | H30: =IF('All Form Data'!L32="NID","GbAvBwW",IF('All Form Data'!L32="BCN","Rb¥mb`","")) -> Rb¥mb` | I30: =IF('All Form Data'!G32="","",'All Form Data'!G32) -> 27.02.2006 | J30: =IF('All Form Data'!#REF!="","",'All Form Data'!#REF!) -> #REF! | K30: =IF('All Form Data'!U32="","",'All Form Data'!U32) -> দক্ষিণ আখির পুর.মুছজিদ্দা,কুমিরা,সীতাকুন্ড,চট্টগ্রাম। | L30: =IF('All Form Data'!W32="","",'All Form Data'!W32) -> চট্টগ্রাম | M30: =IF('All Form Data'!Y32="","",'All Form Data'!Y32) -> এস,এস,সি | N30: =IF('All Form Data'!AA32="","",'All Form Data'!AA32) -> 2025 | O30: =IF('All Form Data'!Q32="","",'All Form Data'!Q32) | P30: =IF('All Form Data'!AD32="","",'All Form Data'!AD32) -> না | Q30: =IF('All Form Data'!AF32="","",'All Form Data'!AF32) -> না | R30: =IF('All Form Data'!AG32="","",'All Form Data'!AG32) | T30: =IF('All Form Data'!AQ32="C","Kw¤c‡U›U",IF('All Form Data'!AQ32="NYC","bU B‡qU Kw¤c‡U›U",""))
N31: cyiæl | O31: =COUNTIF(O7:O30,N31) -> 0 | Q31: Kw¤c‡U›U | T31: =COUNTIF(T7:T30,Q31) -> 0
N32: bvix | O32: =COUNTIF(O8:O30,N32) -> 0 | Q32: bU B‡qU Kw¤c‡U›U | T32: =COUNTIF(T8:T30,Q32) -> 0

Sheet Trainee Data (Eng)
A1: Trainee Information
A2: ='All Form Data'!C2 -> †mkbt b‡f¤^i 2024 - †deªæqvix 2025
A3: ='All Form Data'!C3 -> cÖwk¶Y cÖ`vbKvix cÖwZôvb t BD‡mc AvgevMvb wUwfBwU Bbw÷wUDU|
A4: ='All Form Data'!C4 -> †UªW t B‡jKwUªK¨vj BÝU‡jkb GÛ †gBb‡Ub¨vÝ
A5: Accelerating and Strengthening Skills for Economic Transformation (ASSET) cÖKí
A6: SL no | B6: ASSET ID | C6: Name of Trainee | D6: Father's Name | E6: Mother's Name | F6: Mobile No | G6: NID/BCN No | H6: UID Type | I6: Date of Birth | J6: Permanent Address | K6: Present Address | L6: Own District | M6: Education | N6: Passing Year | O6: Gender | P6: Ethnic | Q6: PWD | R6: Type | S6: Photo | T6: Result
A7: 1 | B7: =IF('All Form Data'!C12="","",'All Form Data'!C12) -> 250111846 | C7: =IF('All Form Data'!E12="","",'All Form Data'!E12) -> Mohammad Badsha | D7: =IF('All Form Data'!H12="","",'All Form Data'!H12) -> Md.Hasan | E7: =IF('All Form Data'!J12="","",'All Form Data'!J12) -> Khurshida Begum | F7: =IF('All Form Data'!N12="","",'All Form Data'!N12) -> 01305978432 | G7: =IF('All Form Data'!M12="","",'All Form Data'!M12) -> 3317890733 | H7: =IF('All Form Data'!L12="","",'All Form Data'!L12) -> NID | I7: =IF('All Form Data'!G12="","",'All Form Data'!G12) -> 10.10.200 | J7: =IF('All Form Data'!R12="","",'All Form Data'!R12) -> Kochuai.Potiya.Chattogram | K7: =IF('All Form Data'!S12="","",'All Form Data'!S12) -> Slimpur.CDA R/A.Chattogram | L7: =IF('All Form Data'!V12="","",'All Form Data'!V12) -> Chattogram | M7: =IF('All Form Data'!X12="","",'All Form Data'!X12) -> SSC | N7: =IF('All Form Data'!Z12="","",'All Form Data'!Z12) -> 2021 | O7: =IF('All Form Data'!P12="","",'All Form Data'!P12) -> Male | P7: =IF('All Form Data'!AC12="","",'All Form Data'!AC12) -> No | Q7: =IF('All Form Data'!AE12="","",'All Form Data'!AE12) -> No | R7: =IF('All Form Data'!AG12="","",'All Form Data'!AG12) | T7: =IF('All Form Data'!AQ12="C","Competent",IF('All Form Data'!AQ12="NYC","Not Yet Competent",""))
A8: 2 | B8: =IF('All Form Data'!#REF!="","",'All Form Data'!#REF!) -> #REF! | C8: =IF('All Form Data'!#REF!="","",'All Form Data'!#REF!) -> #REF! | D8: =IF('All Form Data'!#REF!="","",'All Form Data'!#REF!) -> #REF! | E8: =IF('All Form Data'!#REF!="","",'All Form Data'!#REF!) -> #REF! | F8: =IF('All Form Data'!#REF!="","",'All Form Data'!#REF!) -> #REF! | G8: =IF('All Form Data'!#REF!="","",'All Form Data'!#REF!) -> #REF! | H8: =IF('All Form Data'!#REF!="","",'All Form Data'!#REF!) -> #REF! | I8: =IF('All Form Data'!#REF!="","",'All Form Data'!#REF!) -> #REF! | ... R8: =IF('All Form Data'!#REF!="","",'All Form Data'!#REF!) -> #REF! | T8: =IF('All Form Data'!#REF!="C","Competent",IF('All Form Data'!#REF!="NYC","Not Yet Competent","")) -> #REF!
A9: 3 | B9: =IF('All Form Data'!C13="","",'All Form Data'!C13) -> 250111853 | C9: =IF('All Form Data'!E13="","",'All Form Data'!E13) -> Jahidul Islam | D9: =IF('All Form Data'!H13="","",'All Form Data'!H13) -> Mohammad Rafique | E9: =IF('All Form Data'!J13="","",'All Form Data'!J13) -> Sajia Begum | F9: =IF('All Form Data'!N13="","",'All Form Data'!N13) -> 01888239320 | G9: =IF('All Form Data'!M13="","",'All Form Data'!M13) -> 1982221135 | H9: =IF('All Form Data'!L13="","",'All Form Data'!L13) -> NID | I9: =IF('All Form Data'!G13="","",'All Form Data'!G13) -> 24,08.2006 | J9: =IF('All Form Data'!R13="","",'All Form Data'!R13) -> Chalk Farid.Charlaxma,Karnofuly,Chattogram, | K9: =IF('All Form Data'!S13="","",'All Form Data'!S13) -> Do. | L9: =IF('All Form Data'!V13="","",'All Form Data'!V13) -> Chattogram. | M9: =IF('All Form Data'!X13="","",'All Form Data'!X13) -> SSC | N9: =IF('All Form Data'!Z13="","",'All Form Data'!Z13) -> 2021 | O9: =IF('All Form Data'!P13="","",'All Form Data'!P13) -> Male | P9: =IF('All Form Data'!AC13="","",'All Form Data'!AC13) -> No | Q9: =IF('All Form Data'!AE13="","",'All Form Data'!AE13) -> No | R9: =IF('All Form Data'!AG13="","",'All Form Data'!AG13) | T9: =IF('All Form Data'!AQ13="C","Competent",IF('All Form Data'!AQ13="NYC","Not Yet Competent",""))
A10: 4 | B10: =IF('All Form Data'!C14="","",'All Form Data'!C14) -> 250111857 | C10: =IF('All Form Data'!E14="","",'All Form Data'!E14) -> Supan Saha | D10: =IF('All Form Data'!H14="","",'All Form Data'!H14) -> Sumon Saha | E10: =IF('All Form Data'!J14="","",'All Form Data'!J14) -> Shilpi Saha | F10: =IF('All Form Data'!N14="","",'All Form Data'!N14) -> 01843256390 | G10: =IF('All Form Data'!M14="","",'All Form Data'!M14) -> 2882077627 | H10: =IF('All Form Data'!L14="","",'All Form Data'!L14) -> NID | I10: =IF('All Form Data'!G14="","",'All Form Data'!G14) -> 12,02,2007 | J10: =IF('All Form Data'!R14="","",'All Form Data'!R14) -> Saha Bari, Moddle Mahmudabad,barobkunda.Sitakunda.Chattogram. | K10: =IF('All Form Data'!S14="","",'All Form Data'!S14) -> Do. | L10: =IF('All Form Data'!V14="","",'All Form Data'!V14) -> Chattogram. | M10: =IF('All Form Data'!X14="","",'All Form Data'!X14) -> SSC | N10: =IF('All Form Data'!Z14="","",'All Form Data'!Z14) -> 2023 | O10: =IF('All Form Data'!P14="","",'All Form Data'!P14) -> Male | P10: =IF('All Form Data'!AC14="","",'All Form Data'!AC14) -> No | Q10: =IF('All Form Data'!AE14="","",'All Form Data'!AE14) -> No | R10: =IF('All Form Data'!AG14="","",'All Form Data'!AG14) | T10: =IF('All Form Data'!AQ14="C","Competent",IF('All Form Data'!AQ14="NYC","Not Yet Competent",""))
A11: 5 | B11: =IF('All Form Data'!C15="","",'All Form Data'!C15) -> 250111861 | C11: =IF('All Form Data'!E15="","",'All Form Data'!E15) -> Md.Jahidul Islam Emon | D11: =IF('All Form Data'!H15="","",'All Form Data'!H15) -> Juhirul Islam | E11: =IF('All Form Data'!J15="","",'All Form Data'!J15) -> Hosne Ara Begum | F11: =IF('All Form Data'!N15="","",'All Form Data'!N15) -> 01814393561 | G11: =IF('All Form Data'!M15="","",'All Form Data'!M15) -> 9172738362 | H11: =IF('All Form Data'!L15="","",'All Form Data'!L15) -> NID | I11: =IF('All Form Data'!G15="","",'All Form Data'!G15) -> 02,02,2004 | J11: =IF('All Form Data'!R15="","",'All Form Data'!R15) -> House Of Ismail Sarker,Kodom Rasul.Kodomtali.Chattogram, | K11: =IF('All Form Data'!S15="","",'All Form Data'!S15) -> Do. | L11: =IF('All Form Data'!V15="","",'All Form Data'!V15) -> Chattogram. | M11: =IF('All Form Data'!X15="","",'All Form Data'!X15) -> JSC | N11: =IF('All Form Data'!Z15="","",'All Form Data'!Z15) -> 2020 | O11: =IF('All Form Data'!P15="","",'All Form Data'!P15) -> Male | P11: =IF('All Form Data'!AC15="","",'All Form Data'!AC15) -> No | Q11: =IF('All Form Data'!AE15="","",'All Form Data'!AE15) -> No | R11: =IF('All Form Data'!AG15="","",'All Form Data'!AG15) | T11: =IF('All Form Data'!AQ15="C","Competent",IF('All Form Data'!AQ15="NYC","Not Yet Competent",""))
A12: 6 | B12: =IF('All Form Data'!C16="","",'All Form Data'!C16) -> 250111862 | C12: =IF('All Form Data'!E16="","",'All Form Data'!E16) -> Arman Hossen | D12: =IF('All Form Data'!H16="","",'All Form Data'!H16) -> Md. Bahadur | E12: =IF('All Form Data'!J16="","",'All Form Data'!J16) -> Rina Akter | F12: =IF('All Form Data'!N16="","",'All Form Data'!N16) -> 01855375547 | G12: =IF('All Form Data'!M16="","",'All Form Data'!M16) -> 4667424719 | H12: =IF('All Form Data'!L16="","",'All Form Data'!L16) -> NID | I12: =IF('All Form Data'!G16="","",'All Form Data'!G16) -> 11,12,2001 | J12: =IF('All Form Data'!S16="","",'All Form Data'!S16) -> Do. | K12: =IF('All Form Data'!#REF!="","",'All Form Data'!#REF!) -> #REF! | L12: =IF('All Form Data'!V16="","",'All Form Data'!V16) -> Chattogram. | M12: =IF('All Form Data'!X16="","",'All Form Data'!X16) -> HSC | N12: =IF('All Form Data'!Z16="","",'All Form Data'!Z16) -> 2022 | O12: =IF('All Form Data'!P16="","",'All Form Data'!P16) -> Male | P12: =IF('All Form Data'!AC16="","",'All Form Data'!AC16) -> No | Q12: =IF('All Form Data'!AE16="","",'All Form Data'!AE16) -> No | R12: =IF('All Form Data'!AG16="","",'All Form Data'!AG16) | T12: =IF('All Form Data'!AQ16="C","Competent",IF('All Form Data'!AQ16="NYC","Not Yet Competent",""))
A13: 7 | B13: =IF('All Form Data'!C17="","",'All Form Data'!C17) -> 250111866 | C13: =IF('All Form Data'!E17="","",'All Form Data'!E17) -> Rabiul Sani | D13: =IF('All Form Data'!H17="","",'All Form Data'!H17) -> Abu Taher | E13: =IF('All Form Data'!J17="","",'All Form Data'!J17) -> Aklima Begum | F13: =IF('All Form Data'!N17="","",'All Form Data'!N17) -> 01810279672 | G13: =IF('All Form Data'!M17="","",'All Form Data'!M17) -> 20051517017100398 | H13: =IF('All Form Data'!L17="","",'All Form Data'!L17) -> BCN | I13: =IF('All Form Data'!G17="","",'All Form Data'!G17) -> 22,01,2005 | J13: =IF('All Form Data'!R17="","",'All Form Data'!R17) -> East Chandraghona,Khandaker Para,Rangunia.Chattogram. | K13: =IF('All Form Data'!S17="","",'All Form Data'!S17) -> 2106 Talukder Vila,Al falah Goli.Khulshi,Chattogram. | L13: =IF('All Form Data'!V17="","",'All Form Data'!V17) -> Chattogram. | M13: =IF('All Form Data'!X17="","",'All Form Data'!X17) -> SSC | N13: =IF('All Form Data'!Z17="","",'All Form Data'!Z17) -> 2021 | O13: =IF('All Form Data'!P17="","",'All Form Data'!P17) -> Male | P13: =IF('All Form Data'!AC17="","",'All Form Data'!AC17) -> No | Q13: =IF('All Form Data'!AE17="","",'All Form Data'!AE17) -> No | R13: =IF('All Form Data'!AG17="","",'All Form Data'!AG17) | T13: =IF('All Form Data'!AQ17="C","Competent",IF('All Form Data'!AQ17="NYC","Not Yet Competent",""))
A14: 8 | B14: =IF('All Form Data'!C18="","",'All Form Data'!C18) -> 250111868 | C14: =IF('All Form Data'!E18="","",'All Form Data'!E18) -> Akil Raihan | D14: =IF('All Form Data'!H18="","",'All Form Data'!H18) -> Mohammad Abu Taher | E14: =IF('All Form Data'!J18="","",'All Form Data'!J18) -> Shamima Ferdous | F14: =IF('All Form Data'!N18="","",'All Form Data'!N18) -> 01585746887 | G14: =IF('All Form Data'!M18="","",'All Form Data'!M18) -> 7367863589 | H14: =IF('All Form Data'!L18="","",'All Form Data'!L18) -> NID | I14: =IF('All Form Data'!G18="","",'All Form Data'!G18) -> 12,03,2002 | J14: =IF('All Form Data'!R18="","",'All Form Data'!R18) -> Latifpur.Jafrabad,Sitakunda,Chattogram. | K14: =IF('All Form Data'!S18="","",'All Form Data'!S18) -> Do. | L14: =IF('All Form Data'!V18="","",'All Form Data'!V18) -> Chattogram. | M14: =IF('All Form Data'!X18="","",'All Form Data'!X18) -> HSC | N14: =IF('All Form Data'!Z18="","",'All Form Data'!Z18) -> 2022 | O14: =IF('All Form Data'!P18="","",'All Form Data'!P18) -> Male | P14: =IF('All Form Data'!AC18="","",'All Form Data'!AC18) -> No | Q14: =IF('All Form Data'!AE18="","",'All Form Data'!AE18) -> No | R14: =IF('All Form Data'!AG18="","",'All Form Data'!AG18) | T14: =IF('All Form Data'!AQ18="C","Competent",IF('All Form Data'!AQ18="NYC","Not Yet Competent",""))
A15: 9 | B15: =IF('All Form Data'!C19="","",'All Form Data'!C19) -> 250111880 | C15: =IF('All Form Data'!E19="","",'All Form Data'!E19) -> Sadman Shariar Mahin. | D15: =IF('All Form Data'!H19="","",'All Form Data'!H19) -> Mohammad Muslim Uddin | E15: =IF('All Form Data'!J19="","",'All Form Data'!J19) -> Farvin Akter | F15: =IF('All Form Data'!N19="","",'All Form Data'!N19) -> 01631640948 | G15: =IF('All Form Data'!M19="","",'All Form Data'!M19) -> 9167885103 | H15: =IF('All Form Data'!L19="","",'All Form Data'!L19) -> NID | I15: =IF('All Form Data'!G19="","",'All Form Data'!G19) -> 31,10,2004 | J15: =IF('All Form Data'!R19="","",'All Form Data'!R19) -> Madambibir Hat.Jahanabad.Bhatiary.Sitakunda,Chattogram. | K15: =IF('All Form Data'!S19="","",'All Form Data'!S19) -> Do. | L15: =IF('All Form Data'!V19="","",'All Form Data'!V19) -> Chattogram. | M15: =IF('All Form Data'!X19="","",'All Form Data'!X19) -> SSC | N15: =IF('All Form Data'!Z19="","",'All Form Data'!Z19) -> 2021 | O15: =IF('All Form Data'!P19="","",'All Form Data'!P19) -> Male | P15: =IF('All Form Data'!AC19="","",'All Form Data'!AC19) -> No | Q15: =IF('All Form Data'!AE19="","",'All Form Data'!AE19) -> Yes | R15: =IF('All Form Data'!AG19="","",'All Form Data'!AG19) -> Low Vission | T15: =IF('All Form Data'!AQ19="C","Competent",IF('All Form Data'!AQ19="NYC","Not Yet Competent",""))
A16: 10 | B16: =IF('All Form Data'!#REF!="","",'All Form Data'!#REF!) -> #REF! | C16: =IF('All Form Data'!#REF!="","",'All Form Data'!#REF!) -> #REF! | D16: =IF('All Form Data'!#REF!="","",'All Form Data'!#REF!) -> #REF! | E16: =IF('All Form Data'!#REF!="","",'All Form Data'!#REF!) -> #REF! | F16: =IF('All Form Data'!#REF!="","",'All Form Data'!#REF!) -> #REF! | G16: =IF('All Form Data'!#REF!="","",'All Form Data'!#REF!) -> #REF! | H16: =IF('All Form Data'!#REF!="","",'All Form Data'!#REF!) -> #REF! | I16: =IF('All Form Data'!#REF!="","",'All Form Data'!#REF!) -> #REF! | ... R16: =IF('All Form Data'!#REF!="","",'All Form Data'!#REF!) -> #REF! | T16: =IF('All Form Data'!#REF!="C","Competent",IF('All Form Data'!#REF!="NYC","Not Yet Competent","")) -> #REF!
A17: 11 | B17: =IF('All Form Data'!#REF!="","",'All Form Data'!#REF!) -> #REF! | C17: =IF('All Form Data'!#REF!="","",'All Form Data'!#REF!) -> #REF! | D17: =IF('All Form Data'!#REF!="","",'All Form Data'!#REF!) -> #REF! | E17: =IF('All Form Data'!#REF!="","",'All Form Data'!#REF!) -> #REF! | F17: =IF('All Form Data'!#REF!="","",'All Form Data'!#REF!) -> #REF! | G17: =IF('All Form Data'!#REF!="","",'All Form Data'!#REF!) -> #REF! | H17: =IF('All Form Data'!#REF!="","",'All Form Data'!#REF!) -> #REF! | I17: =IF('All Form Data'!#REF!="","",'All Form Data'!#REF!) -> #REF! | ... R17: =IF('All Form Data'!#REF!="","",'All Form Data'!#REF!) -> #REF! | T17: =IF('All Form Data'!#REF!="C","Competent",IF('All Form Data'!#REF!="NYC","Not Yet Competent","")) -> #REF!
A18: 12 | B18: =IF('All Form Data'!C20="","",'All Form Data'!C20) -> 250111884 | C18: =IF('All Form Data'!E20="","",'All Form Data'!E20) -> Rifat Uddin | D18: =IF('All Form Data'!H20="","",'All Form Data'!H20) -> Md.Samsudiin | E18: =IF('All Form Data'!J20="","",'All Form Data'!J20) -> Rina Begum | F18: =IF('All Form Data'!N20="","",'All Form Data'!N20) -> 01880961207 | G18: =IF('All Form Data'!M20="","",'All Form Data'!M20) -> 20051518666022037 | H18: =IF('All Form Data'!L20="","",'All Form Data'!L20) -> BCN | I18: =IF('All Form Data'!G20="","",'All Form Data'!G20) -> 03.08.2005 | J18: =IF('All Form Data'!R20="","",'All Form Data'!R20) -> Latif Pur.Pakka Raster Matha,South Solim Pur.Jafrabad,Sitakunda, | K18: =IF('All Form Data'!S20="","",'All Form Data'!S20) -> Do. | L18: =IF('All Form Data'!V20="","",'All Form Data'!V20) -> Chattogram | M18: =IF('All Form Data'!X20="","",'All Form Data'!X20) -> SSC | N18: =IF('All Form Data'!Z20="","",'All Form Data'!Z20) -> 2023 | O18: =IF('All Form Data'!P20="","",'All Form Data'!P20) -> Male | P18: =IF('All Form Data'!AC20="","",'All Form Data'!AC20) -> No | Q18: =IF('All Form Data'!AE20="","",'All Form Data'!AE20) -> No | R18: =IF('All Form Data'!AG20="","",'All Form Data'!AG20) | T18: =IF('All Form Data'!AQ20="C","Competent",IF('All Form Data'!AQ20="NYC","Not Yet Competent",""))
A19: 13 | B19: =IF('All Form Data'!C21="","",'All Form Data'!C21) -> 250111885 | C19: =IF('All Form Data'!E21="","",'All Form Data'!E21) -> Bijoy Mallik | D19: =IF('All Form Data'!H21="","",'All Form Data'!H21) -> Liton mallik | E19: =IF('All Form Data'!J21="","",'All Form Data'!J21) -> Shikha Mallik | F19: =IF('All Form Data'!N21="","",'All Form Data'!N21) -> 01404621823 | G19: =IF('All Form Data'!M21="","",'All Form Data'!M21) -> 20041591602158738 | H19: =IF('All Form Data'!L21="","",'All Form Data'!L21) -> BCN | I19: =IF('All Form Data'!G21="","",'All Form Data'!G21) -> 27.02.2004 | J19: =IF('All Form Data'!R21="","",'All Form Data'!R21) -> Balu Chara,Jalalabad,Khulsi,Chattogram | K19: =IF('All Form Data'!S21="","",'All Form Data'!S21) -> West Bhujpur,Fatikchori,Chattogram, | L19: =IF('All Form Data'!V21="","",'All Form Data'!V21) -> Chattogram | M19: =IF('All Form Data'!X21="","",'All Form Data'!X21) -> SSC | N19: =IF('All Form Data'!Z21="","",'All Form Data'!Z21) -> 2024 | O19: =IF('All Form Data'!P21="","",'All Form Data'!P21) -> Male | P19: =IF('All Form Data'!AC21="","",'All Form Data'!AC21) -> No | Q19: =IF('All Form Data'!AE21="","",'All Form Data'!AE21) -> No | R19: =IF('All Form Data'!AG21="","",'All Form Data'!AG21) | T19: =IF('All Form Data'!AQ21="C","Competent",IF('All Form Data'!AQ21="NYC","Not Yet Competent",""))
A20: 14 | B20: =IF('All Form Data'!C22="","",'All Form Data'!C22) -> 250111891 | C20: =IF('All Form Data'!E22="","",'All Form Data'!E22) -> Mohammad Rana Hosen | D20: =IF('All Form Data'!H22="","",'All Form Data'!H22) -> Abul Kashem | E20: =IF('All Form Data'!J22="","",'All Form Data'!J22) -> Rahima Akter | F20: =IF('All Form Data'!N22="","",'All Form Data'!N22) -> 01821351924 | G20: =IF('All Form Data'!M22="","",'All Form Data'!M22) -> 20061516185016449 | H20: =IF('All Form Data'!L22="","",'All Form Data'!L22) -> BCN | I20: =IF('All Form Data'!G22="","",'All Form Data'!G22) -> 02.03.2006 | J20: =IF('All Form Data'!R22="","",'All Form Data'!R22) -> Do | K20: =IF('All Form Data'!S22="","",'All Form Data'!S22) -> Shikolbaha.Karnafuly,Chattogram. | L20: =IF('All Form Data'!V22="","",'All Form Data'!V22) -> Chattogram | M20: =IF('All Form Data'!X22="","",'All Form Data'!X22) -> SSC | N20: =IF('All Form Data'!Z22="","",'All Form Data'!Z22) -> 2023 | O20: =IF('All Form Data'!P22="","",'All Form Data'!P22) -> Male | P20: =IF('All Form Data'!AC22="","",'All Form Data'!AC22) -> No | Q20: =IF('All Form Data'!AE22="","",'All Form Data'!AE22) -> No | R20: =IF('All Form Data'!AG22="","",'All Form Data'!AG22) | T20: =IF('All Form Data'!AQ22="C","Competent",IF('All Form Data'!AQ22="NYC","Not Yet Competent",""))
A21: 15 | B21: =IF('All Form Data'!C23="","",'All Form Data'!C23) -> 250111895 | C21: =IF('All Form Data'!E23="","",'All Form Data'!E23) -> Nayamat Ali | D21: =IF('All Form Data'!H23="","",'All Form Data'!H23) -> Md.Alamgir | E21: =IF('All Form Data'!J23="","",'All Form Data'!J23) -> Jannatul Nyma | F21: =IF('All Form Data'!N23="","",'All Form Data'!N23) -> 01534536233 | G21: =IF('All Form Data'!M23="","",'All Form Data'!M23) -> 1981084922 | H21: =IF('All Form Data'!L23="","",'All Form Data'!L23) -> NID | I21: =IF('All Form Data'!G23="","",'All Form Data'!G23) -> 02,03,2007 | J21: =IF('All Form Data'!R23="","",'All Form Data'!R23) -> Isphani gate no.01.Akbar Shah,Chattogram, | K21: =IF('All Form Data'!S23="","",'All Form Data'!S23) -> Khulshi Kolony,PTI.Chattogram. | L21: =IF('All Form Data'!V23="","",'All Form Data'!V23) -> Chattogram | M21: =IF('All Form Data'!X23="","",'All Form Data'!X23) -> SSC | N21: =IF('All Form Data'!Z23="","",'All Form Data'!Z23) -> 2023 | O21: =IF('All Form Data'!P23="","",'All Form Data'!P23) -> Male | P21: =IF('All Form Data'!AC23="","",'All Form Data'!AC23) -> No | Q21: =IF('All Form Data'!AE23="","",'All Form Data'!AE23) -> No | R21: =IF('All Form Data'!AG23="","",'All Form Data'!AG23) | T21: =IF('All Form Data'!AQ23="C","Competent",IF('All Form Data'!AQ23="NYC","Not Yet Competent",""))
A22: 16 | B22: =IF('All Form Data'!C24="","",'All Form Data'!C24) -> 250111897 | C22: =IF('All Form Data'!E24="","",'All Form Data'!E24) -> Md.Shahedur Rahman Talukder | D22: =IF('All Form Data'!H24="","",'All Form Data'!H24) -> Shafiul Alam talukder | E22: =IF('All Form Data'!J24="","",'All Form Data'!J24) -> Selina Akter | F22: =IF('All Form Data'!N24="","",'All Form Data'!N24) -> 01881233185 | G22: =IF('All Form Data'!M24="","",'All Form Data'!M24) -> 20021510894119829 | H22: =IF('All Form Data'!L24="","",'All Form Data'!L24) -> BCN | I22: =IF('All Form Data'!G24="","",'All Form Data'!G24) -> 05.01.2002 | J22: =IF('All Form Data'!R24="","",'All Form Data'!R24) -> House no.-61.Road no.-03.Kunja Chaya,Byzid,Chattogram. | K22: =IF('All Form Data'!S24="","",'All Form Data'!S24) -> Shilkup.Joldi-4390,Banchkhali,Chattogram. | L22: =IF('All Form Data'!V24="","",'All Form Data'!V24) -> Chattogram | M22: =IF('All Form Data'!X24="","",'All Form Data'!X24) -> SSC | N22: =IF('All Form Data'!Z24="","",'All Form Data'!Z24) -> 2019 | O22: =IF('All Form Data'!P24="","",'All Form Data'!P24) -> Male | P22: =IF('All Form Data'!AC24="","",'All Form Data'!AC24) -> No | Q22: =IF('All Form Data'!AE24="","",'All Form Data'!AE24) -> Yes | R22: =IF('All Form Data'!AG24="","",'All Form Data'!AG24) -> Low Vission | T22: =IF('All Form Data'!AQ24="C","Competent",IF('All Form Data'!AQ24="NYC","Not Yet Competent",""))
A23: 17 | B23: =IF('All Form Data'!C25="","",'All Form Data'!C25) -> 250111898 | C23: =IF('All Form Data'!E25="","",'All Form Data'!E25) -> Rahat Hosen Sahin | D23: =IF('All Form Data'!H25="","",'All Form Data'!H25) -> Mohammad Shamsul Alam | E23: =IF('All Form Data'!J25="","",'All Form Data'!J25) -> Bibi Aysa | F23: =IF('All Form Data'!N25="","",'All Form Data'!N25) -> 01855839329 | G23: =IF('All Form Data'!M25="","",'All Form Data'!M25) -> 20061516124108762 | H23: =IF('All Form Data'!L25="","",'All Form Data'!L25) -> BCN | I23: =IF('All Form Data'!G25="","",'All Form Data'!G25) -> 01.01.2006 | J23: =IF('All Form Data'!R25="","",'All Form Data'!R25) -> Charlakshya,Kornafuly,Chattogram. | K23: =IF('All Form Data'!S25="","",'All Form Data'!S25) -> Do | L23: =IF('All Form Data'!V25="","",'All Form Data'!V25) -> Chattogram | M23: =IF('All Form Data'!X25="","",'All Form Data'!X25) -> SSC | N23: =IF('All Form Data'!Z25="","",'All Form Data'!Z25) -> 2022 | O23: =IF('All Form Data'!P25="","",'All Form Data'!P25) -> Male | P23: =IF('All Form Data'!AC25="","",'All Form Data'!AC25) -> No | Q23: =IF('All Form Data'!AE25="","",'All Form Data'!AE25) -> No | R23: =IF('All Form Data'!AG25="","",'All Form Data'!AG25) | T23: =IF('All Form Data'!AQ25="C","Competent",IF('All Form Data'!AQ25="NYC","Not Yet Competent",""))
A24: 18 | B24: =IF('All Form Data'!C26="","",'All Form Data'!C26) -> 250111901 | C24: =IF('All Form Data'!E26="","",'All Form Data'!E26) -> Nabarshi Dewan | D24: =IF('All Form Data'!H26="","",'All Form Data'!H26) -> Gourishakhar Dewan | E24: =IF('All Form Data'!J26="","",'All Form Data'!J26) -> Kaberi Chakma | F24: =IF('All Form Data'!N26="","",'All Form Data'!N26) -> 01878499819 | G24: =IF('All Form Data'!M26="","",'All Form Data'!M26) -> 6903940077 | H24: =IF('All Form Data'!L26="","",'All Form Data'!L26) -> NID | I24: =IF('All Form Data'!G26="","",'All Form Data'!G26) -> 17.06.1996 | J24: =IF('All Form Data'!R26="","",'All Form Data'!R26) -> Boradon.Dighinala.Khagrachori.Chattogram. | K24: =IF('All Form Data'!S26="","",'All Form Data'!S26) -> Sahenshah Building.Freeport.Bandar.Chattogram. | L24: =IF('All Form Data'!V26="","",'All Form Data'!V26) -> Chattogram | M24: =IF('All Form Data'!X26="","",'All Form Data'!X26) -> SSC | N24: =IF('All Form Data'!Z26="","",'All Form Data'!Z26) -> 2012 | O24: =IF('All Form Data'!P26="","",'All Form Data'!P26) -> Male | P24: =IF('All Form Data'!AC26="","",'All Form Data'!AC26) -> Yes | Q24: =IF('All Form Data'!AE26="","",'All Form Data'!AE26) -> No | R24: =IF('All Form Data'!AG26="","",'All Form Data'!AG26) | T24: =IF('All Form Data'!AQ26="C","Competent",IF('All Form Data'!AQ26="NYC","Not Yet Competent",""))
A25: 19 | B25: =IF('All Form Data'!C27="","",'All Form Data'!C27) -> 250111903 | C25: =IF('All Form Data'!E27="","",'All Form Data'!E27) -> Md. Bellal Khan | D25: =IF('All Form Data'!H27="","",'All Form Data'!H27) -> Md.Abdul latif Khan | E25: =IF('All Form Data'!J27="","",'All Form Data'!J27) -> Mst.Bilkish Begum | F25: =IF('All Form Data'!N27="","",'All Form Data'!N27) -> 01585465168 | G25: =IF('All Form Data'!M27="","",'All Form Data'!M27) -> 20064614379100939 | H25: =IF('All Form Data'!L27="","",'All Form Data'!L27) -> BCN | I25: =IF('All Form Data'!G27="","",'All Form Data'!G27) -> 09.09.2006 | J25: =IF('All Form Data'!R27="","",'All Form Data'!R27) -> BethChori,30 no.Big Merung.Dighinala-4420.Khagrachori. | K25: =IF('All Form Data'!S27="","",'All Form Data'!S27) -> Byzid Chatoogram, | L25: =IF('All Form Data'!V27="","",'All Form Data'!V27) -> Khagrachori | M25: =IF('All Form Data'!X27="","",'All Form Data'!X27) -> SSC | N25: =IF('All Form Data'!Z27="","",'All Form Data'!Z27) -> 2023 | O25: =IF('All Form Data'!P27="","",'All Form Data'!P27) -> Male | P25: =IF('All Form Data'!AC27="","",'All Form Data'!AC27) -> No | Q25: =IF('All Form Data'!AE27="","",'All Form Data'!AE27) -> No | R25: =IF('All Form Data'!AG27="","",'All Form Data'!AG27) | T25: =IF('All Form Data'!AQ27="C","Competent",IF('All Form Data'!AQ27="NYC","Not Yet Competent",""))
A26: 20 | B26: =IF('All Form Data'!C28="","",'All Form Data'!C28) -> 250111907 | C26: =IF('All Form Data'!E28="","",'All Form Data'!E28) -> Arko Nath (Ankon) | D26: =IF('All Form Data'!H28="","",'All Form Data'!H28) -> Gouranga Nath | E26: =IF('All Form Data'!J28="","",'All Form Data'!J28) -> Bappy Devi | F26: =IF('All Form Data'!N28="","",'All Form Data'!N28) -> 01586238425 | G26: =IF('All Form Data'!M28="","",'All Form Data'!M28) -> 20071591615105088 | H26: =IF('All Form Data'!L28="","",'All Form Data'!L28) -> BCN | I26: =IF('All Form Data'!G28="","",'All Form Data'!G28) -> 23,08,2007 | J26: =IF('All Form Data'!#REF!="","",'All Form Data'!#REF!) -> #REF! | K26: =IF('All Form Data'!R28="","",'All Form Data'!R28) -> Takota,Anowara,Chattogram | L26: =IF('All Form Data'!V28="","",'All Form Data'!V28) -> Chattogram | M26: =IF('All Form Data'!X28="","",'All Form Data'!X28) -> SSC | N26: =IF('All Form Data'!Z28="","",'All Form Data'!Z28) -> 2023 | O26: =IF('All Form Data'!P28="","",'All Form Data'!P28) -> Male | P26: =IF('All Form Data'!AC28="","",'All Form Data'!AC28) -> No | Q26: =IF('All Form Data'!AE28="","",'All Form Data'!AE28) -> Yes | R26: =IF('All Form Data'!AG28="","",'All Form Data'!AG28) -> Low Vission | T26: =IF('All Form Data'!AQ28="C","Competent",IF('All Form Data'!AQ28="NYC","Not Yet Competent",""))
A27: 21 | B27: =IF('All Form Data'!C29="","",'All Form Data'!C29) -> 250111910 | C27: =IF('All Form Data'!E29="","",'All Form Data'!E29) -> Md.Abrar wasif | D27: =IF('All Form Data'!H29="","",'All Form Data'!H29) -> Md.Ala uddin | E27: =IF('All Form Data'!J29="","",'All Form Data'!J29) -> Lutfun Nahar | F27: =IF('All Form Data'!N29="","",'All Form Data'!N29) -> 01843649633 | G27: =IF('All Form Data'!M29="","",'All Form Data'!M29) -> 20077512171035670 | H27: =IF('All Form Data'!L29="","",'All Form Data'!L29) -> BCN | I27: =IF('All Form Data'!G29="","",'All Form Data'!G29) -> 04.10.2007 | J27: =IF('All Form Data'!S28="","",'All Form Data'!S28) -> Hali sohor.Chattogram, | K27: =IF('All Form Data'!S29="","",'All Form Data'!S29) -> Green View,Panchlaish,Chattogram. | L27: =IF('All Form Data'!V29="","",'All Form Data'!V29) -> Noakhali. | M27: =IF('All Form Data'!X29="","",'All Form Data'!X29) -> JSC | N27: =IF('All Form Data'!Z29="","",'All Form Data'!Z29) -> 2024 | O27: =IF('All Form Data'!P29="","",'All Form Data'!P29) -> Male | P27: =IF('All Form Data'!AC29="","",'All Form Data'!AC29) -> No | Q27: =IF('All Form Data'!AE29="","",'All Form Data'!AE29) -> No | R27: =IF('All Form Data'!AG29="","",'All Form Data'!AG29) | T27: =IF('All Form Data'!AQ29="C","Competent",IF('All Form Data'!AQ29="NYC","Not Yet Competent",""))
A28: 22 | B28: =IF('All Form Data'!C30="","",'All Form Data'!C30) -> 250111911 | C28: =IF('All Form Data'!E30="","",'All Form Data'!E30) -> Mohammad Abdul Al Fahad | D28: =IF('All Form Data'!H30="","",'All Form Data'!H30) -> Moahammad Abdul Alim | E28: =IF('All Form Data'!J30="","",'All Form Data'!J30) -> Rezia Begum | F28: =IF('All Form Data'!N30="","",'All Form Data'!N30) -> 01975196567 | G28: =IF('All Form Data'!M30="","",'All Form Data'!M30) -> 4218937656 | H28: =IF('All Form Data'!L30="","",'All Form Data'!L30) -> NID | I28: =IF('All Form Data'!G30="","",'All Form Data'!G30) -> 15.10.2006 | J28: =IF('All Form Data'!R30="","",'All Form Data'!R30) -> Oli Ahammed Mier Bari,HorihorPur,Choitenner Hat,Mirshorai,Chattogram. | K28: =IF('All Form Data'!S30="","",'All Form Data'!S30) -> Wireless Murgir Farm.PTI,Khulshi,Chattogram. | L28: =IF('All Form Data'!V30="","",'All Form Data'!V30) -> Chattogram | M28: =IF('All Form Data'!X30="","",'All Form Data'!X30) -> SSC | N28: =IF('All Form Data'!Z30="","",'All Form Data'!Z30) -> 2023 | O28: =IF('All Form Data'!P30="","",'All Form Data'!P30) -> Male | P28: =IF('All Form Data'!AC30="","",'All Form Data'!AC30) -> No | Q28: =IF('All Form Data'!AE30="","",'All Form Data'!AE30) | R28: =IF('All Form Data'!AG30="","",'All Form Data'!AG30) | T28: =IF('All Form Data'!AQ30="C","Competent",IF('All Form Data'!AQ30="NYC","Not Yet Competent",""))
A29: 23 | B29: =IF('All Form Data'!C31="","",'All Form Data'!C31) -> 250111913 | C29: =IF('All Form Data'!E31="","",'All Form Data'!E31) -> Hasnat Fahim | D29: =IF('All Form Data'!H31="","",'All Form Data'!H31) -> Md.Elias | E29: =IF('All Form Data'!J31="","",'All Form Data'!J31) -> Fatema Begum | F29: =IF('All Form Data'!N31="","",'All Form Data'!N31) -> 01871892929 | G29: =IF('All Form Data'!M31="","",'All Form Data'!M31) -> 1046446744 | H29: =IF('All Form Data'!L31="","",'All Form Data'!L31) -> NID | I29: =IF('All Form Data'!G31="","",'All Form Data'!G31) -> 03.10.2002 | J29: =IF('All Form Data'!T32="","",'All Form Data'!T32) -> দক্ষিণ আখির পুর.মুছজিদ্দা,কুমিরা,সীতাকুন্ড,চট্টগ্রাম। | K29: =IF('All Form Data'!R31="","",'All Form Data'!R31) -> Sathghoria,Shiberhat,Sandwip.Chattogram. | L29: =IF('All Form Data'!V31="","",'All Form Data'!V31) -> Sandwip | M29: =IF('All Form Data'!X31="","",'All Form Data'!X31) -> SSC | N29: =IF('All Form Data'!Z31="","",'All Form Data'!Z31) -> 2019 | O29: =IF('All Form Data'!P31="","",'All Form Data'!P31) -> Male | P29: =IF('All Form Data'!AC31="","",'All Form Data'!AC31) -> No | Q29: =IF('All Form Data'!AE31="","",'All Form Data'!AE31) -> No | R29: =IF('All Form Data'!AG31="","",'All Form Data'!AG31) | T29: =IF('All Form Data'!AQ31="C","Competent",IF('All Form Data'!AQ31="NYC","Not Yet Competent",""))
A30: 24 | B30: =IF('All Form Data'!C32="","",'All Form Data'!C32) -> 250111915 | C30: =IF('All Form Data'!E32="","",'All Form Data'!E32) -> Md.Kamrul Hasan | D30: =IF('All Form Data'!H32="","",'All Form Data'!H32) -> Md.Samsul Alam | E30: =IF('All Form Data'!J32="","",'All Form Data'!J32) -> Kateza Begum | F30: =IF('All Form Data'!N32="","",'All Form Data'!N32) -> 01854189622 | G30: =IF('All Form Data'!M32="","",'All Form Data'!M32) -> 20061518647131789 | H30: =IF('All Form Data'!L32="","",'All Form Data'!L32) -> BCN | I30: =IF('All Form Data'!G32="","",'All Form Data'!G32) -> 27.02.2006 | J30: =IF('All Form Data'!R32="","",'All Form Data'!R32) -> South Akhir Pur.Mochjidda,kumira,Sitakunda,Chattogram. | K30: =IF('All Form Data'!S32="","",'All Form Data'!S32) -> DO | L30: =IF('All Form Data'!V32="","",'All Form Data'!V32) -> Chattogram, | M30: =IF('All Form Data'!X32="","",'All Form Data'!X32) -> SSC | N30: =IF('All Form Data'!Z32="","",'All Form Data'!Z32) -> 2025 | O30: =IF('All Form Data'!P32="","",'All Form Data'!P32) -> Male | P30: =IF('All Form Data'!AC32="","",'All Form Data'!AC32) -> No | Q30: =IF('All Form Data'!AE32="","",'All Form Data'!AE32) -> No | R30: =IF('All Form Data'!AG32="","",'All Form Data'!AG32) | T30: =IF('All Form Data'!AQ32="C","Competent",IF('All Form Data'!AQ32="NYC","Not Yet Competent",""))
N31: Male | O31: =COUNTIF(O7:O30,N31) -> 21 | Q31: Competent | T31: =COUNTIF(T7:T30,Q31) -> 0
N32: Female | O32: =COUNTIF(O8:O30,N32) -> 0 | Q32: Not Yet Competent | T32: =COUNTIF(T8:T30,Q32) -> 0

Sheet Result
A1: `¶Zv cÖwk¶Yv_©x‡`i gyj¨vq‡bi djvdj
A2: ='All Form Data'!C2 -> †mkbt b‡f¤^i 2024 - †deªæqvix 2025
A3: ='All Form Data'!C3 -> cÖwk¶Y cÖ`vbKvix cÖwZôvb t BD‡mc AvgevMvb wUwfBwU Bbw÷wUDU|
A4: ='All Form Data'!C4 -> †UªW t B‡jKwUªK¨vj BÝU‡jkb GÛ †gBb‡Ub¨vÝ
B5: Accelerating and Strengthening Skills for Economic Transformation (ASSET) cÖKí
A6: µ. bs | B6: †iwR‡÷ªkb bs | C6: cÖwk¶Yv_©xi bvg | D6: wj½ | E6: DcRvwZ | F6: wc.WweøD.wW | G6: djvdj (C/NYC)
A7: 1 | C7: ='All Form Data'!F12 -> মোহাম্মদ বাদশা | D7: ='All Form Data'!Q12 -> 0 | E7: ='All Form Data'!AD12 -> না | F7: ='All Form Data'!AF12 -> না | G7: ='All Form Data'!AQ12 -> 0
A8: 2 | C8: ='All Form Data'!#REF! -> #REF! | D8: ='All Form Data'!#REF! -> #REF! | E8: ='All Form Data'!#REF! -> #REF! | F8: ='All Form Data'!#REF! -> #REF! | G8: ='All Form Data'!#REF! -> #REF!
A9: 3 | C9: ='All Form Data'!F13 -> জাহিদুল ইসলাম | D9: ='All Form Data'!Q13 -> 0 | E9: ='All Form Data'!AD13 -> না | F9: ='All Form Data'!AF13 -> না | G9: ='All Form Data'!AQ13 -> 0
A10: 4 | C10: ='All Form Data'!F14 -> সুপন সাহা | D10: ='All Form Data'!Q14 -> 0 | E10: ='All Form Data'!AD14 -> না | F10: ='All Form Data'!AF14 -> না | G10: ='All Form Data'!AQ14 -> 0
A11: 5 | C11: ='All Form Data'!F15 -> জাহিদুল ইসলাম ইমন | D11: ='All Form Data'!Q15 -> 0 | E11: ='All Form Data'!AD15 -> না | F11: ='All Form Data'!AF15 -> না | G11: ='All Form Data'!AQ15 -> 0
A12: 6 | C12: ='All Form Data'!F16 -> আরমান হোসেন | D12: ='All Form Data'!Q16 -> 0 | E12: ='All Form Data'!AD16 -> না | F12: ='All Form Data'!AF16 -> না | G12: ='All Form Data'!AQ16 -> 0
A13: 7 | C13: ='All Form Data'!F17 -> রবিউল ছানি | D13: ='All Form Data'!Q17 -> 0 | E13: ='All Form Data'!AD17 -> না | F13: ='All Form Data'!AF17 -> না | G13: ='All Form Data'!AQ17 -> 0
A14: 8 | C14: ='All Form Data'!F18 -> আকিল রায়হান | D14: ='All Form Data'!Q18 -> 0 | E14: ='All Form Data'!AD18 -> না | F14: ='All Form Data'!AF18 -> না | G14: ='All Form Data'!AQ18 -> 0
A15: 9 | C15: ='All Form Data'!F19 -> সাদমান শাহরিয়ার মাহিন | D15: ='All Form Data'!Q19 -> 0 | E15: ='All Form Data'!AD19 -> না | F15: ='All Form Data'!AF19 -> হ্যাঁ | G15: ='All Form Data'!AQ19 -> 0
A16: 10 | C16: ='All Form Data'!#REF! -> #REF! | D16: ='All Form Data'!#REF! -> #REF! | E16: ='All Form Data'!#REF! -> #REF! | F16: ='All Form Data'!#REF! -> #REF! | G16: ='All Form Data'!#REF! -> #REF!
A17: 11 | C17: ='All Form Data'!#REF! -> #REF! | D17: ='All Form Data'!#REF! -> #REF! | E17: ='All Form Data'!#REF! -> #REF! | F17: ='All Form Data'!#REF! -> #REF! | G17: ='All Form Data'!#REF! -> #REF!
A18: 12 | C18: ='All Form Data'!F20 -> রিফাত উদ্দীন | D18: ='All Form Data'!Q20 -> 0 | E18: ='All Form Data'!AD20 -> না | F18: ='All Form Data'!AF20 -> না | G18: ='All Form Data'!AQ20 -> 0
A19: 13 | C19: ='All Form Data'!F21 -> বিজয় মল্লিক | D19: ='All Form Data'!Q21 -> 0 | E19: ='All Form Data'!AD21 -> না | F19: ='All Form Data'!AF21 -> না | G19: ='All Form Data'!AQ21 -> 0
A20: 14 | C20: ='All Form Data'!F22 -> মোহাম্মদ রানা হোসেন | D20: ='All Form Data'!Q22 -> 0 | E20: ='All Form Data'!AD22 -> না | F20: ='All Form Data'!AF22 -> না | G20: ='All Form Data'!AQ22 -> 0
A21: 15 | C21: ='All Form Data'!F23 -> নেয়ামত আলী | D21: ='All Form Data'!Q23 -> 0 | E21: ='All Form Data'!AD23 -> না | F21: ='All Form Data'!AF23 -> না | G21: ='All Form Data'!AQ23 -> 0
A22: 16 | C22: ='All Form Data'!F24 -> মোঃ শাহেদুর রহমান তালুকদার | D22: ='All Form Data'!Q24 -> 0 | E22: ='All Form Data'!AD24 -> না | F22: ='All Form Data'!AF24 -> হ্যাঁ | G22: ='All Form Data'!AQ24 -> 0
A23: 17 | C23: ='All Form Data'!F25 -> রাহাত হোসেন শাহিন | D23: ='All Form Data'!Q25 -> 0 | E23: ='All Form Data'!AD25 -> না | F23: ='All Form Data'!AF25 -> না | G23: ='All Form Data'!AQ25 -> 0
