Workbook

Sheet Date
A1: Class no | B1: Date | C1: Day
A2: 1 | B2: ='Training plan'!B10 -> 45600 | C2: =TEXT(B2,"dddd") -> Monday
B3: =C2 -> Monday
A4: 2 | B4: ='Training plan'!B11 -> 45601 | C4: =TEXT(B4,"dddd") -> Tuesday
B5: =C4 -> Tuesday
A6: 3 | B6: ='Training plan'!B12 -> 45602 | C6: =TEXT(B6,"dddd") -> Wednesday
B7: =C6 -> Wednesday
A8: 4 | B8: ='Training plan'!B13 -> 45603 | C8: =TEXT(B8,"dddd") -> Thursday
B9: =C8 -> Thursday
A10: 5 | B10: ='Training plan'!B14 -> 45605 | C10: =TEXT(B10,"dddd") -> Saturday
B11: =C10 -> Saturday
A12: 6 | B12: ='Training plan'!B15 -> 45606 | C12: =TEXT(B12,"dddd") -> Sunday
B13: =C12 -> Sunday
A14: 7 | B14: ='Training plan'!B16 -> 45607 | C14: =TEXT(B14,"dddd") -> Monday
B15: =C14 -> Monday
A16: 8 | B16: ='Training plan'!B17 -> 45608 | C16: =TEXT(B16,"dddd") -> Tuesday
B17: =C16 -> Tuesday
A18: 9 | B18: ='Training plan'!B18 -> 45609 | C18: =TEXT(B18,"dddd") -> Wednesday
B19: =C18 -> Wednesday
A20: 10 | B20: ='Training plan'!B19 -> 45610 | C20: =TEXT(B20,"dddd") -> Thursday
B21: =C20 -> Thursday
A22: 11 | B22: ='Training plan'!B20 -> 45612 | C22: =TEXT(B22,"dddd") -> Saturday
B23: =C22 -> Saturday
A24: 12 | B24: ='Training plan'!B21 -> 45613 | C24: =TEXT(B24,"dddd") -> Sunday
B25: =C24 -> Sunday
A26: 13 | B26: ='Training plan'!B22 -> 45614 | C26: =TEXT(B26,"dddd") -> Monday
B27: =C26 -> Monday
A28: 14 | B28: ='Training plan'!B23 -> 45615 | C28: =TEXT(B28,"dddd") -> Tuesday
B29: =C28 -> Tuesday
A30: 15 | B30: ='Training plan'!B24 -> 45616 | C30: =TEXT(B30,"dddd") -> Wednesday
B31: =C30 -> Wednesday
A32: 16 | B32: ='Training plan'!B25 -> 45617 | C32: =TEXT(B32,"dddd") -> Thursday
B33: =C32 -> Thursday
A34: 17 | B34: ='Training plan'!B26 -> 45619 | C34: =TEXT(B34,"dddd") -> Saturday
B35: =C34 -> Saturday
A36: 18 | B36: ='Training plan'!B27 -> 45620 | C36: =TEXT(B36,"dddd") -> Sunday
B37: =C36 -> Sunday
A38: 19 | B38: ='Training plan'!B28 -> 45621 | C38: =TEXT(B38,"dddd") -> Monday
B39: =C38 -> Monday
A40: 20 | B40: ='Training plan'!B29 -> 45622 | C40: =TEXT(B40,"dddd") -> Tuesday
...

Sheet Menu

Sheet All Form Data
C1: Informations regarding Trainee Admission (cÖwk¶Yv_©xi fwZ© msµvšÍ Z_¨mg~n)
C2: †mkbt b‡f¤^i 2024 - †deªæqvix 2025
C3: cÖwk¶Y cÖ`vbKvix cÖwZôvb t BD‡mc AvgevMvb wUwfBwU Bbw÷wUDU|
C4: †UªW t B‡jKwUªK¨vj BÝU‡jkb GÛ †gBb‡Ub¨vÝ
C5: Accelerating and Strengthening Skills for Economic Transformation (ASSET) cÖKí
A6: Search Roll No | C6: Admission | E6: Pre Enrollment | F6: =COUNTA(E12:E44) -> 29 | G6: Selected Trainees | I6: Male | J6: =COUNTIF(P12:P32,I6) -> 21 | K6: Ethnicity & PWD | L6: Ethnicity group | N6: Male | O6: =COUNTIFS(AC12:AC32,"Yes",P12:P32,N6) -> 1 | P6: Result Summary | R6: Competent | T6: Not Yet Competent | V6: Ethnicity | W6: Competent | Y6: Not Yet Competent | AA6: PWD | AB6: Competent | AE6: Not Yet Competent | AH6: Without Ethnicity & PWD | AI6: Competent | AK6: Not Yet Competent | AM6: With Ethn. & PWD | AN6: Competent | AP6: Not Yet Competent
E7: Selected | F7: =COUNTIF(AN12:AN44,E7) -> 0 | I7: Female | J7: =COUNTIF(P12:P32,I7) -> 0 | L7: Ethnicity group | N7: Female | O7: =COUNTIFS(AC12:AC32,"Yes",P12:P32,N7) -> 0 | R7: Male | S7: =COUNTIFS(AQ12:AQ32,"C",P12:P32,R7) -> 0 | T7: Male | U7: =COUNTIFS(AQ12:AQ32,"NYC",P12:P32,T7) -> 0 | W7: Male | X7: =COUNTIFS(AQ12:AQ32,"C",P12:P32,W7,AC12:AC32,"Yes") -> 0 | Y7: Male | Z7: =COUNTIFS(AQ12:AQ32,"NYC",P12:P32,Y7,AC12:AC32,"Yes") -> 0 | AB7: Male | AD7: =COUNTIFS(AQ12:AQ32,"C",P12:P32,AB7,AE12:AE32,"Yes") -> 0 | AE7: Male | AG7: =COUNTIFS(AQ12:AQ32,"NYC",P12:P32,AE7,AE12:AE32,"Yes") -> 0 | AI7: Male | AJ7: =COUNTIFS(AQ12:AQ32,"C",AC12:AC32,"No",AE12:AE32,"No",P12:P32,AI7) -> 0 | AK7: Male | AL7: =COUNTIFS(AQ12:AQ32,"NYC",AC12:AC32,"No",AE12:AE32,"No",P12:P32,AK7) -> 0 | AN7: Male | AO7: =COUNTIFS(AQ12:AQ32,"C",AC12:AC32,"Yes",AE12:AE32,"Yes",P12:P32,AN7) -> 0 | AP7: Male | AR7: =COUNTIFS(AQ12:AQ32,"NYC",AC12:AC32,"Yes",AE12:AE32,"Yes",P12:P32,AP7) -> 0
E8: Waiting | F8: =F6-F7 -> 29 | I8: Ethnicity Group | J8: =COUNTIF(AC12:AC32,"Yes") -> 1 | L8: PWD | N8: Male | O8: =COUNTIFS(AE12:AE33,"Yes",P12:P33,N8) -> 3 | R8: Female | S8: =COUNTIFS(AQ12:AQ32,"C",P12:P32,R8) -> 0 | T8: Female | U8: =COUNTIFS(AQ12:AQ32,"NYC",P12:P32,T8) -> 0 | W8: Female | X8: =COUNTIFS(AQ12:AQ32,"C",P12:P32,W8,AC12:AC32,"Yes") -> 0 | Y8: Female | Z8: =COUNTIFS(AQ12:AQ32,"NYC",P12:P32,Y8,AC12:AC32,"Yes") -> 0 | AB8: Female | AD8: =COUNTIFS(AQ12:AQ32,"C",P12:P32,AB8,AE12:AE32,"Yes") -> 0 | AE8: Female | AG8: =COUNTIFS(AQ12:AQ32,"NYC",P12:P32,AE8,AE12:AE32,"Yes") -> 0 | AI8: Female | AJ8: =COUNTIFS(AQ12:AQ32,"C",AC12:AC32,"No",AE12:AE32,"No",P12:P32,AI8) -> 0 | AK8: Female | AL8: =COUNTIFS(AQ12:AQ32,"NYC",AC12:AC32,"No",AE12:AE32,"No",P12:P32,AK8) -> 0 | AN8: Female | AO8: =COUNTIFS(AQ12:AQ32,"C",AC12:AC32,"Yes",AE12:AE32,"Yes",P12:P32,AN8) -> 0 | AP8: Female | AR8: =COUNTIFS(AQ12:AQ32,"NYC",AC12:AC32,"Yes",AE12:AE32,"Yes",P12:P32,AP8) -> 0
E9: Seats Left | F9: =(24-F7) -> 24 | I9: PWD | J9: =COUNTIF(AE12:AE32,"Yes") -> 3 | L9: PWD | N9: Female | O9: =COUNTIFS(AE12:AE32,"Yes",P12:P32,N9) -> 0 | R9: Total | S9: =S7+S8 -> 0 | T9: Total | U9: =U7+U8 -> 0 | W9: Total | X9: =X7+X8 -> 0 | Y9: Total | Z9: =Z7+Z8 -> 0 | AB9: Total | AD9: =AD7+AD8 -> 0 | AE9: Total | AG9: =AG7+AG8 -> 0 | AI9: Total | AJ9: =AJ7+AJ8 -> 0 | AK9: Total | AL9: =AL7+AL8 -> 0 | AN9: Total | AO9: =AO7+AO8 -> 0 | AP9: Total | AR9: =AR7+AR8 -> 0
A11: Sl no. | B11: dg© bs | C11: ASSET ID | D11: UPMIS ID | E11: Name of Trainee (In English) | F11: cÖwk¶Yv_©xi bvg (evsjvq) | G11: Date Of Birth | H11: Father's Name (In English) | I11: wcZvi bvg (evsjvq) | J11: Mother's Name (In English) | K11: gvZvi bvg (evsjvq) | L11: ID Type | M11: NID / BCN Number | N11: Mobile Number | O11: Mail ID | P11: Gender | Q11: wj½ | R11: Permanent Address | S11: Persent Address | T11: ¯’vqx wVKvbv | U11: eZ©gvb wVKvbv | V11: Own District | W11: wbR †Rjv | X11: Last Education | Y11: wk¶vMZ †hvM¨Zv | Z11: Passing year | AA11: cv‡ki mb | AB11: Blood Group | AC11: Ethnicity group | AD11: DcRvwZ | AE11: PWD (YES/NO) | AF11: wc.WweøD.wW | AG11: Specify (If Any) | AH11: Father's Ocupation | AI11: Father's Mobile No | AJ11: Mother's Ocupation | AK11: Mother's Mobile No | AL11: Family Income | AM11: Siblings | AN11: Comment | AO11: Bank Account Number | AP11: Photo | AQ11: Result | AR11: Remarks
A12: 1 | C12: 250111846 | D12: 2512401578 | E12: Mohammad Badsha | F12: মোহাম্মদ বাদশা | G12: 10.10.200 | H12: Md.Hasan | I12: মোঃ হাসান | J12: Khurshida Begum | K12: খুরশেদা বেগম | L12: NID | M12: 3317890733 | N12: 01305978432 | O12: mohammadBadsha1093@gmail.com | P12: Male | R12: Kochuai.Potiya.Chattogram | S12: Slimpur.CDA R/A.Chattogram | T12: কোচুয়াই.পোটিয়া.চট্টগ্রাম | U12: সিলিমপুর.সিডিএ আবাসিক এলাকা,চট্টগ্রাম | V12: Chattogram | W12: চট্টগ্রাম | X12: SSC | Y12: এস,এস,সি | Z12: 2021 | AA12: 2021 | AB12: O+ | AC12: No | AD12: না | AE12: No | AF12: না | AH12: Service Holder | AI12: 01835955715 | AJ12: House Wife | AK12: N/A | AL12: 15000
A13: 2 | C13: 250111853 | D13: 2512401580 | E13: Jahidul Islam | F13: জাহিদুল ইসলাম | G13: 24,08.2006 | H13: Mohammad Rafique | I13: মোঃ রফিক | J13: Sajia Begum | K13: সাজিয়া বেগম | L13: NID | M13: 1982221135 | N13: 01888239320 | O13: jahidul323651@gmail.com | P13: Male | R13: Chalk Farid.Charlaxma,Karnofuly,Chattogram, | S13: Do. | T13: চক ফরিদ, চারলক্ষ্ম, কর্ণফুলী, চট্টগ্রাম, | U13: চক ফরিদ, চারলক্ষ্ম, কর্ণফুলী, চট্টগ্রাম, | V13: Chattogram. | W13: চট্টগ্রাম | X13: SSC | Y13: এস,এস,সি | Z13: 2021 | AA13: 2021 | AC13: No | AD13: না | AE13: No | AF13: না | AH13: Business | AI13: 01815650722 | AJ13: House Wife | AK13: 018404444644 | AL13: 30000
A14: 3 | C14: 250111857 | D14: 2512401581 | E14: Supan Saha | F14: সুপন সাহা | G14: 12,02,2007 | H14: Sumon Saha | I14: সুমন সাহা | J14: Shilpi Saha | K14: শিল্পী সাহা | L14: NID | M14: 2882077627 | N14: 01843256390 | O14: suponsaha175@gmail.com | P14: Male | R14: Saha Bari, Moddle Mahmudabad,barobkunda.Sitakunda.Chattogram. | S14: Do. | T14: সাহা বাড়ী, মধ্য মাহমুদাবাদ, বারোবকুন্ড.সীতাকুন্ড.চট্টগ্রাম. | U14: সাহা বাড়ী, মধ্য মাহমুদাবাদ, বারোবকুন্ড.সীতাকুন্ড.চট্টগ্রাম. | V14: Chattogram. | W14: চট্টগ্রাম | X14: SSC | Y14: এস,এস,সি | Z14: 2023 | AA14: 2023 | AC14: No | AD14: না | AE14: No | AF14: না | AH14: Service Holder | AI14: 01814873757 | AJ14: House Wife | AK14: N/A | AL14: 25000
A15: 4 | C15: 250111861 | D15: 2512401582 | E15: Md.Jahidul Islam Emon | F15: জাহিদুল ইসলাম ইমন | G15: 02,02,2004 | H15: Juhirul Islam | I15: জহিরুল ইসলাম | J15: Hosne Ara Begum | K15: হোসনে আরা বেগম | L15: NID | M15: 9172738362 | N15: 01814393561 | O15: jahidul islamemom@gmail.com | P15: Male | R15: House Of Ismail Sarker,Kodom Rasul.Kodomtali.Chattogram, | S15: Do. | T15: ইসমাইল সরকারের বাড়ি,কোদম রসুল.কোদমতলী.চট্টগ্রাম, | U15: ইসমাইল সরকারের বাড়ি,কোদম রসুল.কোদমতলী.চট্টগ্রাম, | V15: Chattogram. | W15: চট্টগ্রাম | X15: JSC | Y15: জে,এস,সি | Z15: 2020 | AA15: 2020 | AC15: No | AD15: না | AE15: No | AF15: না | AH15: Service Holder | AI15: N/A | AJ15: House Wife | AK15: 01791364735 | AL15: 40000
A16: 5 | C16: 250111862 | D16: 2512401583 | E16: Arman Hossen | F16: আরমান হোসেন | G16: 11,12,2001 | H16: Md. Bahadur | I16: মোঃবাহাদুর | J16: Rina Akter | K16: রিনা আক্তার | L16: NID | M16: 4667424719 | N16: 01855375547 | O16: armanevan5547@gmail.com | P16: Male | R16: Kazipara.Kumira,Sitakunda,Chattogram. | S16: Do. | T16: কাজীপাড়া,কুমিরা,সীতাকুন্ড,চট্টগ্রাম। | U16: কাজীপাড়া,কুমিরা,সীতাকুন্ড,চট্টগ্রাম। | V16: Chattogram. | W16: চট্টগ্রাম | X16: HSC | Y16: এইচ,এস,সি | Z16: 2022 | AA16: 2022 | AC16: No | AD16: না | AE16: No | AF16: না | AH16: Driver | AI16: 01819967848 | AJ16: House Wife | AK16: 01585751010 | AL16: 20000
A17: 6 | C17: 250111866 | D17: 2512401587 | E17: Rabiul Sani | F17: রবিউল ছানি | G17: 22,01,2005 | H17: Abu Taher | I17: মোঃআবু তাহের | J17: Aklima Begum | K17: আকলিমা বেগম | L17: BCN | M17: 20051517017100398 | N17: 01810279672 | O17: robiulsani668@gmail.com | P17: Male | R17: East Chandraghona,Khandaker Para,Rangunia.Chattogram. | S17: 2106 Talukder Vila,Al falah Goli.Khulshi,Chattogram. | T17: পূর্ব চন্দ্রঘোনা, খন্দকার পাড়া, রাঙ্গুনিয়া.চট্টগ্রাম। | U17: 2106 তালুকদার ভিলা, আল ফালাহ গলি. খুলশী, চট্টগ্রাম। | V17: Chattogram. | W17: চট্টগ্রাম | X17: SSC | Y17: এস,এস,সি | Z17: 2021 | AA17: 2021 | AC17: No | AD17: না | AE17: No | AF17: না | AH17: Service Holder | AI17: 01920542966 | AJ17: House Wife | AK17: 01814340216
A18: 7 | C18: 250111868 | D18: 2512401584 | E18: Akil Raihan | F18: আকিল রায়হান | G18: 12,03,2002 | H18: Mohammad Abu Taher | I18: মোঃআবু তাহের | J18: Shamima Ferdous | K18: শামিমা ফেরদৌস | L18: NID | M18: 7367863589 | N18: 01585746887 | O18: akilraihan554@gmail.com | P18: Male | R18: Latifpur.Jafrabad,Sitakunda,Chattogram. | S18: Do. | T18: লতিফপুর, জাফরাবাদ, সীতাকুণ্ড, চট্টগ্রাম। | U18: লতিফপুর, জাফরাবাদ, সীতাকুণ্ড, চট্টগ্রাম। | V18: Chattogram. | W18: চট্টগ্রাম | X18: HSC | Y18: এইচ,এস,সি | Z18: 2022 | AA18: 2022 | AC18: No | AD18: না | AE18: No | AF18: না | AH18: Business | AI18: 01911885644 | AJ18: House Wife | AK18: 01784856117 | AL18: 20000
A19: 8 | C19: 250111880 | D19: 2512401585 | E19: Sadman Shariar Mahin. | F19: সাদমান শাহরিয়ার মাহিন | G19: 31,10,2004 | H19: Mohammad Muslim Uddin | I19: মোঃমুসলিম উদ্দিন | J19: Farvin Akter | K19: পারভিন আক্তার | L19: NID | M19: 9167885103 | N19: 01631640948 | O19: mahsummahin@gmail.com | P19: Male | R19: Madambibir Hat.Jahanabad.Bhatiary.Sitakunda,Chattogram. | S19: Do. | T19: মাদামবিবির হাট, জাহানাবাদ, ভাটিয়ারী, সীতাকুণ্ড, চট্টগ্রাম। | U19: মাদামবিবির হাট, জাহানাবাদ, ভাটিয়ারী, সীতাকুণ্ড, চট্টগ্রাম। | V19: Chattogram. | W19: চট্টগ্রাম | X19: SSC | Y19: এস,এস,সি | Z19: 2021 | AA19: 2021 | AC19: No | AD19: না | AE19: Yes | AF19: হ্যাঁ | AG19: Low Vission | AH19: Business | AI19: 01743518238 | AJ19: House Wife | AK19: 01872911132 | AL19: 20000
A20: 9 | C20: 250111884 | D20: 2512401586 | E20: Rifat Uddin | F20: রিফাত উদ্দীন | G20: 03.08.2005 | H20: Md.Samsudiin | I20: শামসু উদ্দীন | J20: Rina Begum | K20: রিনা আক্তার | L20: BCN | M20: 20051518666022037 | N20: 01880961207 | O20: N/A | P20: Male | R20: Latif Pur.Pakka Raster Matha,South Solim Pur.Jafrabad,Sitakunda, | S20: Do. | T20: লতিফ পুর,পাক্কা রাস্তার মাথা,দক্ষিণ সোলিম পুর.জাফরাবাদ,সীতাকুন্ড, | U20: লতিফ পুর,পাক্কা রাস্তার মাথা,দক্ষিণ সোলিম পুর.জাফরাবাদ,সীতাকুন্ড, | V20: Chattogram | W20: চট্টগ্রাম | X20: SSC | Y20: এস,এস,সি | Z20: 2023 | AA20: 2023 | AC20: No | AD20: না | AE20: No | AF20: না | AH20: Service Holder | AI20: 01880961207 | AJ20: House Wife | AK20: N/A | AL20: 15000
A21: 10 | C21: 250111885 | D21: 2512401588 | E21: Bijoy Mallik | F21: বিজয় মল্লিক | G21: 27.02.2004 | H21: Liton mallik | I21: লিটন মল্লিক | J21: Shikha Mallik | K21: শিখা মল্লিক | L21: BCN | M21: 20041591602158738 | N21: 01404621823 | O21: biju79311@gmail.com | P21: Male | R21: Balu Chara,Jalalabad,Khulsi,Chattogram | S21: West Bhujpur,Fatikchori,Chattogram, | T21: বালুছরা, জালালাবাদ, খুলসি, চট্টগ্রাম | U21: পশ্চিম ভূজপুর, ফটিকছড়ি, চট্টগ্রাম, | V21: Chattogram | W21: চট্টগ্রাম | X21: SSC | Y21: এস,এস,সি | Z21: 2024 | AA21: 2024 | AC21: No | AD21: না | AE21: No | AF21: না | AH21: Business | AI21: 01710524010 | AJ21: House Wife | AK21: 01823919305 | AL21: 15000
A22: 11 | C22: 250111891 | D22: 2512401589 | E22: Mohammad Rana Hosen | F22: মোহাম্মদ রানা হোসেন | G22: 02.03.2006 | H22: Abul Kashem | I22: আবুল কাশেম | J22: Rahima Akter | K22: রহিমা বেগম | L22: BCN | M22: 20061516185016449 | N22: 01821351924 | O22: N/A | P22: Male | R22: Do | S22: Shikolbaha.Karnafuly,Chattogram. | T22: শিকলবাহা.কর্ণফুলী,চট্টগ্রাম। | U22: শিকলবাহা.কর্ণফুলী,চট্টগ্রাম। | V22: Chattogram | W22: চট্টগ্রাম | X22: SSC | Y22: এস,এস,সি | Z22: 2023 | AA22: 2023 | AC22: No | AD22: না | AE22: No | AF22: না | AH22: Farmer | AI22: 01843808479 | AJ22: House Wife | AK22: N/A | AL22: 15000
A23: 12 | C23: 250111895 | D23: 2512401590 | E23: Nayamat Ali | F23: নেয়ামত আলী | G23: 02,03,2007 | H23: Md.Alamgir | I23: মোঃ আলমগীর | J23: Jannatul Nyma | K23: জান্নাতুল নাইমা | L23: NID | M23: 1981084922 | N23: 01534536233 | O23: tbpfsamir@gmail.com | P23: Male | R23: Isphani gate no.01.Akbar Shah,Chattogram, | S23: Khulshi Kolony,PTI.Chattogram. | T23: ইস্পানি গেট নং ০১. আকবর শাহ, চট্টগ্রাম, | U23: খুলশী কলোনি, পিটিআই.চট্টগ্রাম। | V23: Chattogram | W23: চট্টগ্রাম | X23: SSC | Y23: এস,এস,সি | Z23: 2023 | AA23: 2023 | AC23: No | AD23: না | AE23: No | AF23: না | AH23: Service Holder | AI23: 01824155115 | AJ23: House Wife | AK23: 01996423740 | AL23: 15000
A24: 13 | C24: 250111897 | D24: 2512401591 | E24: Md.Shahedur Rahman Talukder | F24: মোঃ শাহেদুর রহমান তালুকদার | G24: 05.01.2002 | H24: Shafiul Alam talukder | I24: শফিউল আলম তালুকদার | J24: Selina Akter | K24: শেলিনা আকতার | L24: BCN | M24: 20021510894119829 | N24: 01881233185 | O24: shahedur7@gmailcom | P24: Male | R24: House no.-61.Road no.-03.Kunja Chaya,Byzid,Chattogram. | S24: Shilkup.Joldi-4390,Banchkhali,Chattogram. | T24: বাড়ি নং-61.রোড নং-03.কুঞ্জ ছায়া,বাইজিদ,চট্টগ্রাম। | U24: শিলকুপ.জোলডি-৪৩৯০,বাঁশখালি.চট্টগ্রাম। | V24: Chattogram | W24: চট্টগ্রাম | X24: SSC | Y24: এস,এস,সি | Z24: 2019 | AA24: 2019 | AC24: No | AD24: না | AE24: Yes | AF24: হ্যাঁ | AG24: Low Vission | AH24: Farmer | AI24: N/A | AJ24: House Wife | AK24: 01874101267 | AL24: 15000
A25: 14 | C25: 250111898 | D25: 2512401592 | E25: Rahat Hosen Sahin | F25: রাহাত হোসেন শাহিন | G25: 01.01.2006 | H25: Mohammad Shamsul Alam | I25: শামসুল আলম | J25: Bibi Aysa | K25: বিবি আয়শা | L25: BCN | M25: 20061516124108762 | N25: 01855839329 | O25: rahathosen234234@gmail.com | P25: Male | R25: Charlakshya,Kornafuly,Chattogram. | S25: Do | T25: চরলক্ষ্যা, কর্ণফুলী, চট্টগ্রাম। | U25: চরলক্ষ্যা, কর্ণফুলী, চট্টগ্রাম। | V25: Chattogram | W25: চট্টগ্রাম | X25: SSC | Y25: এস,এস,সি | Z25: 2022 | AA25: 2022 | AC25: No | AD25: না | AE25: No | AF25: না | AH25: N/A | AI25: N/A | AJ25: House Wife | AK25: 01834616213 | AL25: N/A
A26: 15 | C26: 250111901 | D26: 2512401593 | E26: Nabarshi Dewan | F26: নবর্ষি দেওয়ান | G26: 17.06.1996 | H26: Gourishakhar Dewan | I26: গৌরী শেখর দেওয়ান | J26: Kaberi Chakma | K26: কাবেরী চাকমা | L26: NID | M26: 6903940077 | N26: 01878499819 | O26: nabarshiofficial@gmail.com | P26: Male | R26: Boradon.Dighinala.Khagrachori.Chattogram. | S26: Sahenshah Building.Freeport.Bandar.Chattogram. | T26: বোরাদন,দীঘিনালা,খাগড়াছড়ি,চট্টগ্রাম। | U26: শাহেনশাহ বিল্ডিং, ফ্রিপোর্ট, বন্দর, চট্টগ্রাম। | V26: Chattogram | W26: চট্টগ্রাম | X26: SSC | Y26: এস,এস,সি | Z26: 2012 | AA26: 2012 | AC26: Yes | AD26: হ্যাঁ | AE26: No | AF26: না | AH26: Farmer | AI26: N/A | AJ26: House Wife | AK26: 01828869880 | AL26: 15000
A27: 16 | C27: 250111903 | D27: 2512401594 | E27: Md. Bellal Khan | F27: মোঃ বেল্লাল খান | G27: 09.09.2006 | H27: Md.Abdul latif Khan | I27: আব্দূল লতিফ খান | J27: Mst.Bilkish Begum | K27: বিলকিস বেগম | L27: BCN | M27: 20064614379100939 | N27: 01585465168 | O27: msttishislam961@gmail.com | P27: Male | R27: BethChori,30 no.Big Merung.Dighinala-4420.Khagrachori. | S27: Byzid Chatoogram, | T27: বেতছড়ি,30 নং.বড় মেরুং.দীঘিনালা-4420.খাগড়াছড়ি। | U27: বাইজিদ,চট্টগ্রাম। | V27: Khagrachori | W27: খাগড়াছড়ি | X27: SSC | Y27: এস,এস,সি | Z27: 2023 | AA27: 2023 | AC27: No | AD27: না | AE27: No | AF27: না | AH27: Bussiness | AI27: 01812825636 | AJ27: House Wife | AK27: 01879625470 | AL27: N/A
A28: 17 | C28: 250111907 | D28: 2512401595 | E28: Arko Nath (Ankon) | F28: অর্ক নাথ অংকন | G28: 23,08,2007 | H28: Gouranga Nath | I28: গৌরাঙ্গ নাথ | J28: Bappy Devi | K28: বাপ্পি দেবী | L28: BCN | M28: 20071591615105088 | N28: 01586238425 | O28: N/A | P28: Male | R28: Takota,Anowara,Chattogram | S28: Hali sohor.Chattogram, | T28: টাকোটা, আনোয়ারা, চট্টগ্রাম | U28: হালিশহর। চট্টগ্রাম, | V28: Chattogram | W28: খাগড়াছড়ি | X28: SSC | Y28: এস,এস,সি | Z28: 2023 | AA28: 2023 | AC28: No | AD28: না | AE28: Yes | AF28: হ্যাঁ | AG28: Low Vission | AH28: Service Holder | AI28: 01818292939 | AJ28: Service Holder | AK28: 01830145037
A29: 18 | C29: 250111910 | D29: 2512401604 | E29: Md.Abrar wasif | F29: মোঃ আবরার ওয়াসিফ | G29: 04.10.2007 | H29: Md.Ala uddin | I29: মোঃ আলা উদ্দীন | J29: Lutfun Nahar | K29: লুৎফুন নাহার | L29: BCN | M29: 20077512171035670 | N29: 01843649633 | O29: abrarwasif899@gmail.com | P29: Male | R29: House of Abul khair sareng.rampur.Company Gonj,Noakhali. | S29: Green View,Panchlaish,Chattogram. | T29: আবুল খায়েরের বাড়ি সারেং.রামপুর.কোম্পানী গঞ্জ,নোয়াখালী। | U29: গ্রীন ভিউ, পাঁচলাইশ, চট্টগ্রাম। | V29: Noakhali. | W29: নোয়াখালী | X29: JSC | Y29: জে,এস,সি | Z29: 2024 | AA29: 2024 | AC29: No | AD29: না | AE29: No | AF29: না | AH29: Farmer | AI29: N/A | AJ29: House Wife | AK29: 01612929781 | AL29: N/A
A30: 19 | C30: 250111911 | D30: 2512401596 | E30: Mohammad Abdul Al Fahad | F30: মোহাম্মদ আব্দুল আল ফাহাদ | G30: 15.10.2006 | H30: Moahammad Abdul Alim | I30: মোহাম্মদ আব্দুল আলিম | J30: Rezia Begum | K30: রিজিয়া বেগম | L30: NID | M30: 4218937656 | N30: 01975196567 | O30: mdfahad929292@gmail.com | P30: Male | R30: Oli Ahammed Mier Bari,HorihorPur,Choitenner Hat,Mirshorai,Chattogram. | S30: Wireless Murgir Farm.PTI,Khulshi,Chattogram. | T30: অলি আহমদ মিয়ার বাড়ি, হোরিহোরপুর, চৈতেন্যের হাট, মিরশ্বরাই, চট্টগ্রাম। | U30: ওয়্যারলেস মুরগির ফার্ম,পিটিআই,খুলশী,চট্টগ্রাম। | V30: Chattogram | W30: চট্টগ্রাম | X30: SSC | Y30: এস,এস,সি | Z30: 2023 | AA30: 2023 | AC30: No | AD30: না | AF30: না | AH30: Farmer | AI30: N/A | AJ30: House Wife | AK30: 01814213061
A31: 20 | C31: 250111913 | D31: 2512401597 | E31: Hasnat Fahim | F31: হাসনাত ফাহিম | G31: 03.10.2002 | H31: Md.Elias | I31: মোঃইলিয়াছ | J31: Fatema Begum | K31: ফাতেমা বেগম | L31: NID | M31: 1046446744 | N31: 01871892929 | O31: hasnatfahim29@gmail.com | P31: Male | R31: Sathghoria,Shiberhat,Sandwip.Chattogram. | S31: House No-12,Block no,-A.Halishohor.Chattogram. | T31: সাতঘোরিয়া, শিবেরহাট, সন্দ্বীপ, চট্টগ্রাম। | U31: বাড়ি নং-১২, ব্লক নং, -এ. হালিশহর, চট্টগ্রাম। | V31: Sandwip | W31: সন্দীপ | X31: SSC | Y31: এস,এস,সি | Z31: 2019 | AA31: 2019 | AC31: No | AD31: না | AE31: No | AF31: না | AH31: Service Holder | AI31: N/A | AJ31: House Wife | AK31: 01842121672 | AL31: N/A
A32: 21 | C32: 250111915 | D32: 2512401598 | E32: Md.Kamrul Hasan | F32: মোঃ কামরুল হাসান | G32: 27.02.2006 | H32: Md.Samsul Alam | I32: মোঃ শামসুল আলম | J32: Kateza Begum | K32: খতিজা বেগম | L32: BCN | M32: 20061518647131789 | N32: 01854189622 | O32: mm6290754@gmail.com | P32: Male | R32: South Akhir Pur.Mochjidda,kumira,Sitakunda,Chattogram. | S32: DO | T32: দক্ষিণ আখির পুর.মুছজিদ্দা,কুমিরা,সীতাকুন্ড,চট্টগ্রাম। | U32: দক্ষিণ আখির পুর.মুছজিদ্দা,কুমিরা,সীতাকুন্ড,চট্টগ্রাম। | V32: Chattogram, | W32: চট্টগ্রাম | X32: SSC | Y32: এস,এস,সি | Z32: 2025 | AA32: 2025 | AC32: No | AD32: না | AE32: No | AF32: না | AH32: Farmer | AI32: 01823698692 | AJ32: House Wife | AK32: 01823698692 | AL32: N/A
A33: 22 | C33: 250111916 | D33: 2512401599 | E33: Abrarul Haque Chowdhuri | F33: আবরারুল হক চৌধুরী | G33: 07,07,2003 | H33: Aminul haque | I33: আমিনুল হক চৌধুরী | J33: Renuara Akter | K33: রেনুআরা আখতার | L33: NID | M33: 1514525433 | N33: 01877913606 | O33: aditchy58@gmail.com | P33: Male | R33: Nur Ali Miyaer Hat,Farhadabad,Hathazari,Chattogram. | S33: Do. | T33: নুর আলী মিয়ার হাট, ফরহাদাবাদ, হাটহাজারী, চট্টগ্রাম। | U33: নুর আলী মিয়ার হাট, ফরহাদাবাদ, হাটহাজারী, চট্টগ্রাম। | V33: Chattogram | W33: চট্টগ্রাম | X33: HSC | Y33: এইচ,এস,সি | Z33: 2022 | AA33: 2022 | AC33: No | AD33: না | AE33: No | AF33: না | AH33: Service Holder | AI33: 01840887009 | AJ33: House Wife | AK33: 01823714105 | AL33: 20000
A34: 23 | C34: 250111919 | D34: 2512401602 | E34: Israt Hosen Sakib | F34: ইসরাত হোসাইন সাকিব | G34: 07,12,1997 | H34: Md.Lokman | I34: মোঃ লোকমান | J34: Jannatul Ferdous | K34: জান্নাতুল ফেরদৌস | L34: NID | M34: 1502241241 | N34: 01849501878 | O34: sakibtanvir10@gmail.com | P34: Male | R34: Over bridge Fakir Hat, south Solim Pur,Jafrabad,Sitakunda,Chattogram. | S34: Do. | T34: ওভারব্রিজ ফকির হাট, দক্ষিণ সোলিম পুর, জাফরাবাদ, সীতাকুণ্ড, চট্টগ্রাম। | U34: ওভারব্রিজ ফকির হাট, দক্ষিণ সোলিম পুর, জাফরাবাদ, সীতাকুণ্ড, চট্টগ্রাম। | V34: Chattogram | W34: চট্টগ্রাম | X34: JSC | Y34: জে,এস,সি | Z34: 2012 | AA34: 2012 | AC34: No | AD34: না | AE34: Yes | AF34: হ্যাঁ | AG34: Low Vission | AH34: Service Holder | AI34: 01857985828 | AJ34: House Wife | AK34: 01822237223 | AL34: 15000
A35: 24 | C35: 250111922 | D35: 2512401603 | E35: Rakibul Hasan Anu | F35: রাকিবুল হাসান অনু | G35: 11.07.2003 | H35: Munsur Alam | I35: মুনসুর আলম | J35: Umma Hafsa | K35: উম্মে হাফসা | L35: NID | M35: 5574113584 | N35: 01321717573 | O35: anurakib5@gmail.com | P35: Male | R35: Road no.32.Khan Bari,Moisadi,Chandpur. | S35: House of Sobhan,Pathantuli,Agrabad,Chattogram. | T35: রোড নং-৩২ নং,খান বাড়ি,মৈশাদ,চাঁদপুর। | U35: সোবহানের বাড়ী.আগ্রাবাদ,চট্টগ্রাম। | V35: Chattogram | W35: চট্টগ্রাম | X35: SSC | Y35: এস,এস,সি | Z35: 2021 | AA35: 2021 | AC35: No | AD35: না | AE35: No | AF35: না | AH35: Service Holder | AI35: 01816611378 | AJ35: House Wife | AK35: 01828555285 | AL35: 15000
A39: 25 | E39: Mohammad Jobaed Hossain Maruf | F39: মোহাম্মদ জোবায়েদ হোসেন মারুফ | G39: 29.04.2004 | H39: Mohammad Masud Rana | I39: মোঃ মাসুদ রানা | J39: Khadija Begum | K39: মোসাঃ খাদিজা বেগম | L39: NID | M39: 1517456826 | N39: 01818201423 | O39: anurakib5@gmail.com | P39: Male | R39: BM Gate.Fakori,Bhatiary,Salim Pur CDA R/A.Jafrabad.Sitakunda,Chattogram. | S39: Do | T39: বিএম গেট।ফকোরী,ভাটিয়ারী,সলিম পুর সিডিএ আর/এ.জাফরাবাদ।সীতাকুন্ড,চট্টগ্রাম। | U39: বিএম গেট।ফকোরী,ভাটিয়ারী,সলিম পুর সিডিএ আর/এ.জাফরাবাদ।সীতাকুন্ড,চট্টগ্রাম। | V39: Chattogram | W39: চট্টগ্রাম | X39: JSC | Y39: জে,এস,সি | Z39: 2018 | AA39: 2018 | AC39: No | AD39: না | AE39: No | AF39: না | AH39: Service Holder | AI39: 01816611378 | AJ39: House Wife | AK39: 01828555285 | AL39: 15000
E40: Ovijit Halder | F40: অভিজিত হালদার | G40: 15.12.2005 | H40: Anil Chandra Halder | I40: অনিল চন্দ্র হালদার | J40: Rama Rani Halder | K40: রামা রানী হালদার | L40: NID | M40: 4674669298 | N40: 01601119477 | P40: Male | R40: Ramer kathi,Barishal. | S40: 2 No. Gate.Nasirabad.Chattogram. | T40: রামের কাঠি,বরিশাল, | U40: ২নং গেট,নাসিরাবাদ,চট্টগ্রাম | V40: Barishal | X40: SSC | Z40: 2021 | AC40: No | AE40: No | AH40: Service Holder | AL40: 15000
E41: Md.Al Amin Ridoy | F41: মোঃ আল আমিন হৃদয় | G41: 01.01.2007 | H41: Md.Nurul Alam | I41: মোঃ নুরুল আলম | J41: Razia Begum | K41: রেজিয়া বেগম | L41: NID | M41: 1530015658 | N41: 01606680498 | P41: Male | R41: Kandir par,West gaon.Laksam.cumilla. | S41: Koiballadom.Kornelhat.Firojshah,Akbarshah,Chattogram. | T41: কান্দির পাড়.পশ্চিমগাঁও,লাকসাম,কুমিল্লা. | U41: কৈবাল্ল্যাদম,কর্নেলহাট,ফিরোজশাহ,আকবর শাহ.চট্টগ্রাম। | V41: Cumilla,
A43: 29 | B43: 26 | E43: Sk md. Fahim | H43: Sk.Md,Salim | J43: Afsa Parvin | M43: 6464641288 | N43: 01844895393 | P43: Male | R43: Block no.-B,North Halishohor,Post Code.4226,Chattogram. | S43: Wireless .Line no:-03.Pahatali-4202,Khulshi,Chattogram, | V43: Chattogram. | X43: Diploma | Z43: 2024 | AC43: No | AE43: No | AH43: Service Holder | AL43: 14000
A44: 30 | B44: 27 | E44: Mijanur Rahman | G44: 02.02.2000 | H44: Abdul Malek | J44: Saleha Begum | M44: 1030209272 | N44: 01603111969 | P44: Male | R44: Poi Chori Natun Para.Banchkhali, Chattogram | S44: House no.-03.Block no.-B.Road No.-03. Boro Pole.Halishohor,Chattogram. | V44: Chattogram. | X44: SSC | Z44: 2017 | AC44: No | AE44: No | AH44: Service Holder | AL44: 20000

Sheet 4.Attendence Sheet
G1: MYcÖRvZš¿x evsjv‡`k miKvi
G2: Accelerating and Strengthening Skills for Economic Transformation (ASSET) cÖKí
G3: KvwiMwi wk¶v Awa`ßi, XvKv - 1207
A5: cÖwk¶Y cÖ`vbKvix cÖwZôvb t BD‡mc AvgevMvb wUwfBwU Bbw÷wUDU|
A6: AKz‡ck‡bi bvg I †j‡fj t B‡jKwUªK¨vj BÝU‡jkb GÛ †gBb‡Ub¨vÝ, †j‡fj-02
A7: e¨vP bs t 02 | AA7: gvmt
A9: Roll No | B9: Name of Trainee | C9: 1 | D9: 2 | E9: 3 | F9: 4 | G9: 5 | H9: 6 | I9: 7 | J9: 8 | K9: 9 | L9: 10 | M9: 11 | N9: 12 | O9: 13 | P9: 14 | Q9: 15 | R9: 16 | S9: 17 | T9: 18 | U9: 19 | V9: 20 | W9: 21 | X9: 22 | Y9: 23 | Z9: 24 | AA9: 25 | AB9: 26 | AC9: 27 | AD9: 28 | AE9: 29 | AF9: 30 | AG9: 31 | AH9: Remarks
A10: 1 | B10: =IF(#REF!="","",#REF!) -> #REF!
A11: 2 | B11: =IF(#REF!="","",#REF!) -> #REF!
A12: 3 | B12: =IF(#REF!="","",#REF!) -> #REF!
A13: 4 | B13: =IF(#REF!="","",#REF!) -> #REF!
A14: 5 | B14: =IF(#REF!="","",#REF!) -> #REF!
A15: 6 | B15: =IF(#REF!="","",#REF!) -> #REF!
A16: 7 | B16: =IF(#REF!="","",#REF!) -> #REF!
A17: 8 | B17: =IF(#REF!="","",#REF!) -> #REF!
A18: 9 | B18: =IF(#REF!="","",#REF!) -> #REF!
A19: 10 | B19: =IF(#REF!="","",#REF!) -> #REF!
A20: 11 | B20: =IF(#REF!="","",#REF!) -> #REF!
A21: 12 | B21: =IF(#REF!="","",#REF!) -> #REF!
... A33: 24 | B33: =IF(#REF!="","",#REF!) -> #REF!
B34: Signature of Trainer
A36: Prepared by | C36: Checked by | AD36: Head of TVET Institute

Sheet Contact
A1: `¶Zv cÖwk¶Yv_©x‡`i Abycw¯’wZi Kj †iKW©
A2: ='All Form Data'!C2 -> †mkbt b‡f¤^i 2024 - †deªæqvix 2025
A3: ='All Form Data'!C3 -> cÖwk¶Y cÖ`vbKvix cÖwZôvb t BD‡mc AvgevMvb wUwfBwU Bbw÷wUDU|
A4: ='All Form Data'!C4 -> †UªW t B‡jKwUªK¨vj BÝU‡jkb GÛ †gBb‡Ub¨vÝ
A5: Accelerating and Strengthening Skills for Economic Transformation (ASSET) cÖKí
A6: µwgK bs | B6: cÖwk¶Yv_©xi bvg | C6: cÖwk¶Yv_©xi †gvevBj b¤^i | D6: wcZvi bvg | E6: wcZv/gvZv/ Awffve‡Ki †gvevBj b¤^i | F6: gšÍe¨
A7: 1 | B7: =IF('All Form Data'!F12="","",'All Form Data'!F12) -> মোহাম্মদ বাদশা | C7: =IF('All Form Data'!N12="","",'All Form Data'!N12) -> 01305978432 | D7: =IF('All Form Data'!I12="","",'All Form Data'!I12) -> মোঃ হাসান | E7: =IF(OR('All Form Data'!AI12="",'All Form Data'!AK12=""),"",'All Form Data'!AI12&" "&'All Form Data'!AK12) -> 01835955715 N/A
A8: 2 | B8: =IF('All Form Data'!#REF!="","",'All Form Data'!#REF!) -> #REF! | C8: =IF('All Form Data'!#REF!="","",'All Form Data'!#REF!) -> #REF! | D8: =IF('All Form Data'!#REF!="","",'All Form Data'!#REF!) -> #REF! | E8: =IF(OR('All Form Data'!#REF!="",'All Form Data'!#REF!=""),"",'All Form Data'!#REF!&" "&'All Form Data'!#REF!) -> #REF!
A9: 3 | B9: =IF('All Form Data'!F13="","",'All Form Data'!F13) -> জাহিদুল ইসলাম | C9: =IF('All Form Data'!N13="","",'All Form Data'!N13) -> 01888239320 | D9: =IF('All Form Data'!I13="","",'All Form Data'!I13) -> মোঃ রফিক | E9: =IF(OR('All Form Data'!AI13="",'All Form Data'!AK13=""),"",'All Form Data'!AI13&" "&'All Form Data'!AK13) -> 01815650722 018404444644
A10: 4 | B10: =IF('All Form Data'!F14="","",'All Form Data'!F14) -> সুপন সাহা | C10: =IF('All Form Data'!N14="","",'All Form Data'!N14) -> 01843256390 | D10: =IF('All Form Data'!I14="","",'All Form Data'!I14) -> সুমন সাহা | E10: =IF(OR('All Form Data'!AI14="",'All Form Data'!AK14=""),"",'All Form Data'!AI14&" "&'All Form Data'!AK14) -> 01814873757 N/A
A11: 5 | B11: =IF('All Form Data'!F15="","",'All Form Data'!F15) -> জাহিদুল ইসলাম ইমন | C11: =IF('All Form Data'!N15="","",'All Form Data'!N15) -> 01814393561 | D11: =IF('All Form Data'!I15="","",'All Form Data'!I15) -> জহিরুল ইসলাম | E11: =IF(OR('All Form Data'!AI15="",'All Form Data'!AK15=""),"",'All Form Data'!AI15&" "&'All Form Data'!AK15) -> N/A 01791364735
A12: 6 | B12: =IF('All Form Data'!F16="","",'All Form Data'!F16) -> আরমান হোসেন | C12: =IF('All Form Data'!N16="","",'All Form Data'!N16) -> 01855375547 | D12: =IF('All Form Data'!I16="","",'All Form Data'!I16) -> মোঃবাহাদুর | E12: =IF(OR('All Form Data'!AI16="",'All Form Data'!AK16=""),"",'All Form Data'!AI16&" "&'All Form Data'!AK16) -> 01819967848 01585751010
A13: 7 | B13: =IF('All Form Data'!F17="","",'All Form Data'!F17) -> রবিউল ছানি | C13: =IF('All Form Data'!N17="","",'All Form Data'!N17) -> 01810279672 | D13: =IF('All Form Data'!I17="","",'All Form Data'!I17) -> মোঃআবু তাহের | E13: =IF(OR('All Form Data'!AI17="",'All Form Data'!AK17=""),"",'All Form Data'!AI17&" "&'All Form Data'!AK17) -> 01920542966 01814340216
A14: 8 | B14: =IF('All Form Data'!F18="","",'All Form Data'!F18) -> আকিল রায়হান | C14: =IF('All Form Data'!N18="","",'All Form Data'!N18) -> 01585746887 | D14: =IF('All Form Data'!I18="","",'All Form Data'!I18) -> মোঃআবু তাহের | E14: =IF(OR('All Form Data'!AI18="",'All Form Data'!AK18=""),"",'All Form Data'!AI18&" "&'All Form Data'!AK18) -> 01911885644 01784856117
A15: 9 | B15: =IF('All Form Data'!F19="","",'All Form Data'!F19) -> সাদমান শাহরিয়ার মাহিন | C15: =IF('All Form Data'!N19="","",'All Form Data'!N19) -> 01631640948 | D15: =IF('All Form Data'!I19="","",'All Form Data'!I19) -> মোঃমুসলিম উদ্দিন | E15: =IF(OR('All Form Data'!AI19="",'All Form Data'!AK19=""),"",'All Form Data'!AI19&" "&'All Form Data'!AK19) -> 01743518238 01872911132
A16: 10 | B16: =IF('All Form Data'!#REF!="","",'All Form Data'!#REF!) -> #REF! | C16: =IF('All Form Data'!#REF!="","",'All Form Data'!#REF!) -> #REF! | D16: =IF('All Form Data'!#REF!="","",'All Form Data'!#REF!) -> #REF! | E16: =IF(OR('All Form Data'!#REF!="",'All Form Data'!#REF!=""),"",'All Form Data'!#REF!&" "&'All Form Data'!#REF!) -> #REF!
A17: 11 | B17: =IF('All Form Data'!#REF!="","",'All Form Data'!#REF!) -> #REF! | C17: =IF('All Form Data'!#REF!="","",'All Form Data'!#REF!) -> #REF! | D17: =IF('All Form Data'!#REF!="","",'All Form Data'!#REF!) -> #REF! | E17: =IF(OR('All Form Data'!#REF!="",'All Form Data'!#REF!=""),"",'All Form Data'!#REF!&" "&'All Form Data'!#REF!) -> #REF!
A18: 12 | B18: =IF('All Form Data'!F20="","",'All Form Data'!F20) -> রিফাত উদ্দীন | C18: =IF('All Form Data'!N20="","",'All Form Data'!N20) -> 01880961207 | D18: =IF('All Form Data'!I20="","",'All Form Data'!I20) -> শামসু উদ্দীন | E18: =IF(OR('All Form Data'!AI20="",'All Form Data'!AK20=""),"",'All Form Data'!AI20&" "&'All Form Data'!AK20) -> 01880961207 N/A
A19: 13 | B19: =IF('All Form Data'!F21="","",'All Form Data'!F21) -> বিজয় মল্লিক | C19: =IF('All Form Data'!N21="","",'All Form Data'!N21) -> 01404621823 | D19: =IF('All Form Data'!I21="","",'All Form Data'!I21) -> লিটন মল্লিক | E19: =IF(OR('All Form Data'!AI21="",'All Form Data'!AK21=""),"",'All Form Data'!AI21&" "&'All Form Data'!AK21) -> 01710524010 01823919305
A20: 14 | B20: =IF('All Form Data'!F22="","",'All Form Data'!F22) -> মোহাম্মদ রানা হোসেন | C20: =IF('All Form Data'!N22="","",'All Form Data'!N22) -> 01821351924 | D20: =IF('All Form Data'!I22="","",'All Form Data'!I22) -> আবুল কাশেম | E20: =IF(OR('All Form Data'!AI22="",'All Form Data'!AK22=""),"",'All Form Data'!AI22&" "&'All Form Data'!AK22) -> 01843808479 N/A
A21: 15 | B21: =IF('All Form Data'!F23="","",'All Form Data'!F23) -> নেয়ামত আলী | C21: =IF('All Form Data'!N23="","",'All Form Data'!N23) -> 01534536233 | D21: =IF('All Form Data'!I23="","",'All Form Data'!I23) -> মোঃ আলমগীর | E21: =IF(OR('All Form Data'!AI23="",'All Form Data'!AK23=""),"",'All Form Data'!AI23&" "&'All Form Data'!AK23) -> 01824155115 01996423740
A22: 16 | B22: =IF('All Form Data'!F24="","",'All Form Data'!F24) -> মোঃ শাহেদুর রহমান তালুকদার | C22: =IF('All Form Data'!N24="","",'All Form Data'!N24) -> 01881233185 | D22: =IF('All Form Data'!I24="","",'All Form Data'!I24) -> শফিউল আলম তালুকদার | E22: =IF(OR('All Form Data'!AI24="",'All Form Data'!AK24=""),"",'All Form Data'!AI24&" "&'All Form Data'!AK24) -> N/A 01874101267
A23: 17 | B23: =IF('All Form Data'!F25="","",'All Form Data'!F25) -> রাহাত হোসেন শাহিন | C23: =IF('All Form Data'!N25="","",'All Form Data'!N25) -> 01855839329 | D23: =IF('All Form Data'!I25="","",'All Form Data'!I25) -> শামসুল আলম | E23: =IF(OR('All Form Data'!AI25="",'All Form Data'!AK25=""),"",'All Form Data'!AI25&" "&'All Form Data'!AK25) -> N/A 01834616213
A24: 18 | B24: =IF('All Form Data'!F26="","",'All Form Data'!F26) -> নবর্ষি দেওয়ান | C24: =IF('All Form Data'!N26="","",'All Form Data'!N26) -> 01878499819 | D24: =IF('All Form Data'!I26="","",'All Form Data'!I26) -> গৌরী শেখর দেওয়ান | E24: =IF(OR('All Form Data'!AI26="",'All Form Data'!AK26=""),"",'All Form Data'!AI26&" "&'All Form Data'!AK26) -> N/A 01828869880
A25: 19 | B25: =IF('All Form Data'!F27="","",'All Form Data'!F27) -> মোঃ বেল্লাল খান | C25: =IF('All Form Data'!N27="","",'All Form Data'!N27) -> 01585465168 | D25: =IF('All Form Data'!I27="","",'All Form Data'!I27) -> আব্দূল লতিফ খান | E25: =IF(OR('All Form Data'!AI27="",'All Form Data'!AK27=""),"",'All Form Data'!AI27&" "&'All Form Data'!AK27) -> 01812825636 01879625470
A26: 20 | B26: =IF('All Form Data'!F28="","",'All Form Data'!F28) -> অর্ক নাথ অংকন | C26: =IF('All Form Data'!N28="","",'All Form Data'!N28) -> 01586238425 | D26: =IF('All Form Data'!I28="","",'All Form Data'!I28) -> গৌরাঙ্গ নাথ | E26: =IF(OR('All Form Data'!AI28="",'All Form Data'!AK28=""),"",'All Form Data'!AI28&" "&'All Form Data'!AK28) -> 01818292939 01830145037
A27: 21 | B27: =IF('All Form Data'!F29="","",'All Form Data'!F29) -> মোঃ আবরার ওয়াসিফ | C27: =IF('All Form Data'!N29="","",'All Form Data'!N29) -> 01843649633 | D27: =IF('All Form Data'!I29="","",'All Form Data'!I29) -> মোঃ আলা উদ্দীন | E27: =IF(OR('All Form Data'!AI29="",'All Form Data'!AK29=""),"",'All Form Data'!AI29&" "&'All Form Data'!AK29) -> N/A 01612929781
A28: 22 | B28: =IF('All Form Data'!F30="","",'All Form Data'!F30) -> মোহাম্মদ আব্দুল আল ফাহাদ | C28: =IF('All Form Data'!N30="","",'All Form Data'!N30) -> 01975196567 | D28: =IF('All Form Data'!I30="","",'All Form Data'!I30) -> মোহাম্মদ আব্দুল আলিম | E28: =IF(OR('All Form Data'!AI30="",'All Form Data'!AK30=""),"",'All Form Data'!AI30&" "&'All Form Data'!AK30) -> N/A 01814213061
A29: 23 | B29: =IF('All Form Data'!F31="","",'All Form Data'!F31) -> হাসনাত ফাহিম | C29: =IF('All Form Data'!N31="","",'All Form Data'!N31) -> 01871892929 | D29: =IF('All Form Data'!I31="","",'All Form Data'!I31) -> মোঃইলিয়াছ | E29: =IF(OR('All Form Data'!AI31="",'All Form Data'!AK31=""),"",'All Form Data'!AI31&" "&'All Form Data'!AK31) -> N/A 01842121672
A30: 24 | B30: =IF('All Form Data'!F32="","",'All Form Data'!F32) -> মোঃ কামরুল হাসান | C30: =IF('All Form Data'!N32="","",'All Form Data'!N32) -> 01854189622 | D30: =IF('All Form Data'!I32="","",'All Form Data'!I32) -> মোঃ শামসুল আলম | E30: =IF(OR('All Form Data'!AI32="",'All Form Data'!AK32=""),"",'All Form Data'!AI32&" "&'All Form Data'!AK32) -> 01823698692 01823698692

Sheet Signature colection
A1: `¶Zv cÖwk¶Yv_©x‡`i ¯^v¶i msMÖn
A2: ='All Form Data'!C2 -> †mkbt b‡f¤^i 2024 - †deªæqvix 2025
A3: ='All Form Data'!C3 -> cÖwk¶Y cÖ`vbKvix cÖwZôvb t BD‡mc AvgevMvb wUwfBwU Bbw÷wUDU|
A4: ='All Form Data'!C4 -> †UªW t B‡jKwUªK¨vj BÝU‡jkb GÛ †gBb‡Ub¨vÝ
A5: Accelerating and Strengthening Skills for Economic Transformation (ASSET) cÖKí
A6: µwgK bs | B6: cÖwk¶Yv_©xi bvg | C6: ¯^v¶i | D6: µwgK bs | E6: cÖwk¶Yv_©xi bvg | F6: ¯^v¶i
A7: 1 | B7: =IF('All Form Data'!F12="","",'All Form Data'!F12) -> মোহাম্মদ বাদশা | D7: 13 | E7: =IF('All Form Data'!F21="","",'All Form Data'!F21) -> বিজয় মল্লিক
A8: 2 | B8: =IF('All Form Data'!#REF!="","",'All Form Data'!#REF!) -> #REF! | D8: 14 | E8: =IF('All Form Data'!F22="","",'All Form Data'!F22) -> মোহাম্মদ রানা হোসেন
A9: 3 | B9: =IF('All Form Data'!F13="","",'All Form Data'!F13) -> জাহিদুল ইসলাম | D9: 15 | E9: =IF('All Form Data'!F23="","",'All Form Data'!F23) -> নেয়ামত আলী
A10: 4 | B10: =IF('All Form Data'!F14="","",'All Form Data'!F14) -> সুপন সাহা | D10: 16 | E10: =IF('All Form Data'!F24="","",'All Form Data'!F24) -> মোঃ শাহেদুর রহমান তালুকদার
A11: 5 | B11: =IF('All Form Data'!F15="","",'All Form Data'!F15) -> জাহিদুল ইসলাম ইমন | D11: 17 | E11: =IF('All Form Data'!F25="","",'All Form Data'!F25) -> রাহাত হোসেন শাহিন
A12: 6 | B12: =IF('All Form Data'!F16="","",'All Form Data'!F16) -> আরমান হোসেন | D12: 18 | E12: =IF('All Form Data'!F26="","",'All Form Data'!F26) -> নবর্ষি দেওয়ান
A13: 7 | B13: =IF('All Form Data'!F17="","",'All Form Data'!F17) -> রবিউল ছানি | D13: 19 | E13: =IF('All Form Data'!F27="","",'All Form Data'!F27) -> মোঃ বেল্লাল খান
A14: 8 | B14: =IF('All Form Data'!F18="","",'All Form Data'!F18) -> আকিল রায়হান | D14: 20 | E14: =IF('All Form Data'!F28="","",'All Form Data'!F28) -> অর্ক নাথ অংকন
A15: 9 | B15: =IF('All Form Data'!F19="","",'All Form Data'!F19) -> সাদমান শাহরিয়ার মাহিন | D15: 21 | E15: =IF('All Form Data'!F29="","",'All Form Data'!F29) -> মোঃ আবরার ওয়াসিফ
A16: 10 | B16: =IF('All Form Data'!#REF!="","",'All Form Data'!#REF!) -> #REF! | D16: 22 | E16: =IF('All Form Data'!F30="","",'All Form Data'!F30) -> মোহাম্মদ আব্দুল আল ফাহাদ
A17: 11 | B17: =IF('All Form Data'!#REF!="","",'All Form Data'!#REF!) -> #REF! | D17: 23 | E17: =IF('All Form Data'!F31="","",'All Form Data'!F31) -> হাসনাত ফাহিম
A18: 12 | B18: =IF('All Form Data'!F20="","",'All Form Data'!F20) -> রিফাত উদ্দীন | D18: 24 | E18: =IF('All Form Data'!F32="","",'All Form Data'!F32) -> মোঃ কামরুল হাসান

Sheet Pre selection
A1: `¶Zv cÖwk¶Yv_©x‡`i cÖvK-evQvB‡qi Z_¨vw`
A2: ='All Form Data'!C2 -> †mkbt b‡f¤^i 2024 - †deªæqvix 2025
A3: ='All Form Data'!C3 -> cÖwk¶Y cÖ`vbKvix cÖwZôvb t BD‡mc AvgevMvb wUwfBwU Bbw÷wUDU|
A4: ='All Form Data'!C4 -> †UªW t B‡jKwUªK¨vj BÝU‡jkb GÛ †gBb‡Ub¨vÝ
A5: Accelerating and Strengthening Skills for Economic Transformation (ASSET) cÖKí
A6: µwgK bs | B6: cÖwk¶Yv_©xi bvg | C6: wcZvi bvg | D6: gvZvi bvg | E6: dg© bs | F6: cÖvß b¤^i | G6: gšÍe¨
A7: 1 | B7: =IF('All Form Data'!F12="","",'All Form Data'!F12) -> মোহাম্মদ বাদশা | C7: =IF('All Form Data'!I12="","",'All Form Data'!I12) -> মোঃ হাসান | D7: =IF('All Form Data'!K12="","",'All Form Data'!K12) -> খুরশেদা বেগম | E7: =IF('All Form Data'!B12="","",'All Form Data'!B12) | G7: =IF('All Form Data'!AN12="Selected","wbe©vwPZ",IF('All Form Data'!AN12="Waiting","A‡c¶gvb",""))
A8: 2 | B8: =IF('All Form Data'!#REF!="","",'All Form Data'!#REF!) -> #REF! | C8: =IF('All Form Data'!#REF!="","",'All Form Data'!#REF!) -> #REF! | D8: =IF('All Form Data'!#REF!="","",'All Form Data'!#REF!) -> #REF! | E8: =IF('All Form Data'!#REF!="","",'All Form Data'!#REF!) -> #REF! | G8: =IF('All Form Data'!#REF!="Selected","wbe©vwPZ",IF('All Form Data'!#REF!="Waiting","A‡c¶gvb","")) -> #REF!
A9: 3 | B9: =IF('All Form Data'!F13="","",'All Form Data'!F13) -> জাহিদুল ইসলাম | C9: =IF('All Form Data'!I13="","",'All Form Data'!I13) -> মোঃ রফিক | D9: =IF('All Form Data'!K13="","",'All Form Data'!K13) -> সাজিয়া বেগম | E9: =IF('All Form Data'!B13="","",'All Form Data'!B13) | G9: =IF('All Form Data'!AN13="Selected","wbe©vwPZ",IF('All Form Data'!AN13="Waiting","A‡c¶gvb",""))
A10: 4 | B10: =IF('All Form Data'!F14="","",'All Form Data'!F14) -> সুপন সাহা | C10: =IF('All Form Data'!I14="","",'All Form Data'!I14) -> সুমন সাহা | D10: =IF('All Form Data'!K14="","",'All Form Data'!K14) -> শিল্পী সাহা | E10: =IF('All Form Data'!B14="","",'All Form Data'!B14) | G10: =IF('All Form Data'!AN14="Selected","wbe©vwPZ",IF('All Form Data'!AN14="Waiting","A‡c¶gvb",""))
A11: 5 | B11: =IF('All Form Data'!F15="","",'All Form Data'!F15) -> জাহিদুল ইসলাম ইমন | C11: =IF('All Form Data'!I15="","",'All Form Data'!I15) -> জহিরুল ইসলাম | D11: =IF('All Form Data'!K15="","",'All Form Data'!K15) -> হোসনে আরা বেগম | E11: =IF('All Form Data'!B15="","",'All Form Data'!B15) | G11: =IF('All Form Data'!AN15="Selected","wbe©vwPZ",IF('All Form Data'!AN15="Waiting","A‡c¶gvb",""))
A12: 6 | B12: =IF('All Form Data'!F16="","",'All Form Data'!F16) -> আরমান হোসেন | C12: =IF('All Form Data'!I16="","",'All Form Data'!I16) -> মোঃবাহাদুর | D12: =IF('All Form Data'!K16="","",'All Form Data'!K16) -> রিনা আক্তার | E12: =IF('All Form Data'!B16="","",'All Form Data'!B16) | G12: =IF('All Form Data'!AN16="Selected","wbe©vwPZ",IF('All Form Data'!AN16="Waiting","A‡c¶gvb",""))
A13: 7 | B13: =IF('All Form Data'!F17="","",'All Form Data'!F17) -> রবিউল ছানি | C13: =IF('All Form Data'!I17="","",'All Form Data'!I17) -> মোঃআবু তাহের | D13: =IF('All Form Data'!K17="","",'All Form Data'!K17) -> আকলিমা বেগম | E13: =IF('All Form Data'!B17="","",'All Form Data'!B17) | G13: =IF('All Form Data'!AN17="Selected","wbe©vwPZ",IF('All Form Data'!AN17="Waiting","A‡c¶gvb",""))
A14: 8 | B14: =IF('All Form Data'!F18="","",'All Form Data'!F18) -> আকিল রায়হান | C14: =IF('All Form Data'!I18="","",'All Form Data'!I18) -> মোঃআবু তাহের | D14: =IF('All Form Data'!K18="","",'All Form Data'!K18) -> শামিমা ফেরদৌস | E14: =IF('All Form Data'!B18="","",'All Form Data'!B18) | G14: =IF('All Form Data'!AN18="Selected","wbe©vwPZ",IF('All Form Data'!AN18="Waiting","A‡c¶gvb",""))
A15: 9 | B15: =IF('All Form Data'!F19="","",'All Form Data'!F19) -> সাদমান শাহরিয়ার মাহিন | C15: =IF('All Form Data'!I19="","",'All Form Data'!I19) -> মোঃমুসলিম উদ্দিন | D15: =IF('All Form Data'!K19="","",'All Form Data'!K19) -> পারভিন আক্তার | E15: =IF('All Form Data'!B19="","",'All Form Data'!B19) | G15: =IF('All Form Data'!AN19="Selected","wbe©vwPZ",IF('All Form Data'!AN19="Waiting","A‡c¶gvb",""))
A16: 10 | B16: =IF('All Form Data'!#REF!="","",'All Form Data'!#REF!) -> #REF! | C16: =IF('All Form Data'!#REF!="","",'All Form Data'!#REF!) -> #REF! | D16: =IF('All Form Data'!#REF!="","",'All Form Data'!#REF!) -> #REF! | E16: =IF('All Form Data'!#REF!="","",'All Form Data'!#REF!) -> #REF! | G16: =IF('All Form Data'!#REF!="Selected","wbe©vwPZ",IF('All Form Data'!#REF!="Waiting","A‡c¶gvb","")) -> #REF!
A17: 11 | B17: =IF('All Form Data'!#REF!="","",'All Form Data'!#REF!) -> #REF! | C17: =IF('All Form Data'!#REF!="","",'All Form Data'!#REF!) -> #REF! | D17: =IF('All Form Data'!#REF!="","",'All Form Data'!#REF!) -> #REF! | E17: =IF('All Form Data'!#REF!="","",'All Form Data'!#REF!) -> #REF! | G17: =IF('All Form Data'!#REF!="Selected","wbe©vwPZ",IF('All Form Data'!#REF!="Waiting","A‡c¶gvb","")) -> #REF!
A18: 12 | B18: =IF('All Form Data'!F20="","",'All Form Data'!F20) -> রিফাত উদ্দীন | C18: =IF('All Form Data'!I20="","",'All Form Data'!I20) -> শামসু উদ্দীন | D18: =IF('All Form Data'!K20="","",'All Form Data'!K20) -> রিনা আক্তার | E18: =IF('All Form Data'!B20="","",'All Form Data'!B20) | G18: =IF('All Form Data'!AN20="Selected","wbe©vwPZ",IF('All Form Data'!AN20="Waiting","A‡c¶gvb",""))
A19: 13 | B19: =IF('All Form Data'!F21="","",'All Form Data'!F21) -> বিজয় মল্লিক | C19: =IF('All Form Data'!I21="","",'All Form Data'!I21) -> লিটন মল্লিক | D19: =IF('All Form Data'!K21="","",'All Form Data'!K21) -> শিখা মল্লিক | E19: =IF('All Form Data'!B21="","",'All Form Data'!B21) | G19: =IF('All Form Data'!AN21="Selected","wbe©vwPZ",IF('All Form Data'!AN21="Waiting","A‡c¶gvb",""))
A20: 14 | B20: =IF('All Form Data'!F22="","",'All Form Data'!F22) -> মোহাম্মদ রানা হোসেন | C20: =IF('All Form Data'!I22="","",'All Form Data'!I22) -> আবুল কাশেম | D20: =IF('All Form Data'!K22="","",'All Form Data'!K22) -> রহিমা বেগম | E20: =IF('All Form Data'!B22="","",'All Form Data'!B22) | G20: =IF('All Form Data'!AN22="Selected","wbe©vwPZ",IF('All Form Data'!AN22="Waiting","A‡c¶gvb",""))
A21: 15 | B21: =IF('All Form Data'!F23="","",'All Form Data'!F23) -> নেয়ামত আলী | C21: =IF('All Form Data'!I23="","",'All Form Data'!I23) -> মোঃ আলমগীর | D21: =IF('All Form Data'!K23="","",'All Form Data'!K23) -> জান্নাতুল নাইমা | E21: =IF('All Form Data'!B23="","",'All Form Data'!B23) | G21: =IF('All Form Data'!AN23="Selected","wbe©vwPZ",IF('All Form Data'!AN23="Waiting","A‡c¶gvb",""))
A22: 16 | B22: =IF('All Form Data'!F24="","",'All Form Data'!F24) -> মোঃ শাহেদুর রহমান তালুকদার | C22: =IF('All Form Data'!I24="","",'All Form Data'!I24) -> শফিউল আলম তালুকদার | D22: =IF('All Form Data'!K24="","",'All Form Data'!K24) -> শেলিনা আকতার | E22: =IF('All Form Data'!B24="","",'All Form Data'!B24) | G22: =IF('All Form Data'!AN24="Selected","wbe©vwPZ",IF('All Form Data'!AN24="Waiting","A‡c¶gvb",""))
A23: 17 | B23: =IF('All Form Data'!F25="","",'All Form Data'!F25) -> রাহাত হোসেন শাহিন | C23: =IF('All Form Data'!I25="","",'All Form Data'!I25) -> শামসুল আলম | D23: =IF('All Form Data'!K25="","",'All Form Data'!K25) -> বিবি আয়শা | E23: =IF('All Form Data'!B25="","",'All Form Data'!B25) | G23: =IF('All Form Data'!AN25="Selected","wbe©vwPZ",IF('All Form Data'!AN25="Waiting","A‡c¶gvb",""))
A24: 18 | B24: =IF('All Form Data'!F26="","",'All Form Data'!F26) -> নবর্ষি দেওয়ান | C24: =IF('All Form Data'!I26="","",'All Form Data'!I26) -> গৌরী শেখর দেওয়ান | D24: =IF('All Form Data'!K26="","",'All Form Data'!K26) -> কাবেরী চাকমা | E24: =IF('All Form Data'!B26="","",'All Form Data'!B26) | G24: =IF('All Form Data'!AN26="Selected","wbe©vwPZ",IF('All Form Data'!AN26="Waiting","A‡c¶gvb",""))
A25: 19 | B25: =IF('All Form Data'!F27="","",'All Form Data'!F27) -> মোঃ বেল্লাল খান | C25: =IF('All Form Data'!I27="","",'All Form Data'!I27) -> আব্দূল লতিফ খান | D25: =IF('All Form Data'!K27="","",'All Form Data'!K27) -> বিলকিস বেগম | E25: =IF('All Form Data'!B27="","",'All Form Data'!B27) | G25: =IF('All Form Data'!AN27="Selected","wbe©vwPZ",IF('All Form Data'!AN27="Waiting","A‡c¶gvb",""))
A26: 20 | B26: =IF('All Form Data'!F28="","",'All Form Data'!F28) -> অর্ক নাথ অংকন | C26: =IF('All Form Data'!I28="","",'All Form Data'!I28) -> গৌরাঙ্গ নাথ | D26: =IF('All Form Data'!K28="","",'All Form Data'!K28) -> বাপ্পি দেবী | E26: =IF('All Form Data'!B28="","",'All Form Data'!B28) | G26: =IF('All Form Data'!AN28="Selected","wbe©vwPZ",IF('All Form Data'!AN28="Waiting","A‡c¶gvb",""))
A27: 21 | B27: =IF('All Form Data'!F29="","",'All Form Data'!F29) -> মোঃ আবরার ওয়াসিফ | C27: =IF('All Form Data'!I29="","",'All Form Data'!I29) -> মোঃ আলা উদ্দীন | D27: =IF('All Form Data'!K29="","",'All Form Data'!K29) -> লুৎফুন নাহার | E27: =IF('All Form Data'!B29="","",'All Form Data'!B29) | G27: =IF('All Form Data'!AN29="Selected","wbe©vwPZ",IF('All Form Data'!AN29="Waiting","A‡c¶gvb",""))
A28: 22 | B28: =IF('All Form Data'!F30="","",'All Form Data'!F30) -> মোহাম্মদ আব্দুল আল ফাহাদ | C28: =IF('All Form Data'!I30="","",'All Form Data'!I30) -> মোহাম্মদ আব্দুল আলিম | D28: =IF('All Form Data'!K30="","",'All Form Data'!K30) -> রিজিয়া বেগম | E28: =IF('All Form Data'!B30="","",'All Form Data'!B30) | G28: =IF('All Form Data'!AN30="Selected","wbe©vwPZ",IF('All Form Data'!AN30="Waiting","A‡c¶gvb",""))
A29: 23 | B29: =IF('All Form Data'!F31="","",'All Form Data'!F31) -> হাসনাত ফাহিম | C29: =IF('All Form Data'!I31="","",'All Form Data'!I31) -> মোঃইলিয়াছ | D29: =IF('All Form Data'!K31="","",'All Form Data'!K31) -> ফাতেমা বেগম | E29: =IF('All Form Data'!B31="","",'All Form Data'!B31) | G29: =IF('All Form Data'!AN31="Selected","wbe©vwPZ",IF('All Form Data'!AN31="Waiting","A‡c¶gvb",""))
... A31: 25 | B31: =IF('All Form Data'!F33="","",'All Form Data'!F33) -> আবরারুল হক চৌধুরী | C31: =IF('All Form Data'!I33="","",'All Form Data'!I33) -> আমিনুল হক চৌধুরী | D31: =IF('All Form Data'!K33="","",'All Form Data'!K33) -> রেনুআরা আখতার | E31: =IF('All Form Data'!B33="","",'All Form Data'!B33) | G31: =IF('All Form Data'!AN33="Selected","wbe©vwPZ",IF('All Form Data'!AN33="Waiting","A‡c¶gvb",""))
A32: 26 | B32: =IF('All Form Data'!#REF!="","",'All Form Data'!#REF!) -> #REF! | C32: =IF('All Form Data'!#REF!="","",'All Form Data'!#REF!) -> #REF! | D32: =IF('All Form Data'!#REF!="","",'All Form Data'!#REF!) -> #REF! | E32: =IF('All Form Data'!#REF!="","",'All Form Data'!#REF!) -> #REF! | G32: =IF('All Form Data'!#REF!="Selected","wbe©vwPZ",IF('All Form Data'!#REF!="Waiting","A‡c¶gvb","")) -> #REF!
A33: 27 | B33: =IF('All Form Data'!#REF!="","",'All Form Data'!#REF!) -> #REF! | C33: =IF('All Form Data'!#REF!="","",'All Form Data'!#REF!) -> #REF! | D33: =IF('All Form Data'!#REF!="","",'All Form Data'!#REF!) -> #REF! | E33: =IF('All Form Data'!#REF!="","",'All Form Data'!#REF!) -> #REF! | G33: =IF('All Form Data'!#REF!="Selected","wbe©vwPZ",IF('All Form Data'!#REF!="Waiting","A‡c¶gvb","")) -> #REF!
A34: 28 | B34: =IF('All Form Data'!#REF!="","",'All Form Data'!#REF!) -> #REF! | C34: =IF('All Form Data'!#REF!="","",'All Form Data'!#REF!) -> #REF! | D34: =IF('All Form Data'!#REF!="","",'All Form Data'!#REF!) -> #REF! | E34: =IF('All Form Data'!#REF!="","",'All Form Data'!#REF!) -> #REF! | G34: =IF('All Form Data'!#REF!="Selected","wbe©vwPZ",IF('All Form Data'!#REF!="Waiting","A‡c¶gvb","")) -> #REF!
A35: 29 | B35: =IF('All Form Data'!F43="","",'All Form Data'!F43) | C35: =IF('All Form Data'!I43="","",'All Form Data'!I43) | D35: =IF('All Form Data'!K43="","",'All Form Data'!K43) | E35: =IF('All Form Data'!B43="","",'All Form Data'!B43) -> 26 | G35: =IF('All Form Data'!AN43="Selected","wbe©vwPZ",IF('All Form Data'!AN43="Waiting","A‡c¶gvb",""))
A36: 30 | B36: =IF('All Form Data'!F44="","",'All Form Data'!F44) | C36: =IF('All Form Data'!I44="","",'All Form Data'!I44) | D36: =IF('All Form Data'!K44="","",'All Form Data'!K44) | E36: =IF('All Form Data'!B44="","",'All Form Data'!B44) -> 27 | G36: =IF('All Form Data'!AN44="Selected","wbe©vwPZ",IF('All Form Data'!AN44="Waiting","A‡c¶gvb",""))
A37: wjW †UªBbvi, wUwfBwU GÛ w¯‹jm | E37: †nW Ae wUwfBwU BÝwUwUDU

Sheet Selected
A1: `¶Zv cÖwk¶Yv_©x‡`i PzovšÍ ZvwjKv wbe©vPb
A2: ='All Form Data'!C2 -> †mkbt b‡f¤^i 2024 - †deªæqvix 2025
A3: ='All Form Data'!C3 -> cÖwk¶Y cÖ`vbKvix cÖwZôvb t BD‡mc AvgevMvb wUwfBwU Bbw÷wUDU|
A4: ='All Form Data'!C4 -> †UªW t B‡jKwUªK¨vj BÝU‡jkb GÛ †gBb‡Ub¨vÝ
A5: Accelerating and Strengthening Skills for Economic Transformation (ASSET) cÖKí
A6: µwgK bs | B6: cÖwk¶Yv_©xi bvg | C6: wcZvi bvg | D6: gvZvi bvg | E6: dg© bs | F6: cÖvß b¤^i | G6: gšÍe¨
A7: 1 | B7: =IF('All Form Data'!F12="","",'All Form Data'!F12) -> মোহাম্মদ বাদশা | C7: =IF('All Form Data'!I12="","",'All Form Data'!I12) -> মোঃ হাসান | D7: =IF('All Form Data'!K12="","",'All Form Data'!K12) -> খুরশেদা বেগম | E7: =IF('All Form Data'!B12="","",'All Form Data'!B12) | G7: =IF('All Form Data'!AN12="Selected","wbe©vwPZ",IF('All Form Data'!AN12="Waiting","A‡c¶gvb",""))
A8: 2 | B8: =IF('All Form Data'!#REF!="","",'All Form Data'!#REF!) -> #REF! | C8: =IF('All Form Data'!#REF!="","",'All Form Data'!#REF!) -> #REF! | D8: =IF('All Form Data'!#REF!="","",'All Form Data'!#REF!) -> #REF! | E8: =IF('All Form Data'!#REF!="","",'All Form Data'!#REF!) -> #REF! | G8: =IF('All Form Data'!#REF!="Selected","wbe©vwPZ",IF('All Form Data'!#REF!="Waiting","A‡c¶gvb","")) -> #REF!
A9: 3 | B9: =IF('All Form Data'!F13="","",'All Form Data'!F13) -> জাহিদুল ইসলাম | C9: =IF('All Form Data'!I13="","",'All Form Data'!I13) -> মোঃ রফিক | D9: =IF('All Form Data'!K13="","",'All Form Data'!K13) -> সাজিয়া বেগম | E9: =IF('All Form Data'!B13="","",'All Form Data'!B13) | G9: =IF('All Form Data'!AN13="Selected","wbe©vwPZ",IF('All Form Data'!AN13="Waiting","A‡c¶gvb",""))
A10: 4 | B10: =IF('All Form Data'!F14="","",'All Form Data'!F14) -> সুপন সাহা | C10: =IF('All Form Data'!I14="","",'All Form Data'!I14) -> সুমন সাহা | D10: =IF('All Form Data'!K14="","",'All Form Data'!K14) -> শিল্পী সাহা | E10: =IF('All Form Data'!B14="","",'All Form Data'!B14) | G10: =IF('All Form Data'!AN14="Selected","wbe©vwPZ",IF('All Form Data'!AN14="Waiting","A‡c¶gvb",""))
A11: 5 | B11: =IF('All Form Data'!F15="","",'All Form Data'!F15) -> জাহিদুল ইসলাম ইমন | C11: =IF('All Form Data'!I15="","",'All Form Data'!I15) -> জহিরুল ইসলাম | D11: =IF('All Form Data'!K15="","",'All Form Data'!K15) -> হোসনে আরা বেগম | E11: =IF('All Form Data'!B15="","",'All Form Data'!B15) | G11: =IF('All Form Data'!AN15="Selected","wbe©vwPZ",IF('All Form Data'!AN15="Waiting","A‡c¶gvb",""))
A12: 6 | B12: =IF('All Form Data'!F16="","",'All Form Data'!F16) -> আরমান হোসেন | C12: =IF('All Form Data'!I16="","",'All Form Data'!I16) -> মোঃবাহাদুর | D12: =IF('All Form Data'!K16="","",'All Form Data'!K16) -> রিনা আক্তার | E12: =IF('All Form Data'!B16="","",'All Form Data'!B16) | G12: =IF('All Form Data'!AN16="Selected","wbe©vwPZ",IF('All Form Data'!AN16="Waiting","A‡c¶gvb",""))
A13: 7 | B13: =IF('All Form Data'!F17="","",'All Form Data'!F17) -> রবিউল ছানি | C13: =IF('All Form Data'!I17="","",'All Form Data'!I17) -> মোঃআবু তাহের | D13: =IF('All Form Data'!K17="","",'All Form Data'!K17) -> আকলিমা বেগম | E13: =IF('All Form Data'!B17="","",'All Form Data'!B17) | G13: =IF('All Form Data'!AN17="Selected","wbe©vwPZ",IF('All Form Data'!AN17="Waiting","A‡c¶gvb",""))
A14: 8 | B14: =IF('All Form Data'!F18="","",'All Form Data'!F18) -> আকিল রায়হান | C14: =IF('All Form Data'!I18="","",'All Form Data'!I18) -> মোঃআবু তাহের | D14: =IF('All Form Data'!K18="","",'All Form Data'!K18) -> শামিমা ফেরদৌস | E14: =IF('All Form Data'!B18="","",'All Form Data'!B18) | G14: =IF('All Form Data'!AN18="Selected","wbe©vwPZ",IF('All Form Data'!AN18="Waiting","A‡c¶gvb",""))
A15: 9 | B15: =IF('All Form Data'!F19="","",'All Form Data'!F19) -> সাদমান শাহরিয়ার মাহিন | C15: =IF('All Form Data'!I19="","",'All Form Data'!I19) -> মোঃমুসলিম উদ্দিন | D15: =IF('All Form Data'!K19="","",'All Form Data'!K19) -> পারভিন আক্তার | E15: =IF('All Form Data'!B19="","",'All Form Data'!B19) | G15: =IF('All Form Data'!AN19="Selected","wbe©vwPZ",IF('All Form Data'!AN19="Waiting","A‡c¶gvb",""))
A16: 10 | B16: =IF('All Form Data'!#REF!="","",'All Form Data'!#REF!) -> #REF! | C16: =IF('All Form Data'!#REF!="","",'All Form Data'!#REF!) -> #REF! | D16: =IF('All Form Data'!#REF!="","",'All Form Data'!#REF!) -> #REF! | E16: =IF('All Form Data'!#REF!="","",'All Form Data'!#REF!) -> #REF! | G16: =IF('All Form Data'!#REF!="Selected","wbe©vwPZ",IF('All Form Data'!#REF!="Waiting","A‡c¶gvb","")) -> #REF!
A17: 11 | B17: =IF('All Form Data'!#REF!="","",'All Form Data'!#REF!) -> #REF! | C17: =IF('All Form Data'!#REF!="","",'All Form Data'!#REF!) -> #REF! | D17: =IF('All Form Data'!#REF!="","",'All Form Data'!#REF!) -> #REF! | E17: =IF('All Form Data'!#REF!="","",'All Form Data'!#REF!) -> #REF! | G17: =IF('All Form Data'!#REF!="Selected","wbe©vwPZ",IF('All Form Data'!#REF!="Waiting","A‡c¶gvb","")) -> #REF!
A18: 12 | B18: =IF('All Form Data'!F20="","",'All Form Data'!F20) -> রিফাত উদ্দীন | C18: =IF('All Form Data'!I20="","",'All Form Data'!I20) -> শামসু উদ্দীন | D18: =IF('All Form Data'!K20="","",'All Form Data'!K20) -> রিনা আক্তার | E18: =IF('All Form Data'!B20="","",'All Form Data'!B20) | G18: =IF('All Form Data'!AN20="Selected","wbe©vwPZ",IF('All Form Data'!AN20="Waiting","A‡c¶gvb",""))
A19: 13 | B19: =IF('All Form Data'!F21="","",'All Form Data'!F21) -> বিজয় মল্লিক | C19: =IF('All Form Data'!I21="","",'All Form Data'!I21) -> লিটন মল্লিক | D19: =IF('All Form Data'!K21="","",'All Form Data'!K21) -> শিখা মল্লিক | E19: =IF('All Form Data'!B21="","",'All Form Data'!B21) | G19: =IF('All Form Data'!AN21="Selected","wbe©vwPZ",IF('All Form Data'!AN21="Waiting","A‡c¶gvb",""))
A20: 14 | B20: =IF('All Form Data'!F22="","",'All Form Data'!F22) -> মোহাম্মদ রানা হোসেন | C20: =IF('All Form Data'!I22="","",'All Form Data'!I22) -> আবুল কাশেম | D20: =IF('All Form Data'!K22="","",'All Form Data'!K22) -> রহিমা বেগম | E20: =IF('All Form Data'!B22="","",'All Form Data'!B22) | G20: =IF('All Form Data'!AN22="Selected","wbe©vwPZ",IF('All Form Data'!AN22="Waiting","A‡c¶gvb",""))
A21: 15 | B21: =IF('All Form Data'!F23="","",'All Form Data'!F23) -> নেয়ামত আলী | C21: =IF('All Form Data'!I23="","",'All Form Data'!I23) -> মোঃ আলমগীর | D21: =IF('All Form Data'!K23="","",'All Form Data'!K23) -> জান্নাতুল নাইমা | E21: =IF('All Form Data'!B23="","",'All Form Data'!B23) | G21: =IF('All Form Data'!AN23="Selected","wbe©vwPZ",IF('All Form Data'!AN23="Waiting","A‡c¶gvb",""))
A22: 16 | B22: =IF('All Form Data'!F24="","",'All Form Data'!F24) -> মোঃ শাহেদুর রহমান তালুকদার | C22: =IF('All Form Data'!I24="","",'All Form Data'!I24) -> শফিউল আলম তালুকদার | D22: =IF('All Form Data'!K24="","",'All Form Data'!K24) -> শেলিনা আকতার | E22: =IF('All Form Data'!B24="","",'All Form Data'!B24) | G22: =IF('All Form Data'!AN24="Selected","wbe©vwPZ",IF('All Form Data'!AN24="Waiting","A‡c¶gvb",""))
A23: 17 | B23: =IF('All Form Data'!F25="","",'All Form Data'!F25) -> রাহাত হোসেন শাহিন | C23: =IF('All Form Data'!I25="","",'All Form Data'!I25) -> শামসুল আলম | D23: =IF('All Form Data'!K25="","",'All Form Data'!K25) -> বিবি আয়শা | E23: =IF('All Form Data'!B25="","",'All Form Data'!B25) | G23: =IF('All Form Data'!AN25="Selected","wbe©vwPZ",IF('All Form Data'!AN25="Waiting","A‡c¶gvb",""))
A24: 18 | B24: =IF('All Form Data'!F26="","",'All Form Data'!F26) -> নবর্ষি দেওয়ান | C24: =IF('All Form Data'!I26="","",'All Form Data'!I26) -> গৌরী শেখর দেওয়ান | D24: =IF('All Form Data'!K26="","",'All Form Data'!K26) -> কাবেরী চাকমা | E24: =IF('All Form Data'!B26="","",'All Form Data'!B26) | G24: =IF('All Form Data'!AN26="Selected","wbe©vwPZ",IF('All Form Data'!AN26="Waiting","A‡c¶gvb",""))
A25: 19 | B25: =IF('All Form Data'!F27="","",'All Form Data'!F27) -> মোঃ বেল্লাল খান | C25: =IF('All Form Data'!I27="","",'All Form Data'!I27) -> আব্দূল লতিফ খান | D25: =IF('All Form Data'!K27="","",'All Form Data'!K27) -> বিলকিস বেগম | E25: =IF('All Form Data'!B27="","",'All Form Data'!B27) | G25: =IF('All Form Data'!AN27="Selected","wbe©vwPZ",IF('All Form Data'!AN27="Waiting","A‡c¶gvb",""))
A26: 20 | B26: =IF('All Form Data'!F28="","",'All Form Data'!F28) -> অর্ক নাথ অংকন | C26: =IF('All Form Data'!I28="","",'All Form Data'!I28) -> গৌরাঙ্গ নাথ | D26: =IF('All Form Data'!K28="","",'All Form Data'!K28) -> বাপ্পি দেবী | E26: =IF('All Form Data'!B28="","",'All Form Data'!B28) | G26: =IF('All Form Data'!AN28="Selected","wbe©vwPZ",IF('All Form Data'!AN28="Waiting","A‡c¶gvb",""))
A27: 21 | B27: =IF('All Form Data'!F29="","",'All Form Data'!F29) -> মোঃ আবরার ওয়াসিফ | C27: =IF('All Form Data'!I29="","",'All Form Data'!I29) -> মোঃ আলা উদ্দীন | D27: =IF('All Form Data'!K29="","",'All Form Data'!K29) -> লুৎফুন নাহার | E27: =IF('All Form Data'!B29="","",'All Form Data'!B29) | G27: =IF('All Form Data'!AN29="Selected","wbe©vwPZ",IF('All Form Data'!AN29="Waiting","A‡c¶gvb",""))
A28: 22 | B28: =IF('All Form Data'!F30="","",'All Form Data'!F30) -> মোহাম্মদ আব্দুল আল ফাহাদ | C28: =IF('All Form Data'!I30="","",'All Form Data'!I30) -> মোহাম্মদ আব্দুল আলিম | D28: =IF('All Form Data'!K30="","",'All Form Data'!K30) -> রিজিয়া বেগম | E28: =IF('All Form Data'!B30="","",'All Form Data'!B30) | G28: =IF('All Form Data'!AN30="Selected","wbe©vwPZ",IF('All Form Data'!AN30="Waiting","A‡c¶gvb",""))
A29: 23 | B29: =IF('All Form Data'!F31="","",'All Form Data'!F31) -> হাসনাত ফাহিম | C29: =IF('All Form Data'!I31="","",'All Form Data'!I31) -> মোঃইলিয়াছ | D29: =IF('All Form Data'!K31="","",'All Form Data'!K31) -> ফাতেমা বেগম | E29: =IF('All Form Data'!B31="","",'All Form Data'!B31) | G29: =IF('All Form Data'!AN31="Selected","wbe©vwPZ",IF('All Form Data'!AN31="Waiting","A‡c¶gvb",""))
